BEGIN:VCALENDAR
VERSION:2.0
PRODID:-//Pôle SAFE - ECPv6.15.20//NONSGML v1.0//EN
CALSCALE:GREGORIAN
METHOD:PUBLISH
X-WR-CALNAME:Pôle SAFE
X-ORIGINAL-URL:https://www.safecluster.com
X-WR-CALDESC:Évènements pour Pôle SAFE
REFRESH-INTERVAL;VALUE=DURATION:PT1H
X-Robots-Tag:noindex
X-PUBLISHED-TTL:PT1H
BEGIN:VTIMEZONE
TZID:Europe/Paris
BEGIN:DAYLIGHT
TZOFFSETFROM:+0100
TZOFFSETTO:+0200
TZNAME:CEST
DTSTART:20150329T010000
END:DAYLIGHT
BEGIN:STANDARD
TZOFFSETFROM:+0200
TZOFFSETTO:+0100
TZNAME:CET
DTSTART:20151025T010000
END:STANDARD
BEGIN:DAYLIGHT
TZOFFSETFROM:+0100
TZOFFSETTO:+0200
TZNAME:CEST
DTSTART:20160327T010000
END:DAYLIGHT
BEGIN:STANDARD
TZOFFSETFROM:+0200
TZOFFSETTO:+0100
TZNAME:CET
DTSTART:20161030T010000
END:STANDARD
BEGIN:DAYLIGHT
TZOFFSETFROM:+0100
TZOFFSETTO:+0200
TZNAME:CEST
DTSTART:20170326T010000
END:DAYLIGHT
BEGIN:STANDARD
TZOFFSETFROM:+0200
TZOFFSETTO:+0100
TZNAME:CET
DTSTART:20171029T010000
END:STANDARD
END:VTIMEZONE
BEGIN:VEVENT
DTSTART;TZID=Europe/Paris:20160119T100000
DTEND;TZID=Europe/Paris:20160119T160000
DTSTAMP:20260423T083406
CREATED:20160111T130316Z
LAST-MODIFIED:20160111T130316Z
UID:43929-1453197600-1453219200@www.safecluster.com
SUMMARY:Journée dédiée à l’innovation pour des applications de détection de substance chimiques ou explosives
DESCRIPTION:Le Pôle SAFE organise\, en coopération avec le SGDSN\,\nune journée dédiée à l’innovation pour des applications de détection de substance chimiques ou explosives\nMardi 19 janvier de 10h à 16h au bâtiment LE FORUM au Technopole de l’Arbois à Aix en Provence.\nVous aurez l’opportunité durant cette journée de prendre connaissance de l’expression des besoins utilisateurs pour la protection des sites sensibles\, l’équipements des forces de sécurité ou de défense.\nUn moment de présentation de vos solutions innovantes et sujets prospectifs est également prévu pour vous permettre d’identifier parmi vos technologies celles qui sont le plus en correspondance avec ces attentes.\nProgramme :\n9h30-10h :  Accueil\n10h-11h :  Présentation des attentes des utilisateurs et de l’organisation des acteurs de la sécurité dans le domaine NRBC\n11h-12h30 :  Présentation des solutions des entreprises\n12h30-13h30 :  Déjeuner\n13h30-15h30 :  Présentation des solutions des entreprises\n15h30-16h00 :  Synthèse et conclusions\nParticipants institutionnels :\nSecrétariat Général de la Défense et de la Sécurité Nationale\, Mme ARNOULT\, experte NRBC-E\nService Technique de l’Aviation Civile\nDGA Techniques Terrestres\nDGA Maitrise NRBC\nLaboratoire Central de la Préfecture de Police de Paris\nInscriptions et renseignements : Lucile.lallie@pole-risques.com et jean-michel.dumaz@pole-risques.com\nParticipation aux frais : 50€HT\nLien Google Maps\, cliquez ici
URL:https://www.safecluster.com/evenement/journee-dediee-a-linnovation-pour-des-applications-de-detection-de-substance-chimiques-ou-explosives-2/
LOCATION:Bâtiment du FORUM\, Domaine du petit arbois\, Avenu Louis Philibert\, domaine du petit arbois avenue louis philibert\, Aix-en-Provence\, France
ORGANIZER;CN="Cluster SAFE":MAILTO:contact@safecluster.com
END:VEVENT
BEGIN:VEVENT
DTSTART;VALUE=DATE:20160126
DTEND;VALUE=DATE:20160127
DTSTAMP:20260423T083406
CREATED:20160111T133633Z
LAST-MODIFIED:20160111T133633Z
UID:43930-1453766400-1453852799@www.safecluster.com
SUMMARY:Journée RT du CNES
DESCRIPTION:JOURNÉE R&T DU CNES\nle mardi 26 Janvier 2016 – Centre des congrès Pierre Baudis\, Toulouse\nhttp://cnes.cborg.fr/innovation/2016/fr/\nLe CNES organise sa journée de présentation des activités de Recherche et Technologie des Systèmes Spatiaux le mardi 26 Janvier 2016 au Centre de Congrès Pierre Baudis à Toulouse.\nLe programme provisoire\, basé sur une présentation du plan R&T 2016 est disponible sur le site de l’évènement : http://cnes.cborg.fr/innovation/2016/fr/\nSi vous souhaitez y participer et que vous êtes adhérent du pôle PEGASE ou du pôle RISQUES\, nous vous invitons à nous le faire savoir par le biais de ce formulaire :\nhttp://goo.gl/forms/v9g8WltC6a\nL’inscription est soumise à l’obtention d’un code personnel que le CNES vous fera parvenir sur recommandation du Pôle PEGASE.\nAttention ! ce formulaire permet uniquement d‘obtenir le code d’invitation.\nUne fois le code personnel transmis\, une inscription auprès du CNES sera nécessaire : http://cnes.cborg.fr/innovation/2016/fr/inscriptions/
URL:https://www.safecluster.com/evenement/journee-rt-du-cnes/
LOCATION:Centre de Congrès Pierre Baudis\,  11 esplanade Complans Caffarelli\, Toulouse\, France
END:VEVENT
BEGIN:VEVENT
DTSTART;TZID=Europe/Paris:20160126T093000
DTEND;TZID=Europe/Paris:20160126T130000
DTSTAMP:20260423T083406
CREATED:20160121T224904Z
LAST-MODIFIED:20160121T224904Z
UID:43934-1453800600-1453813200@www.safecluster.com
SUMMARY:Matinée d’information sur les programmes d’investissements d’avenir
DESCRIPTION:L’équipe du Pôle Safe vous propose de participer à une matinée d’information autour des appels 2016 du Programme d’Investissement d’Avenir (PIA)\, le mardi 26 janvier 2016\, à partir de 9h30\, à Aix en Provence.\nL’objectif de cette matinée est de présenter les PIA et notamment les appels ouverts en 2016 ainsi que des outils d’accompagnements des PME ou de service au PME financés par le PIA.\nPlus d’infos ici\nContact « Innovation » : anna.philippe@safecluster.com\nLien Google Maps : https://goo.gl/maps/zvCrEN8duKv
URL:https://www.safecluster.com/evenement/matinee-dinformation-sur-les-programmes-dinvestissements-davenir/
LOCATION:Bâtiment du FORUM\, Domaine du petit arbois\, Avenu Louis Philibert\, domaine du petit arbois avenue louis philibert\, Aix-en-Provence\, France
END:VEVENT
BEGIN:VEVENT
DTSTART;TZID=Europe/Paris:20160128T140000
DTEND;TZID=Europe/Paris:20160128T170000
DTSTAMP:20260423T083406
CREATED:20160121T231417Z
LAST-MODIFIED:20160121T231417Z
UID:43938-1453989600-1454000400@www.safecluster.com
SUMMARY:Rencontre client/fournisseur « Cap Indus »
DESCRIPTION:Dans le cadre de notre cycle de rencontres Clients/Fournisseurs Cap Indus nous vous proposons\, en collaboration avec le nouveau SAFE Cluster (fusion des pôles Pégase et Risques)\, de rencontrer le CNES\, le jeudi 28 janvier de 14h à 17h à Cannes (aéroport Cannes Mandelieu). \nA cette occasion\, le CNES vous présentera ses programmes d’achats « sol » pour la plateforme de lancement (ELA 4) du programme ARIANE 6. les procédures de référencement et les échéances vous seront expliquées. Les premiers appels d’offres seront lancés à partir de Février 2016. \nProgramme prévisionnel : \n\n14h00 Accueil\n14h30 Introduction\n14h45 Présentation de la politique d’achat du CNES\n16h15 Questions / Réponses\n16h45 Pot de clôture / Réseautage\n\nPlus d’infos\nContact : loic.chanvillard@safecluster.com
URL:https://www.safecluster.com/evenement/rencontre-clientfournisseur-cap-indus/
LOCATION:Aéroport Cannes Mandelieu\, 245 Avenue Francis Tonner\, Cannes\, 06150 
END:VEVENT
END:VCALENDAR