BEGIN:VCALENDAR
VERSION:2.0
PRODID:-//Pôle SAFE - ECPv6.15.20//NONSGML v1.0//EN
CALSCALE:GREGORIAN
METHOD:PUBLISH
X-WR-CALNAME:Pôle SAFE
X-ORIGINAL-URL:https://www.safecluster.com
X-WR-CALDESC:Évènements pour Pôle SAFE
REFRESH-INTERVAL;VALUE=DURATION:PT1H
X-Robots-Tag:noindex
X-PUBLISHED-TTL:PT1H
BEGIN:VTIMEZONE
TZID:Europe/Paris
BEGIN:DAYLIGHT
TZOFFSETFROM:+0100
TZOFFSETTO:+0200
TZNAME:CEST
DTSTART:20150329T010000
END:DAYLIGHT
BEGIN:STANDARD
TZOFFSETFROM:+0200
TZOFFSETTO:+0100
TZNAME:CET
DTSTART:20151025T010000
END:STANDARD
BEGIN:DAYLIGHT
TZOFFSETFROM:+0100
TZOFFSETTO:+0200
TZNAME:CEST
DTSTART:20160327T010000
END:DAYLIGHT
BEGIN:STANDARD
TZOFFSETFROM:+0200
TZOFFSETTO:+0100
TZNAME:CET
DTSTART:20161030T010000
END:STANDARD
BEGIN:DAYLIGHT
TZOFFSETFROM:+0100
TZOFFSETTO:+0200
TZNAME:CEST
DTSTART:20170326T010000
END:DAYLIGHT
BEGIN:STANDARD
TZOFFSETFROM:+0200
TZOFFSETTO:+0100
TZNAME:CET
DTSTART:20171029T010000
END:STANDARD
END:VTIMEZONE
BEGIN:VEVENT
DTSTART;TZID=Europe/Paris:20160301T114500
DTEND;TZID=Europe/Paris:20160301T140000
DTSTAMP:20260423T063119
CREATED:20160215T102311Z
LAST-MODIFIED:20160215T102311Z
UID:43952-1456832700-1456840800@www.safecluster.com
SUMMARY:12/14 de l'Arbois : présentation de SAFE Cluster
DESCRIPTION:Le technopôle de l’environnement Arbois-Méditerranée dédie la prochaine édition des 12/14 à la présentation de SAFE Cluster.\nLeader européen de la Sécurité Globale\, « Safe Cluster » est issu de la fusion des Pôles de compétitivité Risques et Pégase.  Son ambition : imaginer et construire collectivement des solutions innovantes pour la sécurité des populations et de l’environnement.\nProgramme\nVous inscrire en cliquant ici\n 
URL:https://www.safecluster.com/evenement/1214-de-larbois-presentation-de-safe-cluster/
LOCATION:Bâtiment du FORUM\, Domaine du petit arbois\, Avenu Louis Philibert\, domaine du petit arbois avenue louis philibert\, Aix-en-Provence\, France
ATTACH;FMTTYPE=:
END:VEVENT
BEGIN:VEVENT
DTSTART;TZID=Europe/Paris:20160304T090000
DTEND;TZID=Europe/Paris:20160304T161500
DTSTAMP:20260423T063119
CREATED:20160202T162751Z
LAST-MODIFIED:20160202T162751Z
UID:43943-1457082000-1457108100@www.safecluster.com
SUMMARY:Journée d'utilisation des données géo-informations territoriales
DESCRIPTION:Utilisation des données géo-informations environnementales et territoriales\nConjuguer la connaissance des milieux\, l’agilité du numérique et les données satellitaires pour la création de nouveaux services et outils d’aides à la décision.\nLes enjeux écologiques et climatiques occupent une place de plus en plus importante auprès des acteurs publics et économiques. Les acteurs français de l’environnement peuvent apporter leur contribution pour relever ce défi sous réserve de disposer de données environnementales globales et des moyens de les exploiter.\nDepuis 2015\, un accès facilité aux données d’observation de la terre se met en œuvre au bénéfice d’un large public tant en France (avec les plates-formes de différents opérateurs publics) que sous l’égide de l’Union européenne (programme Copernicus).\nL’exploitation des données in situ ou spatiales liées à l’observation de l’environnement offre une opportunité de nouvelles applications en terme de prévisions et d’aide à la décision et présente ainsi un potentiel d’innovation et de création d’activités.\nCette journée se tiendra le vendredi 4 mars 2016 de 9h00 à 16h15\, technopôle de l’environnement – Arbois – méditerranée (Aix en Provence).\nL’objectif de cette journée est de promouvoir l’utilisation de ces données\, leurs conditions d’accès\, les outils et les réseaux d’accompagnement\, en mettant en avant les retours d’expériences. Cette journée permettra de livrer les premiers enseignements de l’étude réalisée auprès de 180 entreprises par les pôles de compétitivité Ecotech.\nCette journée est destinée aux entreprises (PME\, ETI…) & centres de recherche.\nCet atelier implique pour sa conception une collaboration étroite entre le Commissariat général au développement durable\, le Centre national d’études spatiales (dans le cadre de leurs accords de collaboration)\, le réseau national des pôles de compétitivité Ecotech (Mer Méditerranée\, Eau\, Safe\, Optitec\, Hydreos\, Avenia) et les pôles Aérospace Valley ainsi que Cap Digital.\nPour en savoir plus : \n\nSe connecter à la plateforme d’inscription\nConsulter le pré-programme de la journée\n\nContacts : guillaume.riou@safecluster.com / loic.chanvillard@safecluster.com\nPour mieux se rendre compte de ce que représente la donnée d’observation « Copernicus »\, cliquez ici
URL:https://www.safecluster.com/evenement/journee-copernicus/
LOCATION:Bâtiment du FORUM\, Domaine du petit arbois\, Avenu Louis Philibert\, domaine du petit arbois avenue louis philibert\, Aix-en-Provence\, France
CATEGORIES:Filière
ATTACH;FMTTYPE=:
ORGANIZER;CN="SAFE CLUSTER":MAILTO:infos@safecluster.com
END:VEVENT
BEGIN:VEVENT
DTSTART;TZID=Europe/Paris:20160309T093000
DTEND;TZID=Europe/Paris:20160309T170000
DTSTAMP:20260423T063119
CREATED:20160218T103426Z
LAST-MODIFIED:20160218T103426Z
UID:43954-1457515800-1457542800@www.safecluster.com
SUMMARY:4ème édition du Forum Emploi à Cannes
DESCRIPTION:Le Pôle emploi Cannes-Mandelieu\, SAFE Cluster\, le PRIDES PRIMI\, la Ville de Cannes et le Lycée Hutinel s’associent \, avec l’appui de Thales Alenia Space\, pour vous proposer pendant la Quinzaine de l’emploi sur Cannes la 4e édition du Forum de l’emploi des entreprises innovantes – Ingénierie\, spatial\, aéronautique et imagerie numérique.\nCette manifestation\, unique dans le département\, favorise la rencontre entre l’offre et la demande d’emplois dans le secteur de l’innovation.\nNous mettons à votre disposition un espace dédié gratuit\, une connexion internet et un stand pour proposer vos offres d’emploi alors ne manquez pas cette opportunité !\nSi vous souhaitez participer n’hésitez pas à contacter votre correspondante territoriale 06 : Juliette Mallez (juliette.mallez@safecluster.com)
URL:https://www.safecluster.com/evenement/4eme-edition-du-forum-emploi/
LOCATION:Lycée Hutinel\, 21 rue de cannes\, cannes\, 06150
CATEGORIES:Salon
ATTACH;FMTTYPE=:
END:VEVENT
BEGIN:VEVENT
DTSTART;VALUE=DATE:20160310
DTEND;VALUE=DATE:20160311
DTSTAMP:20260423T063119
CREATED:20160111T141947Z
LAST-MODIFIED:20160111T141947Z
UID:43931-1457568000-1457654399@www.safecluster.com
SUMMARY:Sécurité et sûreté des industries et milieux à risques
DESCRIPTION:SAFE Cluster et Optitec organisent une journée de veille sur la thématique « Sécurité des industries et des milieux à risques » le 10 mars sur le Technopôle Pégase à Avignon.\nAnimée par la journaliste de Green news techno\, la matinée vous permettra de revenir sur les derniers mois de veille et d’échanger et débattre aux côtés d’experts venus témoigner : CS\, AZUR DRONES et NOVADEM\nL’après midi sera consacrée aux démonstrations drones.\nTéléchargez ici le programme et l’invitation\nInscription à la journée :\nAdhérent : 180 € TTC\nNon adhérent : 240 € TTC\nFonctionnaire : 36 €TTC\nSession Posters – Démonstration – Exposition Produits :\n– Poster Scientifique et technique : Gratuit\n– journée + stand showroom toute la journée + créneau de 30 min pour démo :\nAdhérent : 420 € TTC\nNon adhérent : 600 € TTC\nPour vous inscrire\, cliquez ici\n*Inscription confirmée à réception du règlement\nContact : Magali VIVIANI – 06 17 29 82 99 – magali.viviani@safecluster.com
URL:https://www.safecluster.com/evenement/fil-rouge-securite-des-industries-et-milieux-a-risques/
LOCATION:Technopôle Pégase\, Aéroport d'Avignon\, 59 impasse Louis Blériot
ATTACH;FMTTYPE=:
END:VEVENT
BEGIN:VEVENT
DTSTART;TZID=Europe/Paris:20160311T083000
DTEND;TZID=Europe/Paris:20160311T120000
DTSTAMP:20260423T063119
CREATED:20160205T161613Z
LAST-MODIFIED:20160205T161613Z
UID:43946-1457685000-1457697600@www.safecluster.com
SUMMARY:Réunion d'information SME Instrument et Marketing Stratégique Innovation
DESCRIPTION:Vous êtes une entreprise avec un fort potentiel d’innovation et avec l’ambition de conquérir des marchés internationaux ?\nSAFE Cluster\, aux côtés de 7 autres pôles de compétitivité (Qualiméditerranée\, Mer Méditerranée\, Eurobiomed\, Trimatec\, Derbi\, Eau\, Optitec)\, vous invite à une réunion d’information organisée par Transfert LR sur le sujet « SME instrument* et marketing stratégique innovation » le 11 mars 2016 à Montpellier.\nConsultez le programme de la matinée\nContact et + d’infos : avila@transferts-lr.org\n*Développé par la Commission Européenne\, l’outil de financement SME Instument permet d’investir environ 40M€ par an dans les projets d’innovation proches du marché des PME françaises.
URL:https://www.safecluster.com/evenement/reunion-dinformation-sme-instrument-et-marketing-strategique-innovation/
LOCATION:Business & Innovation Centre (BIC) Montpellier Agglomération\, Rond Point Benjamin Franklin \,  Montpellier\, 34960
ATTACH;FMTTYPE=:
END:VEVENT
BEGIN:VEVENT
DTSTART;TZID=Europe/Paris:20160314T140000
DTEND;TZID=Europe/Paris:20160314T170000
DTSTAMP:20260423T063119
CREATED:20160219T141100Z
LAST-MODIFIED:20160219T141100Z
UID:43957-1457964000-1457974800@www.safecluster.com
SUMMARY:Signature de la convention Pôle emploi & présentation de l'accompagnement emploi-formation de SAFE
DESCRIPTION:Venez débattre et échanger autour des problématiques d’emploi.\nNous vous convions à un après-midi d’information le lundi 14 mars 2016 consacré à la présentation du volet « emploi & compétences » mis en place au Pôle.\nA cette occasion\, le Pôle relancera son partenariat avec Pôle Emploi et signera la convention triennale qui allie les compétences complémentaires de SAFE Cluster et de Pôle emploi\, en présence de la Direction Régionale de Pôle emploi\, de la direction de SAFE Cluster et de vous\, entreprises adhérentes.\nProgramme\n14h :         Accueil café\n14h30 :     Présentation de l’offre d’accompagnement RH de SAFE Cluster\nTémoignage d’entreprises\n15h30 :     Signature de la convention avec le Pôle emploi\n– La dynamique emploi chez les adhérents de SAFE Cluster\n– Les actions concrètes en 2016\n16h15 :      Echanges avec la salle \nInscrivez-vous vite en cliquant sur le lien                          Je serai présent le 14 mars 2016                     Je ne serai pas présent le 14 mars 2016 \nContact et + d’infos : Elvira Caspers – elvira.caspers@safecluster.com\n 
URL:https://www.safecluster.com/evenement/signature-de-la-convention-pole-emploi-presentation-de-laccompagnement-emploi-formation/
LOCATION:SAFE Cluster\, Pôle de compétitivité Safe Cluster - Avenue Louis Philibert\, Aix-en-Provence\, 13290\, France
CATEGORIES:Filière
ATTACH;FMTTYPE=:
ORGANIZER;CN="SAFE CLUSTER":MAILTO:infos@safecluster.com
END:VEVENT
BEGIN:VEVENT
DTSTART;TZID=Europe/Paris:20160317T090000
DTEND;TZID=Europe/Paris:20160317T170000
DTSTAMP:20260423T063120
CREATED:20160315T090612Z
LAST-MODIFIED:20160315T090612Z
UID:43965-1458205200-1458234000@www.safecluster.com
SUMMARY:Journée d'information 3ème AAP CleanSky 2
DESCRIPTION:L’initiative technologique conjointe CLEAN SKY 2 organise une journée d’information\nsur le troisième appel à propositions le 17 mars 2016 (10h30 – 18h00 ) à Bruxelles.\nPour s’inscrire\, cliquez ici\nLe troisième appel à propositions Clean Sky 2 « H2020-CS2-CFP03-2016-01 » a été publié le 10 mars 2016 par la Commission européenne\, pour un budget de  57\,160\,000 euros.\nPour consulter le programme\, cliquez ici\nLa date de clôture de cet appel en une étape est fixée au 02 juin 2016.\nCet appel est composé de 63 topics répartis comme ci-suit : Portail du participant\nDes informations complémentaires sont également disponibles sur le portail H2020 français.
URL:https://www.safecluster.com/evenement/journee-dinformation-3eme-aap-cleansky-2/
LOCATION:Clean Sky Joint Undertaking\, Floor 1 Avenue de la Toison d'Or 56-60\, Bruxelles\, Belgique
CATEGORIES:Innovation & Open Innovation
ATTACH;FMTTYPE=:
END:VEVENT
BEGIN:VEVENT
DTSTART;VALUE=DATE:20160322
DTEND;VALUE=DATE:20160325
DTSTAMP:20260423T063120
CREATED:20160309T143918Z
LAST-MODIFIED:20160309T143918Z
UID:43962-1458604800-1458863999@www.safecluster.com
SUMMARY:Security Meetings
DESCRIPTION:SAFE Cluster est partenaire du nouvel évènement de la sécurité Security Meetings qui aura lieu les 22\, 23 et 24 mars 2016 au Palais des Festivals et des Congrès de Cannes. Dans ce cadre prestigieux\, un programme de conférences de haut niveau sera proposé et animé par Patrick Haas\, du journal En toute Sécurité.\nPlacé sous le patronage du Conseil National des Activités Privées de Sécurité (CNAPS) et le Ministère de l’Intérieur\, l’événement proposera lors de sa conférence inaugurale de réunir les différentes institutions pour aborder les rôles possibles de la sécurité privée à l’avenir dans un contexte de menaces terroristes et la coopération entre les forces de l’ordre public et la sécurité privée plus que jamais à l’ordre du jour\, comme le montrera probablement un événement mondial comme l’Euro 2016.\nElle accueillera notamment Monsieur le Préfet Gardère\, Directeur du CNAPS\, ainsi que Monsieur le Préfet Coudert\, délégué ministériel aux coopérations de sécurité\, et l’Inspecteur Général de la Police Nationale Monsieur Presson\, en charge de la sécurité de l’EURO 2016\, tous deux du Ministère de l’intérieur.\nSeront présents également Monsieur Tarlet\, Président de l’USP\, Monsieur Tripet\, Président du SNES\, Monsieur Juillet\, Président du CDSE.\nDeux autres conférences aborderont l’intervention des secours en situation d’urgence et les mutations possibles de la sécurité privée avec le numérique avec notamment Monsieur Cousin\, Président de la FFMI\, Monsieur Jouve\, Président du GMPSE Installation. \n« Security Meetings »\, un levier efficace pour le développement de votre activité avec :\n– Un évènement – salon meeting haut de gamme\n– Des rendez-vous d’affaires pré-organisés en amont de l’événement\, ciblés et ultra-qualifiés entre Top Décideurs et Exposants\n– Des déjeuners d’affaires pré-organisés en amont de l’événement entre Top Décideurs et Exposants.\n– Des conférences plénières de haut niveau\n– 1 cocktail de bienvenue entre exposants et Top Décideurs\n– 1 soirée de gala exclusivement entre exposants et Top Décideurs\n– 2 jours de benchmarking\, matchmaking\, networking \nPour en savoir plus\, visitez le site dédié
URL:https://www.safecluster.com/evenement/security-meetings/
LOCATION:Palais des Festivals et des Congrès de Cannes
CATEGORIES:Salon
ATTACH;FMTTYPE=:
END:VEVENT
BEGIN:VEVENT
DTSTART;TZID=Europe/Paris:20160322T090000
DTEND;TZID=Europe/Paris:20160323T180000
DTSTAMP:20260423T063120
CREATED:20160205T163801Z
LAST-MODIFIED:20160205T163801Z
UID:43948-1458637200-1458756000@www.safecluster.com
SUMMARY:Assises nationales des risques naturels 2016
DESCRIPTION:SAFE Cluster est partenaire de la 3ème édition des Assises nationales des risques naturels\, organisée par le ministère de l’Ecologie\, du Développement durable et de l’Energie\, Direction Générale de la Prévention des Risques\, aura lieu les 22 et 23 mars 2016 au Palais du Pharo à Marseille.\nTéléchargez l’invitation aux Assises.\n6 adhérents du Pôle exposeront à cette occasion sur le salon !\n–Paratronic\n–Weather measures\n–Tenevia\n–Predict Services\n–Systel\n–GTS\nVenez également nous retrouver à l’occasion d’un atelier participatif « Prévisions et alerte »\, le mardi 22 mars ! Consultez le programme ici\nPlus d’infos ici\nContact SAFE : guillaume.riou@safecluster.com
URL:https://www.safecluster.com/evenement/assises-nationales-des-risques-naturels-2016/
LOCATION:palais des congrès du pharo\,  58 Boulevard Charles Livon\, Marseille\, 13007
CATEGORIES:Salon
ATTACH;FMTTYPE=:
END:VEVENT
BEGIN:VEVENT
DTSTART;TZID=Europe/Paris:20160323T140000
DTEND;TZID=Europe/Paris:20160323T180000
DTSTAMP:20260423T063120
CREATED:20160321T135137Z
LAST-MODIFIED:20160321T135137Z
UID:43968-1458741600-1458756000@www.safecluster.com
SUMMARY:Quel avenir pour les véhicules autonomes ?
DESCRIPTION:L’école Centrale de Marseille organise une après-midi thématique sur « Quel avenir pour les véhicules autonomes ? » le 23 mars 2016.\nLes véhicules évoluent en interprétant leur environnement pour\, à terme\, permettre des déplacements sans que l’être humain n’intervienne en temps réel. Ces évolutions concernent les industriels de l’automobile ainsi que ceux de l’aéronautique.\nL’objectif de la demi-journée est d’analyser les mutations industrielles actuelles sur ce sujet ainsi que les évolutions attendues. Des industriels de l’automobile et des drones viendront présenter leurs analyses et débattre avec les participants.\nUne attention particulière sera portée aux rôles que peuvent avoir les ingénieurs généralistes de Centrale Marseille pour ces projets.\nCliquez ici pour en savoir plus
URL:https://www.safecluster.com/evenement/quel-avenir-pour-les-vehicules-autonomes/
LOCATION:Grand Amphi – Centrale Marseille\, 38 rue Frédéric Joliot-Curie\, Marseille\, 13013
CATEGORIES:Filière
ATTACH;FMTTYPE=:
END:VEVENT
BEGIN:VEVENT
DTSTART;TZID=Europe/Paris:20160324T090000
DTEND;TZID=Europe/Paris:20160324T170000
DTSTAMP:20260423T063120
CREATED:20160309T141406Z
LAST-MODIFIED:20160309T141406Z
UID:43961-1458810000-1458838800@www.safecluster.com
SUMMARY:9èmes rencontres CEA-Industries
DESCRIPTION:Le CEA Cadarache et la CCI Marseille Provence vous convient aux 9èmes rencontres CEA-Industries pour l’innovation et le transfert de technologies vers les industriels organisées sur le thème des « Biotechnologies au service de l’énergie et de l’environnement » le jeudi 24 mars 2016 à Gardanne.\nProgramme 9èmes rencontres CEA Industries_24mars2016[1]\nModalités d’inscription ici
URL:https://www.safecluster.com/evenement/9emes-rencontres-cea-industries/
LOCATION:Lieu sans nom\, Gardanne
ATTACH;FMTTYPE=:
END:VEVENT
BEGIN:VEVENT
DTSTART;TZID=Europe/Paris:20160331T093000
DTEND;TZID=Europe/Paris:20160331T113000
DTSTAMP:20260423T063120
CREATED:20160329T155131Z
LAST-MODIFIED:20160329T155131Z
UID:43972-1459416600-1459423800@www.safecluster.com
SUMMARY:PETIT DEJEUNER ET ATELIER DE CPTO
DESCRIPTION:Le Technopôle Arbois Méditerranée organise un petit déjeuner d’information sur la thématique\nPrévention des risques professionnels\, quelles obligations légales pour votre entreprise?\nDès un salarié\, l’employeur a des obligations légales en matière de risques professionnels\, mais lesquelles ?\nAfin d’y voir plus clair concernant ces dimensions juridiques avant d’entamer une véritable démarche de prévention\, Karine Cavoit\, psychologue du travail IPRP chez CPTO Aix vous propose d’échanger sur ce thème autour d’un petit déjeuner.\nLes thèmes abordés seront : \n\nFocus sur les risques professionnels\n– De quoi parle-t-on ?\n– Est-ce que mon secteur d’activité est concerné ?\nLes affichages obligatoires (qui\, quoi\, où\, comment ?)\nMadame/Monsieur « sécurité» sur mon lieu de travail \n– Obligations depuis 2012\n– Qui ? Comment ?\nLe Document unique d’évaluation des risques\n– Explications\n– Est-ce que mon entreprise/collectivité/association est concernée ?\n– A quoi ça sert ?\nEchanges autour des différents points traités\n\n \nInscription obligatoire et gratuite: ogosso@arbois-med.com
URL:https://www.safecluster.com/evenement/petit-dejeuner-et-atelier-de-cpto/
LOCATION:TECHNOPÔLE DE L’ENVIRONNEMENT\, Domaine du Petit Arbois \, Aix en Provence
CATEGORIES:Filière
END:VEVENT
BEGIN:VEVENT
DTSTART;TZID=Europe/Paris:20160331T100000
DTEND;TZID=Europe/Paris:20160331T170000
DTSTAMP:20260423T063120
CREATED:20160226T170634Z
LAST-MODIFIED:20160226T170634Z
UID:43958-1459418400-1459443600@www.safecluster.com
SUMMARY:Atelier Emergence de projets  Qualité des Environnements Intérieurs (QEI) et Qualité de l’Air Intérieur (QAI)
DESCRIPTION:L’importance des enjeux liés à la mesure et au suivi de la qualité de l’air intérieur est régulièrement soulignée. Ces sujets présentent de réelles opportunités d’innovations\, notamment en associant des compétences d’horizons variés :\n> énergétique du bâtiment\,\n> gestion des données\, santé\, objets connectés…\nLes pôles de compétitivité Tenerrdis et SAFE Cluster s’associent au CEA pour encourager ces fertilisations croisées et accompagner l’émergence de produits et services innovants. Au cours de cette journée\, le CEA et les pôles de compétitivités mettront en lumière différents modes de collaborations :\nappels à projet nationaux (ANR\, ADEME\, BPI)\, Européens (H2020)\, ou de contrats de recherche bilatéraux.\nInscrivez vous vite si vous souhaitez en savoir plus sur :\n> les projets collaboratifs du CEA / INES\n> les solutions innovantes d’entreprises des pôles\n> les guichets de financement de projets les plus pertinents\nParticipez aux ateliers thématiques pour l’émergence de projets !\nTéléchargez le Programme\nInscription obligatoire en cliquant ici\nLe site du CEA étant sécurité\, vous devez impérativement télécharger le formulaire de demande d’accès et le retourner à Madame MASSE-NAVETTE avant le 21 mars 2016.
URL:https://www.safecluster.com/evenement/atelier-emergence-de-projets-qualite-des-environnements-interieurs-qei-et-qualite-de-lair-interieur-qai/
LOCATION:CEA / GRENOBLE\, Technopôle Savoie Technolac / 50 avenue Lac Léman\, LE BOURGET DU LAC\, 73375 \, France
CATEGORIES:Filière
ATTACH;FMTTYPE=:
END:VEVENT
END:VCALENDAR