BEGIN:VCALENDAR
VERSION:2.0
PRODID:-//Pôle SAFE - ECPv6.15.20//NONSGML v1.0//EN
CALSCALE:GREGORIAN
METHOD:PUBLISH
X-WR-CALNAME:Pôle SAFE
X-ORIGINAL-URL:https://www.safecluster.com
X-WR-CALDESC:Évènements pour Pôle SAFE
REFRESH-INTERVAL;VALUE=DURATION:PT1H
X-Robots-Tag:noindex
X-PUBLISHED-TTL:PT1H
BEGIN:VTIMEZONE
TZID:Europe/Paris
BEGIN:DAYLIGHT
TZOFFSETFROM:+0100
TZOFFSETTO:+0200
TZNAME:CEST
DTSTART:20150329T010000
END:DAYLIGHT
BEGIN:STANDARD
TZOFFSETFROM:+0200
TZOFFSETTO:+0100
TZNAME:CET
DTSTART:20151025T010000
END:STANDARD
BEGIN:DAYLIGHT
TZOFFSETFROM:+0100
TZOFFSETTO:+0200
TZNAME:CEST
DTSTART:20160327T010000
END:DAYLIGHT
BEGIN:STANDARD
TZOFFSETFROM:+0200
TZOFFSETTO:+0100
TZNAME:CET
DTSTART:20161030T010000
END:STANDARD
BEGIN:DAYLIGHT
TZOFFSETFROM:+0100
TZOFFSETTO:+0200
TZNAME:CEST
DTSTART:20170326T010000
END:DAYLIGHT
BEGIN:STANDARD
TZOFFSETFROM:+0200
TZOFFSETTO:+0100
TZNAME:CET
DTSTART:20171029T010000
END:STANDARD
END:VTIMEZONE
BEGIN:VEVENT
DTSTART;TZID=Europe/Paris:20160401T083000
DTEND;TZID=Europe/Paris:20160401T173000
DTSTAMP:20260423T052910
CREATED:20160302T091059Z
LAST-MODIFIED:20160302T091059Z
UID:43959-1459499400-1459531800@www.safecluster.com
SUMMARY:Technologies photoniques pour l’intelligence et l’autonomie des véhicules et des drones - Séminaire Opticsvalley
DESCRIPTION:Pour consultez le programme et vous inscrire\, cliquez ici
URL:https://www.safecluster.com/evenement/technologies-photoniques-pour-lintelligence-et-lautonomie-des-vehicules-et-des-drones-seminaire-opticsvalley/
LOCATION:ENSTA ParisTech\, 828\, boulevard des Maréchaux\, Palaiseau\, 91120 
ATTACH;FMTTYPE=:
END:VEVENT
BEGIN:VEVENT
DTSTART;TZID=Europe/Paris:20160404T133000
DTEND;TZID=Europe/Paris:20160404T173000
DTSTAMP:20260423T052910
CREATED:20160315T091757Z
LAST-MODIFIED:20160315T091757Z
UID:43966-1459776600-1459791000@www.safecluster.com
SUMMARY:Réunion nationale d'information sur les services climatiques
DESCRIPTION:Le P.C.N. Environnement/Climat organise une réunion nationale d’information sur la thématique des services climatiques européens\, le 4 avril 2016 à Paris.\nL’événement est organisé par le Point de contact national Environnement/Climat\, à destination des porteurs potentiels de projets européens en recherche et innovation pour les services climatiques.\nL’inscription à la réunion nationale d’information sur les services climatiques est gratuite et ouverte jusqu’au 29 mars 2016\, dans la limite des places disponibles.\nPlus d’infos\, programme et inscription\, ici
URL:https://www.safecluster.com/evenement/reunion-nationale-dinformation-sur-les-services-climatiques/
LOCATION:Espace la Rochefoucauld\, 11\, rue de la Rochefoucauld\, Paris
CATEGORIES:Filière
ATTACH;FMTTYPE=:
END:VEVENT
BEGIN:VEVENT
DTSTART;TZID=Europe/Paris:20160405T090000
DTEND;TZID=Europe/Paris:20160406T170000
DTSTAMP:20260423T052910
CREATED:20160314T094332Z
LAST-MODIFIED:20160314T094332Z
UID:43964-1459846800-1459962000@www.safecluster.com
SUMMARY:Journées d'infos et de réseautage Appels 2016 Défi sécurité H2020
DESCRIPTION:La Commission européenne et le réseau des PCN (Point de Contact National) organisent les 5 et 6 avril prochains deux journées d’information et de réseautage sur les appels 2016 du défi sécurité du programme Horizon 2020.\n> Découvrez le programme et les modalités en cliquant ici\nAttention\, le nombre de places est limité. Pensez à vous inscrire dès maintenant !\nContact SAFE Cluster : alice.clemenceau@safecluster.com
URL:https://www.safecluster.com/evenement/journees-dinfos-et-de-reseautage-appels-2016-defi-securite-h2020/
LOCATION:Lieu sans nom\, Bruxelles\, Belgique
CATEGORIES:Innovation & Open Innovation
ATTACH;FMTTYPE=:
END:VEVENT
BEGIN:VEVENT
DTSTART;TZID=Europe/Paris:20160406T093000
DTEND;TZID=Europe/Paris:20160406T123000
DTSTAMP:20260423T052910
CREATED:20160323T173847Z
LAST-MODIFIED:20160323T173847Z
UID:43969-1459935000-1459945800@www.safecluster.com
SUMMARY:Speed Dating de l'International
DESCRIPTION:Vous souhaitez rencontrer les acteurs clés de votre développement à l’international ? Retrouvez-les tous sur un même plateau !\n \nProgramme :\n9h30 : accueil-café et présentation des intervenants\n10h20 : speed dating\n12h00 : cocktail réseautage\nRencontrez :  \n\nBPI France : Céline COLSON\, Déléguée Financement Garantie\nBUSINESS FRANCE : Charles GROS\, Délégué Régional PACA et Corse\nCCEF (Conseillers du Commerce Extérieur) : nom à confirmer\nCCI International PACA : Nela SELIMOVIC\, Responsable de Secteur\nCLUB WTC APEX : Laurent COHEN\, Président\nCOFACE Garanties Publiques : Marie-Danielle BAHISSON\, Directeur PACA Corse\nDOUANES : Claude SALARD\, coordonnateur Plan PME et OEA\nEY : Jérôme MAGNAN\, Associé\, directeur du bureau de Marseille\, Xavier BRUN\, Avocat spécialisé en mobilité internationale & Anne SENDRA\, Avocat spécialisé en droit des affaires\nFCM (Finances et Conseil Méditerranée) : Christian APOTHELOZ\, Délégué Général – à confirmer\nIMED : Loïc BONNARDEL\, Responsable du Développement\nINPI : Jean-Paul BUISSON\, Chargé d’affaires-Juriste\nTOTAL Développement Régional : Jacques BRAVAIS\, Direction du Développement Régional & Céline BRACONNIER\, Déléguée à l’International\nUCCCAB : Olivier VAN DE WINKEL\, Président\nWorld Trade Center Marseille Provence : Paul CHAFFARD\, Président\n\n \nParticipez aux tables rondes avec témoignages de chefs d’entreprises : \n\nC’est ma première expérience à l’International\nInnover pour se différencier\nSe structurer\nSe financer pour « carburer »\nSe faire accompagner\nUtiliser des leviers de compétitivité\n\n \nInscription gratuite : Ondine HENRY : o.henry@leclubwtc.com / 04 13 94 04 55
URL:https://www.safecluster.com/evenement/speed-dating-de-linternational/
LOCATION:HUB de KEDGE Business School\, Campus de Luminy\, Rue Antoine Bourdelle\, Marseille\, 13009 
ATTACH;FMTTYPE=:
END:VEVENT
BEGIN:VEVENT
DTSTART;TZID=Europe/Paris:20160407T083000
DTEND;TZID=Europe/Paris:20160407T163000
DTSTAMP:20260423T052910
CREATED:20160330T141223Z
LAST-MODIFIED:20160330T141223Z
UID:43973-1460017800-1460046600@www.safecluster.com
SUMMARY:Séminaire ARES 2016 (Armée-Recherche-Entreprise-Santé) sur le thème « La confiance en l’autre »
DESCRIPTION:Le Général de brigade aérienne Francis POLLET\, Commandant l’École de l’air et la Base aérienne 701\, vous propose d’assister au séminaire ARES 2016 (Armée-Recherche-Entreprise-Santé) sur le thème « La confiance en l’autre » qui se déroulera en l’amphithéâtre Marin-la-Meslée sur la Base aérienne 701 de Salon-de-Provence le jeudi 7 avril 2016 de 9h00 à 17h00. \nCe séminaire 2016 a pour but d’échanger sur la confiance interpersonnelle tant dans une perspective dynamique\, que dans le cadre de nos différentes activités :\nComment se construit-elle ? Dans quelles conditions propices et essentielles peut-elle se développer ? Avec quel type de partenaires ? Quels sont les risques à fonder la performance collective sur la confiance ?\nInscription gratuite et obligatoire avant le 5 avril en cliquant ici\, en indiquant :\n– NOMS\n– PRÉNOMS\n– DATE DE NAISSANCE\n– LIEU DE NAISSANCE\n– NATIONALITÉ\nNote : ces informations sont obligatoires pour accéder à la base aérienne. La base aérienne 701 est un site militaire\, l’accès en est réglementé\, une pièce d’identité sera exigée.\nLa Base aérienne 701 se réserve le droit d’annuler la manifestation\, sans préavis\, si un événement majeur l’y oblige.\nTéléchargez la plaquette
URL:https://www.safecluster.com/evenement/seminaire-ares-2016-armee-recherche-entreprise-sante-sur-le-theme-la-confiance-en-lautre/
LOCATION:Base aérienne 701\, 13661 Salon-de-Provence Air\, Salon-de-Provence
ATTACH;FMTTYPE=:
END:VEVENT
BEGIN:VEVENT
DTSTART;TZID=Europe/Paris:20160413T080000
DTEND;TZID=Europe/Paris:20160413T170000
DTSTAMP:20260423T052910
CREATED:20160204T100645Z
LAST-MODIFIED:20160204T100645Z
UID:43945-1460534400-1460566800@www.safecluster.com
SUMMARY:Journée Export Défense PME
DESCRIPTION:La DGA et la CCI Internationale organisent le 13 avril prochain à Marseille une journée dédiée à l’export-PME.\nVous pourrez rencontrer les experts de la Direction du Développement International de la DGA et échanger sur la dynamisation de la politique de soutien aux exportations\, les opportunités d’affaires par zones\, le soutien financier (salons d’armement et aides à l’export) ou le contrôle des exportations d’armement.\nL’après-midi sera consacrée à des rencontres individuelles avec les experts géographiques\, financiers et réglementaires de la DGA.\nMerci de vous inscrire en ligne (https://docs.google.com/forms/d/1YF5oR448BRZVzy8UxJyuwov23t98acWLQure6nD4wL8/viewform) en précisant les éventuels rendez-vous individuels souhaités.\nTéléchargez le Programme Journée DGA – 13 avril 2016\nContact : Nadine.DEBUCHY@paca.cci.fr
URL:https://www.safecluster.com/evenement/save-the-date-journee-export-defense-pme/
LOCATION:Palais de la Bourse\, 9 La Canebière\, Marseille\, 13001\, France Métropolitaine
END:VEVENT
BEGIN:VEVENT
DTSTART;TZID=Europe/Paris:20160418T093000
DTEND;TZID=Europe/Paris:20160418T170000
DTSTAMP:20260423T052910
CREATED:20160311T110746Z
LAST-MODIFIED:20160311T110746Z
UID:43963-1460971800-1460998800@www.safecluster.com
SUMMARY:Forum national des utilisateurs Copernicus 2016
DESCRIPTION:Alors que le grand programme européen d’observation de la Terre Copernicus est rentré dans sa phase de maturité\, ce Forum national a pour objectif d’informer sur son déploiement\, en particulier pour ce qui concerne les services Copernicus de surveillance des milieux environnementaux et du changement climatique et les données satellitaires des trois première Sentinelles lancées. Une attention particulière sera portée sur l’accès aux informations Copernicus et sur leurs utilisations.\nTéléchargez ici le programme prévisionnel\nVous pouvez dès maintenant vous inscrire en ligne via ce questionnaire d’inscription.
URL:https://www.safecluster.com/evenement/forum-national-des-utilisateurs-copernicus-2016/
LOCATION:Ministère de l’environnement\, de l’énergie et de la mer
CATEGORIES:Filière
ATTACH;FMTTYPE=:
END:VEVENT
BEGIN:VEVENT
DTSTART;TZID=Europe/Paris:20160421T083000
DTEND;TZID=Europe/Paris:20160421T173000
DTSTAMP:20260423T052910
CREATED:20160329T120500Z
LAST-MODIFIED:20160329T120500Z
UID:43971-1461227400-1461259800@www.safecluster.com
SUMMARY:Journée d’animation Booster PACA
DESCRIPTION:Données spatiales : comment Booster vos solutions numériques sur des marchés applicatifs : \n\nMaritimes ?\nm-Tourisme et e-Tourisme ?\nSmart Cities\, citoyen numérique ?\nEnergies Renouvelables et smart-grids ?\nRisques naturels et industriels et résilience des territoires ?\n\nS’il vous arrive de vous poser ces questions\, le BOOSTER PACA et ses partenaires vous invitent à participer à une journée d’animation le 21 avril 2016 dans les locaux de l’entreprise ACRI-ST (260 Route du Pin Montard à Sophia Antipolis).\nVenez découvrir\,  par l’exemple et la pratique\, les données satellites\, les plateformes d’accès\, comment les utiliser et récupérer des données.\nLa matinée sera dédiée à des présentations concrètes. Puis après un cocktail de networking\, vous pourrez assister aux démonstrations des outils opérationnels sur les stands des structures telles que CNES\, ACRI\, MinesParistech\, CS\, Telespazio\, Thales Alenia Space\, Airbus Defense & Space\, Quant ou encore Kinaxia qui répondront à toutes vos questions.\nInscription obligatoire en cliquant ici\nTéléchargez le programme journée du 21 Avril\nPour plus d’information\, contactez : Sandrine Mathieu\, Chef de projet Booster – sandrine.mathieu@safecluster.com ou Loïc Chanvillard\, Responsable programme Satellite – loic.chanvillard@safecluster.com\nA propos du Booster PACA\nAccélérer les coopérations régionales intersectorielles et les accès aux marchés :\nEn pratique\, le Booster va mobiliser des experts en données spatiales et en services numériques pour informer les entreprises sur les différentes données disponibles. Il s’agira également de présenter les solutions technologiques existantes proposées par le secteur du numérique pour stocker\, accéder et traiter les flots de données. Des utilisateurs échangeront avec les PME autour de leurs besoins et des réponses possibles.\n 
URL:https://www.safecluster.com/evenement/journee-danimation-booster-paca/
LOCATION:ACRI ST\, Av. Nicolas Copernic\, Grasse\, 06130\, France
CATEGORIES:Filière
ATTACH;FMTTYPE=:
END:VEVENT
BEGIN:VEVENT
DTSTART;TZID=Europe/Paris:20160424T080000
DTEND;TZID=Europe/Paris:20160428T170000
DTSTAMP:20260423T052910
CREATED:20160204T095028Z
LAST-MODIFIED:20160204T095028Z
UID:43944-1461484800-1461862800@www.safecluster.com
SUMMARY:Mission inter-pôles internationale aérospatiale
DESCRIPTION:SAFE Cluster est partenaire de la mission aérospatiale au Canada\, organisée par le Pôle de compétitivité EMC2\, en partenariat avec les Pôles Astech et Aerospace Valley.\nIl est encore temps de participer à la mission … Adhérents\, acteurs de la filière aérospatiale\, nous vous proposons de vous envoler à nos côtés vers le Canada !\nAu programme\, rencontres BtoB\, ateliers\, visites de sites et participation au : \nForum de l’Innovation Aérospatiale (conférences\, BtoB\, séances de networking…)\,\net auForum du CRIAQ (centré sur l’émergence de projets d’innovation internationaux). \n– Téléchargez le programme mission QUEBEC !\nCette mission vous intéresse ? Contactez Juliette MALLEZ\nPour participer à la mission\, merci de retourner le bulletin d’engagement dument rempli\n– Contact et + d’infos : juliette.mallez@safecluser.com
URL:https://www.safecluster.com/evenement/mission-inter-poles-internationale-aerospatiale/
LOCATION:Lieu sans nom\, Montréal\, Canada
ATTACH;FMTTYPE=:
END:VEVENT
BEGIN:VEVENT
DTSTART;TZID=Europe/Paris:20160427T093000
DTEND;TZID=Europe/Paris:20160427T170000
DTSTAMP:20260423T052910
CREATED:20160420T123728Z
LAST-MODIFIED:20160420T123728Z
UID:43977-1461749400-1461776400@www.safecluster.com
SUMMARY:Solutions de sécurité et de sûreté - gestion des risques à destination des territoires
DESCRIPTION:Dans le cadre de son Programme « Territoires résilients »\, SAFE Cluster vous convie à sa première journée de présentation des solutions de sécurité et de sûreté\, gestion des risques à destination des territoires\, le mercredi 27 avril 2016 de 9h30 à 16h\, Pépinière d’entreprise\, 11 avenue Maurice Chevalier\, 06150 Cannes la Bocca.\nEn présence des agents et élus des villes de Cannes\, d’Antibes\, du Conseil départemental des Alpes Maritimes\, et d’autres collectivités environnantes\, venez présenter vos solutions en séance plénière et lors de rdv individuels.\n \nProgramme prévisionnel :\n9h : Accueil des participants\n9h30 : Introduction de la journée par le SAFE Cluster\n9h45 : Présentation des enjeux et attentes de Cannes en matière de solutions de sécurité – sûreté et de gestion des risques par Thomas Onzon\, DGST de Cannes\n10h00 : Présentation de l’organisation de la ville d’Antibes et expression de besoin en matière de gestion de crises par Jean-Marie Aicardi\, Responsable de Service\, coordinateur des moyens municipaux en situation de crise pour Antibes\n10h15 : Présentation des solutions des PME innovantes (Hubble Aerial Data\, Deveryware\, Cii Telecom\, NOVIMET\, PREDICT)\n11h00 : pause\n11h15 : Suite présentation des solutions des PME innovantes (IGO\, KINAXIA\, SYSTEL\, TENEVIA\, Cedralis\, Weather Mesures …)\n12h : Buffet\n13h30-15h : Rendez-vous individuels sur inscription obligatoire\n15h-16h30 : atelier animé par Thales Alenia Space sur le projet de plateforme Multirisques à destination de la ville de Cannes \nL’inscription est gratuite pour les collectivités.\nConditions d’inscription :\nL’inscription est individuelle\, nominative et non cessible. En aucun cas elle ne peut être échangée ou cédée en cas d’absence du participant. La totalité des droits d’inscription est due.\nLes tarifs indiqués ci-dessus ne peuvent donner lieu à aucun fractionnement par demi-journée.\n–          Tarif adhérent du Pôle Safe : 75 € HT (90 € TTC)\n–          Tarif non adhérent du pôle : 150 € HT (180 € TTC)\nPour vous inscrire\, cliquez ici\nContact et + d’infos : Guillaume Riou\, Responsable Programme Territoires résilients\, guillaume.riou@safecluster.com
URL:https://www.safecluster.com/evenement/solutions-de-securite-et-de-surete-gestion-des-risques-a-destination-des-territoires/
LOCATION:CréÀCannes\, 11 avenue Maurice Chevalier\, Cannes La Bocca \, 06150
CATEGORIES:Filière
ATTACH;FMTTYPE=:
ORGANIZER;CN="SAFE CLUSTER":MAILTO:infos@safecluster.com
END:VEVENT
BEGIN:VEVENT
DTSTART;VALUE=DATE:20160428
DTEND;VALUE=DATE:20160430
DTSTAMP:20260423T052910
CREATED:20160331T090314Z
LAST-MODIFIED:20160331T090314Z
UID:43974-1461801600-1461974399@www.safecluster.com
SUMMARY:Forum International des technologies de Sécurité
DESCRIPTION:SAFE Cluster est partenaire du Forum TAC\, le Forum International des technologies de Sécurité qui se tiendra les 28 et 29 avril prochain à Lyon sur la thématique « La convergence entre les besoins et les solutions innovantes en matière de sécurité ». Organisé sous le haut patronage d’INTERPOL et du Ministère de l’Intérieur\, avec le support de la métropole Grand Lyon\, cette édition 2016 sera orientée business et innovation avec un objectif claire de mise en relation des donneurs d’ordre privés et publics avec les fournisseurs de solutions innovantes.\nPour en savoir plus\, visitez le site dédié\n 
URL:https://www.safecluster.com/evenement/forum-international-des-technologies-de-securite/
LOCATION:Centre de Congrès de Lyon\, 50 Quai Charles de Gaulle \, Lyon
CATEGORIES:Salon
ATTACH;FMTTYPE=:
END:VEVENT
END:VCALENDAR