BEGIN:VCALENDAR
VERSION:2.0
PRODID:-//Pôle SAFE - ECPv6.15.20//NONSGML v1.0//EN
CALSCALE:GREGORIAN
METHOD:PUBLISH
X-ORIGINAL-URL:https://www.safecluster.com
X-WR-CALDESC:Évènements pour Pôle SAFE
REFRESH-INTERVAL;VALUE=DURATION:PT1H
X-Robots-Tag:noindex
X-PUBLISHED-TTL:PT1H
BEGIN:VTIMEZONE
TZID:Europe/Paris
BEGIN:DAYLIGHT
TZOFFSETFROM:+0100
TZOFFSETTO:+0200
TZNAME:CEST
DTSTART:20150329T010000
END:DAYLIGHT
BEGIN:STANDARD
TZOFFSETFROM:+0200
TZOFFSETTO:+0100
TZNAME:CET
DTSTART:20151025T010000
END:STANDARD
BEGIN:DAYLIGHT
TZOFFSETFROM:+0100
TZOFFSETTO:+0200
TZNAME:CEST
DTSTART:20160327T010000
END:DAYLIGHT
BEGIN:STANDARD
TZOFFSETFROM:+0200
TZOFFSETTO:+0100
TZNAME:CET
DTSTART:20161030T010000
END:STANDARD
BEGIN:DAYLIGHT
TZOFFSETFROM:+0100
TZOFFSETTO:+0200
TZNAME:CEST
DTSTART:20170326T010000
END:DAYLIGHT
BEGIN:STANDARD
TZOFFSETFROM:+0200
TZOFFSETTO:+0100
TZNAME:CET
DTSTART:20171029T010000
END:STANDARD
END:VTIMEZONE
BEGIN:VEVENT
DTSTART;TZID=Europe/Paris:20160830T093000
DTEND;TZID=Europe/Paris:20160830T170000
DTSTAMP:20260423T004356
CREATED:20160712T081921Z
LAST-MODIFIED:20160712T081921Z
UID:44009-1472549400-1472576400@www.safecluster.com
SUMMARY:Booster PACA : « quelles opportunités de développement liées aux données d’Observation de la Terre pour la croissance bleue ? »
DESCRIPTION:Le Booster PACA organise en partenariat avec le Pôle Mer Méditerranée\, une journée sur la thématique « quelles opportunités de développement liées aux données d’Observation de la Terre pour la croissance bleue ? »\, qui aura lieu le mardi 30 août 2016 de 9h30 à 17h à la Garde près de Toulon.\nL’objectif de cette journée de rencontres est de présenter les opportunités liées à l’exploitation de données d’Observation de la Terre pour les marchés de la Mer\, afin de stimuler le développement de services construits à partir de ces données.\nPlusieurs marchés seront abordés : la sécurité maritime\, les énergies marines\, l’aquaculture et l’environnement. A cette occasion\, les données d’Observation de la Terre accessibles seront présentées.\nEnfin\, la dernière partie de la journée sera consacrée à la présentation des dispositifs d’accompagnement et de financement dédiés au développement de nouveaux services aval.\nQuelques intervenants : la Gendarmerie maritime\, le Ministère de l’Environnement\, de l’Energie et de la Mer\, ACRI HE\, entreprise spécialisée dans le développement de services aval\, Mercator Océan\, en charge du service « Mer » pour le programme Copernicus de la Commission européenne\, Ifremer pour les données Coriolis\, infrastructure intégrée d’observation in-situ de l’océan\, le booster PACA\, le Pôle Mer Méditerranée…\nLe programme détaillé vous parviendra prochainement.\nInscriptions – cliquez ici pour vous inscrire\n45€ HT pour un membre du Pôle Mer Méditerranée ou un membre d’un partenaire du booster PACA\n100€ HT pour un non-membre\nPour en savoir plus\, contactez Manon Pedroni du Pôle Mer Méditerranée
URL:https://www.safecluster.com/evenement/reunion-quelles-opportunites-de-developpement-liees-aux-donnees-dobservation-de-la-terre-pour-la-croissance-bleue/
LOCATION:Ecole d’Ingénieurs SeaTech – Université de Toulon\, Avenue de l’Université\, LA GARDE
END:VEVENT
END:VCALENDAR