BEGIN:VCALENDAR
VERSION:2.0
PRODID:-//Pôle SAFE - ECPv6.15.20//NONSGML v1.0//EN
CALSCALE:GREGORIAN
METHOD:PUBLISH
X-WR-CALNAME:Pôle SAFE
X-ORIGINAL-URL:https://www.safecluster.com
X-WR-CALDESC:Évènements pour Pôle SAFE
REFRESH-INTERVAL;VALUE=DURATION:PT1H
X-Robots-Tag:noindex
X-PUBLISHED-TTL:PT1H
BEGIN:VTIMEZONE
TZID:Europe/Paris
BEGIN:DAYLIGHT
TZOFFSETFROM:+0100
TZOFFSETTO:+0200
TZNAME:CEST
DTSTART:20150329T010000
END:DAYLIGHT
BEGIN:STANDARD
TZOFFSETFROM:+0200
TZOFFSETTO:+0100
TZNAME:CET
DTSTART:20151025T010000
END:STANDARD
BEGIN:DAYLIGHT
TZOFFSETFROM:+0100
TZOFFSETTO:+0200
TZNAME:CEST
DTSTART:20160327T010000
END:DAYLIGHT
BEGIN:STANDARD
TZOFFSETFROM:+0200
TZOFFSETTO:+0100
TZNAME:CET
DTSTART:20161030T010000
END:STANDARD
BEGIN:DAYLIGHT
TZOFFSETFROM:+0100
TZOFFSETTO:+0200
TZNAME:CEST
DTSTART:20170326T010000
END:DAYLIGHT
BEGIN:STANDARD
TZOFFSETFROM:+0200
TZOFFSETTO:+0100
TZNAME:CET
DTSTART:20171029T010000
END:STANDARD
END:VTIMEZONE
BEGIN:VEVENT
DTSTART;TZID=Europe/Paris:20160909T091500
DTEND;TZID=Europe/Paris:20160909T160000
DTSTAMP:20260422T234531
CREATED:20160622T104523Z
LAST-MODIFIED:20160622T104523Z
UID:44003-1473412500-1473436800@www.safecluster.com
SUMMARY:Décalé au 9 sept : Journée d'information "Programme européen CleanSky 2"
DESCRIPTION:SAFE Cluster vous invite à participer à la prochaine journée d’information dédiée au programme européen CleanSky 2\, organisée dans le cadre de l’ouverture du 4ème appel à propositions de partenariat « CFP04 ».\nCet appel comportera 63 topics pour un budget estimé à 54 Md’€.\nLa liste des appels ainsi que leurs descriptions sont disponibles ici\nConsultez le programme détaillé de la journée d’information en cliquant ici\nInscrivez-vous ici !\nPour tout complément d’infos\, cliquez ici\nContact SAFE Cluster : alice.clemenceau@safecluster.com
URL:https://www.safecluster.com/evenement/journee-dinformation-programme-europeen-cleansky-2/
LOCATION:CCI Midi Pyrennées\, 5 rue Dieudonné Costes\,\, Blagnac\, 31700
CATEGORIES:Innovation & Open Innovation
ATTACH;FMTTYPE=:
END:VEVENT
BEGIN:VEVENT
DTSTART;TZID=Europe/Paris:20160915T093000
DTEND;TZID=Europe/Paris:20160915T170000
DTSTAMP:20260422T234531
CREATED:20160902T133136Z
LAST-MODIFIED:20160902T133136Z
UID:44019-1473931800-1473958800@www.safecluster.com
SUMMARY:Groupe de travail "innovations & inondations"
DESCRIPTION:Dans le cadre de son programme d’animation « Résilience des territoires »\, SAFE Cluster organise une journée autour du groupe de travail « innovations et inondations »\, le jeudi 15 sept à Aix\, durant laquelle une présentation de l’appel à projets de l’ADEME sera faite\, dans le cadre du programme Investissements d’avenir.\nVous aurez aussi l’opportunité de présenter en « flash » vos projets. Sans oublier\, la session dédiée aux actions de promotion des PME sur le risque inondation ou encore le temps dédié au volet export avec un focus fait sur le marché indonésien.\nContact et + d’infos : guillaume.riou@safecluster.com\n 
URL:https://www.safecluster.com/evenement/groupe-de-travail-innovation-inondation/
LOCATION:SAFE Cluster\, Pôle de compétitivité Safe Cluster - Avenue Louis Philibert\, Aix-en-Provence\, 13290\, France
CATEGORIES:Innovation & Open Innovation
ATTACH;FMTTYPE=:
ORGANIZER;CN="SAFE CLUSTER":MAILTO:infos@safecluster.com
END:VEVENT
BEGIN:VEVENT
DTSTART;TZID=Europe/Paris:20160915T193000
DTEND;TZID=Europe/Paris:20160915T230000
DTSTAMP:20260422T234531
CREATED:20160830T142749Z
LAST-MODIFIED:20160830T142749Z
UID:44018-1473967800-1473980400@www.safecluster.com
SUMMARY:Soirée de lancement des French Tech Weeks 2016
DESCRIPTION:SAFE Cluster est partenaire et vous invite à participer à une soirée exceptionnelle pour lancer les French Tech Weeks 2016 ! Le jeudi 15 sept 2016 à 19h30 à Aix-en-Provence.\nPlus de 1000 personnes sont attendues ! Consultez le programme et les animations en détail\n \n 
URL:https://www.safecluster.com/evenement/soiree-de-lancement-des-french-tech-weeks-2016/
LOCATION:Esplanade Mozart\, Aix en Provence
CATEGORIES:Innovation & Open Innovation
ATTACH;FMTTYPE=:
END:VEVENT
BEGIN:VEVENT
DTSTART;VALUE=DATE:20160916
DTEND;VALUE=DATE:20160917
DTSTAMP:20260422T234531
CREATED:20160830T082915Z
LAST-MODIFIED:20160830T082915Z
UID:44015-1473984000-1474070399@www.safecluster.com
SUMMARY:SAFE Day "faites grandir votre réseau d'innovation !"
DESCRIPTION:SAFE Cluster vous invite à son événement annuel encore inédit\, le SAFE Day qui se déroulera le vendredi 16 sept à Valabre !\nCette journée se déroulera sur le site de l’Entente pour la forêt méditerranéenne à Valabre (Gardanne).\nAu programme\, des interventions et invités de renoms\, des atnimations et challenges\, tables rondes…\nPlus d’infos ici\nContact : lea.benezeth@safecluster.com
URL:https://www.safecluster.com/evenement/safe-day-faites-grandir-votre-reseau-dinnovation/
LOCATION:Valabre\, Centre Francis Arrighi Domaine de Valabre - RN7\, Gardanne\, 13120
CATEGORIES:Réseau
ATTACH;FMTTYPE=:
ORGANIZER;CN="SAFE CLUSTER":MAILTO:infos@safecluster.com
END:VEVENT
BEGIN:VEVENT
DTSTART;TZID=Europe/Paris:20160919T140000
DTEND;TZID=Europe/Paris:20160919T163000
DTSTAMP:20260422T234531
CREATED:20160830T083704Z
LAST-MODIFIED:20160830T083704Z
UID:44016-1474293600-1474302600@www.safecluster.com
SUMMARY:Horizon 2020 : Atelier "vérification basée sur le risque aux point de passage frontaliers"
DESCRIPTION:La délégation ministérielle aux industries de sécurité\, la direction de la coopération internationale et le point de contact national H2020 et SAFE Cluster\, dans le cadre de son activité Point de Contact National « Sécurité » organisent un atelier centré sur les vérifications aux points de passage frontaliers basées sur le risque\, le 19 septembre prochain à Paris.\nL’objectif de cette rencontre est de réunir des services de sécurité intérieure\, des acteurs publics\, des organismes de recherche ainsi que des industriels afin de procéder à une lecture commune de l’appel à projet\, d’en identifier les enjeux et de poser\, le cas échéant\, les jalons d’une initiative de projet française.\n> Horaire : 14h00 à 16h30\n> Lieu : immeuble Garance\, 20\, rue des Pyrénées\, 75020 PARIS.
URL:https://www.safecluster.com/evenement/horizon-2020-atelier-secure-societies/
CATEGORIES:Innovation & Open Innovation
ATTACH;FMTTYPE=:
END:VEVENT
BEGIN:VEVENT
DTSTART;TZID=Europe/Paris:20160921T080000
DTEND;TZID=Europe/Paris:20160924T170000
DTSTAMP:20260422T234531
CREATED:20160421T075614Z
LAST-MODIFIED:20160421T075614Z
UID:43978-1474444800-1474736400@www.safecluster.com
SUMMARY:123ème Congrès National des Sapeurs-Pompiers de France
DESCRIPTION:Participez à la 123e édition du congrès national des sapeurs pompiers de France qui se déroulera cette année à Tours.\nIls sont adhérents de SAFE et exposent sur le congrès. Venez les retrouver ! \n\nAirbus Defence & Space\nBataillon des marins pompiers de Marseille\nBodysens\nCGX\nDeveryware\nDiginext\nENSOSP\nFédération Nationale des Officiers de Sapeurs Pompiers de France\nLeader\nNexter Robotics\nOUVRY\nSIS\nSystel\nTPL Systemes\n\n \nPlus d’infos disponibles en cliquant ici\nContact SAFE Cluster : jean-michel.dumaz@safecluster.com
URL:https://www.safecluster.com/evenement/123eme-congres-national-des-sapeurs-pompiers-de-france/
LOCATION:Lieu sans nom\, TOURS
CATEGORIES:Filière
ATTACH;FMTTYPE=:
END:VEVENT
BEGIN:VEVENT
DTSTART;TZID=Europe/Paris:20160922T100000
DTEND;TZID=Europe/Paris:20160922T120000
DTSTAMP:20260422T234531
CREATED:20160727T120906Z
LAST-MODIFIED:20160727T120906Z
UID:44012-1474538400-1474545600@www.safecluster.com
SUMMARY:Matinée d'infos opportunités de financement européens H2020
DESCRIPTION:Le Pôle Mer Méditerranée\, en partenariat avec le réseau des Points de Contacts Nationaux et les pôles de compétitivité SAFE et SCS\,organise une matinée d’information Horizon 2020 concernant les appels à projets 2017 dans le domaine du transport\, le 22 septembre 2016  dans les locaux de Toulon Var Technologies (Maison des Technologies place Georges Pompidou 83000 Toulon).\nLes thématiques abordées concerneront : \n\nTransport maritime : Navire propre intelligent\, innovations en matière d’efficacité énergétique et de contrôle des émissions ;\nPort du futur\, Logistique portuaire ;\nTransport aérien : Impact environnemental\, réduction du bruit\, leadership industriel & Programme Clean Sky ;\nUn focus sur les mécanismes dédiés aux financements des PME avec en particulier l’Instrument PME.\n\nCes opportunités seront présentées par les points de contact nationaux (PCN) Transport et PME.\nSi vous cherchez de l’information sur le programme cadre de recherche H2020\, si vous avez une idée de projet et/ou recherchez des partenaires nationaux ou européens\, cet atelier est fait pour vous.\n \nPréprogramme\n10.00 – 10.30                  Introduction : comment les pôles peuvent vous accompagner vers les financements européens ? \nColin RUEL\, Responsable Europe – Pôle Mer Méditerranée\nAlice CLEMENCEAU\, chargée de mission Europe – Pôle SAFE\nChristophe AVELLAN ou Didier DERBESY– Pôle Mer Méditerranée\n10.30 – 11.00                     Présentation des appels à projets de R&D (Calls H2020) Transport\nBastien PINCANON Point de Contact National Transport UPEM – Université Paris-Est Marne-la-Vallée\n11.00 – 11.30                     Présentation des opportunités pour les PME\nFabienne DAVERAN Point de Contact National PME H2020\, Pôle Aerospace Valley\n11.30 – 12.30                     Questions/ réponses et Discussions\n12.00                                    Cocktail déjeunatoire\n \nDes rendez-vous individuels avec les PCN\, les représentants de pôles de compétitivité ou entre participants seront organisés sur demande. Des salles seront disponibles jusqu’à 16.00.\nContact et inscription : alice.clemenceau@safecluster.com
URL:https://www.safecluster.com/evenement/journee-dinfos-opportunites-de-financement-europeens-h2020/
LOCATION:la cantine  TVT Innovation\,  Maison des  Place Georges Pompidou\, Toulon\, 83000
CATEGORIES:Innovation & Open Innovation
ATTACH;FMTTYPE=:
END:VEVENT
BEGIN:VEVENT
DTSTART;TZID=Europe/Paris:20160923T093000
DTEND;TZID=Europe/Paris:20160923T123000
DTSTAMP:20260422T234531
CREATED:20160912T055750Z
LAST-MODIFIED:20160912T055750Z
UID:44020-1474623000-1474633800@www.safecluster.com
SUMMARY:Inauguration du Technocentre Henri-Fabre
DESCRIPTION:Le projet Henri-Fabre\, un projet multi-filières pour une Entreprise étendue :\nLe projet Henri-Fabre est un projet public-privé inédit permettant aux partenaires de mettre en synergie leurs expertises\, leurs ressources\, leurs compétences\, leurs projets et de structurer un réseau avec l’ensemble des acteurs de l’innovation et de la recherche. Le projet se déploie sur les filières de l’aéronautique\, de l’énergie\, du médical et du naval.\nLe développement de ce nouveau modèle repose sur la collaboration entre des Industriels de toutes tailles\, le monde de la Recherche et celui de l’Emploi-Formation\, autour de la Mécanique\, des matériaux et des procédés industriels.\nAu cœur du dispositif : le « TECHNOCENTRE HENRI-FABRE » :\nLe Technocentre est un lieu de mutualisation de moyens\, de recherche et d’innovation au service des industriels\, et plus particulièrement des PME. C’est un lieu d’échanges et de transferts technologiques entre filières soumises à des impératifs similaires (innovation\, sécurité\, durabilité…) et un lieu de formation et de partage de connaissances de haut niveau. C’est un cercle vertueux\, basé sur le partage\, permettant de dynamiser l’innovation et de développer des opportunités de marché.\nFinancé dans le cadre d’un partenariat public/privé\, la TEAM Henri-Fabre organise l’inauguration de son Technocentre le vendredi 23 septembre\, en présence de : \nStéphane BOUILLON\, Préfet de la Région Provence-Alpes-Côte d’Azur\, Préfet des Bouches-du-Rhône\, \nChristian ESTROSI\, Président de la Région Provence-Alpes-Côte d’Azur\, \nMartine VASSAL\, Présidente du Conseil Départemental des Bouches-du-Rhône\, \nJean-Claude GAUDIN\, Président de la Métropole Aix-Marseille Provence\, Maire de Marseille\, Vice-Président du Sénat\, \nJacques PFISTER\, Président de la Chambre de Commerce et d’Industrie Marseille Provence \n& \nGuillaume FAURY\, Président Directeur Général d’Airbus Helicopters \nJean-Bernard LEVY\, Président Directeur Général du Groupe EDF \n\nInscription en ligne obligatoire ICI
URL:https://www.safecluster.com/evenement/inauguration-du-technocentre-henri-fabre/
ATTACH;FMTTYPE=:
END:VEVENT
BEGIN:VEVENT
DTSTART;TZID=Europe/Paris:20160927T080000
DTEND;TZID=Europe/Paris:20160930T170000
DTSTAMP:20260422T234531
CREATED:20160823T064220Z
LAST-MODIFIED:20160823T064220Z
UID:44014-1474963200-1475254800@www.safecluster.com
SUMMARY:Security Essen 2016
DESCRIPTION:Participez au plus grand salon mondial de sécurité civile et de prévention incendie qui se déroulera à Essen en Allemagne. L’occasion de venir faire le point sur les produits innovants de l’industrie de la sécurité qui y seront présentés. Un « pavillon France » sera également tenu et regroupera sous son drapeau les industries françaises en matière de sécurité.\nPlus d’infos en cliquant ici
URL:https://www.safecluster.com/evenement/security-essen-2016/
LOCATION:Essen\, Allemagne
CATEGORIES:Salon
END:VEVENT
BEGIN:VEVENT
DTSTART;TZID=Europe/Paris:20160929T080000
DTEND;TZID=Europe/Paris:20160929T170000
DTSTAMP:20260422T234531
CREATED:20160823T063613Z
LAST-MODIFIED:20160823T063613Z
UID:44013-1475136000-1475168400@www.safecluster.com
SUMMARY:Journée de l'international "des experts au service de votre stratégie"
DESCRIPTION:Au programme\, des conférences\, ateliers\, plus de 40 experts présents. Venez participer aux entretiens individuels aux côtés d’experts pays tels que Business France\, la CCI France international\, des cabinets conseils et conseillers du commerce extérieur pour la France.\n3 ateliers vous seront également proposés autour de l’Asie\, du Moyen Orient et de l’Afrique.\nPour consulter le programme détaillé\, cliquez ici\nCe Rendez-vous annuel est incontournable !\nPlus d’infos et contact en cliquant ici
URL:https://www.safecluster.com/evenement/journee-de-linternational-des-experts-au-service-de-votre-strategie/
LOCATION:Palais de la Bourse\, 9 La Canebière\, Marseille\, 13001\, France Métropolitaine
ATTACH;FMTTYPE=:
END:VEVENT
BEGIN:VEVENT
DTSTART;TZID=Europe/Paris:20160929T080000
DTEND;TZID=Europe/Paris:20160930T170000
DTSTAMP:20260422T234531
CREATED:20160928T054827Z
LAST-MODIFIED:20160928T054827Z
UID:44026-1475136000-1475254800@www.safecluster.com
SUMMARY:Journées de l'international 2016
DESCRIPTION:La CCI International Provence-Alpes-Côte d’Azur organise les Journées de l’international : \n\nle jeudi 29 septembre à la CCI Marseille Provence – Palais de La Bourse\, 9 La Canebière à Marseille\nle vendredi 30 septembre à la CCI Nice Côte d’Azur – 20 boulevard Carabacel à Nice\n\n \n\nConsultez le programme des 2 journées\n \nContacts : \n\n\n\n\nStephanie BOCAGE \nCCI International Provence-Alpes-Côte d’Azur \n 04 91 14 42 24\n stephanie.bocage@paca.cci.fr\n\n\n\n\nClaudie BOUSQUET SILVA\nCCI International Provence-Alpes-Côte d’Azur \n 04 91 14 42 34\n claudie.bousquet@paca.cci.fr\n\n\n\n\nPhilippe MARTIN \nCCI International Provence-Alpes-Côte d’Azur (responsable des départements 06 et 83) \n 04 93 13 74 65 \n philippe.martin@paca.cci.fr
URL:https://www.safecluster.com/evenement/journees-de-linternational-2016/
CATEGORIES:Filière
ATTACH;FMTTYPE=:
END:VEVENT
BEGIN:VEVENT
DTSTART;TZID=Europe/Paris:20160929T140000
DTEND;TZID=Europe/Paris:20160929T190000
DTSTAMP:20260422T234531
CREATED:20160622T125828Z
LAST-MODIFIED:20160622T125828Z
UID:44005-1475157600-1475175600@www.safecluster.com
SUMMARY:Sorgue Innov' 2016
DESCRIPTION:SAFE Cluster vous invite à participer à l’après-midi dédiée à l’innovation en agroéquipement qui se déroulera le 29 septembre à L’Isle sur la Sorgue. \n\nProgramme détaillé de l’après-midi disponible ici\nVous souhaitez y participer ? Remplissez le formulaire ici\n\n 
URL:https://www.safecluster.com/evenement/sorgue-innov-2016/
LOCATION:Lycée La Ricarde\, Isle sur la Sorgue
CATEGORIES:Filière
ATTACH;FMTTYPE=:
END:VEVENT
BEGIN:VEVENT
DTSTART;TZID=Europe/Paris:20160930T093000
DTEND;TZID=Europe/Paris:20160930T150000
DTSTAMP:20260422T234531
CREATED:20160830T113253Z
LAST-MODIFIED:20160830T113253Z
UID:44017-1475227800-1475247600@www.safecluster.com
SUMMARY:Cluster LAB Créer un fonds d'investissement
DESCRIPTION:France Cluster organise le prochain ClusterLAB sur le thème de la création d’un fonds d’investissement par un cluster : opportunités\, faisabilité\, exigences et impacts\, le vendredi 30 septembre 2016 à Paris.\nSAFE Cluster aux côtés d’autres pôles de compétitivité et clusters interviendra à 11h pour un retour d’expérience sur le sujet.\nProgramme détaillé disponible en cliquant ici\nParticipation gratuite pour les adhérents France Clusters. Cliquez ici pour vous inscrire\nContact et + d’infos : elise.durey@franceclusters.fr\n 
URL:https://www.safecluster.com/evenement/cluster-lab-creer-un-fonds-dinvestissement/
ATTACH;FMTTYPE=:
END:VEVENT
END:VCALENDAR