BEGIN:VCALENDAR
VERSION:2.0
PRODID:-//Pôle SAFE - ECPv6.15.20//NONSGML v1.0//EN
CALSCALE:GREGORIAN
METHOD:PUBLISH
X-WR-CALNAME:Pôle SAFE
X-ORIGINAL-URL:https://www.safecluster.com
X-WR-CALDESC:Évènements pour Pôle SAFE
REFRESH-INTERVAL;VALUE=DURATION:PT1H
X-Robots-Tag:noindex
X-PUBLISHED-TTL:PT1H
BEGIN:VTIMEZONE
TZID:Europe/Paris
BEGIN:DAYLIGHT
TZOFFSETFROM:+0100
TZOFFSETTO:+0200
TZNAME:CEST
DTSTART:20150329T010000
END:DAYLIGHT
BEGIN:STANDARD
TZOFFSETFROM:+0200
TZOFFSETTO:+0100
TZNAME:CET
DTSTART:20151025T010000
END:STANDARD
BEGIN:DAYLIGHT
TZOFFSETFROM:+0100
TZOFFSETTO:+0200
TZNAME:CEST
DTSTART:20160327T010000
END:DAYLIGHT
BEGIN:STANDARD
TZOFFSETFROM:+0200
TZOFFSETTO:+0100
TZNAME:CET
DTSTART:20161030T010000
END:STANDARD
BEGIN:DAYLIGHT
TZOFFSETFROM:+0100
TZOFFSETTO:+0200
TZNAME:CEST
DTSTART:20170326T010000
END:DAYLIGHT
BEGIN:STANDARD
TZOFFSETFROM:+0200
TZOFFSETTO:+0100
TZNAME:CET
DTSTART:20171029T010000
END:STANDARD
END:VTIMEZONE
BEGIN:VEVENT
DTSTART;TZID=Europe/Paris:20161004T080000
DTEND;TZID=Europe/Paris:20161006T170000
DTSTAMP:20260422T224047
CREATED:20160926T074351Z
LAST-MODIFIED:20160926T074351Z
UID:44025-1475568000-1475773200@www.safecluster.com
SUMMARY:Préventica 2016
DESCRIPTION:La prochaine édition du salon Préventica « sécurité/sûreté » se déroulera du 4 au 6 octobre à Rennes.\nRetrouvez le programme complet des conférences en cliquant ici\nPour participer au salon\, cliquez ici\nInfos pratiques disponibles en cliquant ici
URL:https://www.safecluster.com/evenement/preventica-2016/
CATEGORIES:Salon
ATTACH;FMTTYPE=:
END:VEVENT
BEGIN:VEVENT
DTSTART;TZID=Europe/Paris:20161010T080000
DTEND;TZID=Europe/Paris:20161012T170000
DTSTAMP:20260422T224047
CREATED:20160929T075129Z
LAST-MODIFIED:20160929T075129Z
UID:44031-1476086400-1476291600@www.safecluster.com
SUMMARY:Workshop "innovation pour la lutte contre les incendies et le secours"
DESCRIPTION:Le Ministère des Affaires Etrangères et le Ministère de l’Intérieur (DGSCGC) organisent un workshop « innovation pour la lutte contre les incendies et le secours » du 10 au 12 octobre 2016 à Singapour.\nRassemblant des experts sapeurs-pompiers de chacun des pays de l’ASEAN\, ainsi que Taiwan\, Hong-Kong\, l’Australie et la Nouvelle-Zélande\, ce séminaire aura vocation à présenter les dernières innovation « made in France » et de débattre des nouveaux défis et nouveaux enjeux.\nLes compétences des adhérents de SAFE y seront représentées par l’officier Christophe Frerson qui animera le workshop.\n+ d’inos : jean-michel.dumaz@safecluster.com
URL:https://www.safecluster.com/evenement/workshop-innovation-pour-la-lutte-contre-les-incendies-et-le-secours/
LOCATION:Singapour
CATEGORIES:Innovation & Open Innovation
END:VEVENT
BEGIN:VEVENT
DTSTART;TZID=Europe/Paris:20161010T080000
DTEND;TZID=Europe/Paris:20161014T170000
DTSTAMP:20260422T224047
CREATED:20160701T075023Z
LAST-MODIFIED:20160701T075023Z
UID:44007-1476086400-1476464400@www.safecluster.com
SUMMARY:Mission Aéronautique à l’occasion de Japan Aerospace Exhibition 2016
DESCRIPTION:Suite à la mission export menée en 2015 et à l’occasion du Japan International Aerospace Exhibition organisé tous les 4 ans et qui incarne le rendez-vous de référence des acteurs mondiaux de l’aéronautique au Japon\, SAFE Cluster\, en partenariat avec les pôles Aerospace Valley et Astech\, la DGE et Business France organise une mission partenariale internationale. \n\nApsys\, Beam\, Excamed\, Prismadd/ACG Aviation et Silkan\, adhérents du Pôle SAFE\, y participent. \n\nA noter quelques moments forts du programme : \n\nun séminaire technique présentant l’offre française sur le salon à Tokyo ;\nun atelier institutionnel avec les pôles de compétitivité\, le GIFAS\, le METI\, la JAXA\, C-Astech\, potentiels investisseurs japonais… (nombreux acteurs japonais) ;\ndes RdV collectifs avec Kawasaki Heavy Industry\, Tenryu Aero Component et Mitsubishi Heavy Industry\ndes RdV B2B personnalisés pour chacune des entreprises participantes\n\n \nContact SAFE Cluster : juliette.mallez@safecluster.com\n 
URL:https://www.safecluster.com/evenement/participez-a-la-mission-japon/
ATTACH;FMTTYPE=:
END:VEVENT
BEGIN:VEVENT
DTSTART;TZID=Europe/Paris:20161011T090000
DTEND;TZID=Europe/Paris:20161011T120000
DTSTAMP:20260422T224047
CREATED:20160429T120631Z
LAST-MODIFIED:20160429T120631Z
UID:43986-1476176400-1476187200@www.safecluster.com
SUMMARY:Petit déjeuner EUREKA Eurostars & Euripides 2
DESCRIPTION:Dans le cadre de ses petits déjeuners Innovation\, SAFE Cluster organise le mardi 11 octobre prochain dans ses locaux\, une présentation des opportunités de financement de projets européens\, avec des taux de sélection plus élevés que le programme H2020\, EUROSTARS & EURIPIDES2 du Programme Eureka.\nProgramme de la matinée\n9:00 : Accueil café\n9:30 -10:30 : Présentation des dispositifs EUROSTARS\, et EURIPIDES2\, par Rémy Renaudin\, Operation Manager EURIPIDES2\, suivie des questions réponses avec la salle\n10:30-13:00 : Possibilité de rendez-vous de 20 minutes\, avec les chargés de mission de SAFE et avec l’Operation Manager d’EURIPIDES2 afin d’échanger sur vos idées de projets (attention\, nombre de places limités)\nInscription gratuite et obligatoire en cliquant ici\nPour en savoir plus\, n’hésitez pas à contacter Alice Clémenceau\, Chargée de mission Innovation – Europe – Projet Driver alice.clemenceau@safecluster.com\n——————————–\nA propos d’EUROSTARS\nProgramme\, élaboré par EUREKA et la Commission Européenne\, destiné à soutenir prioritairement les PME innovantes\, à fort potentiel de croissance\, engagées dans des projets collaboratifs. Deux appels à projets sont lancés chaque année pour des Projets de Recherche\, Développement et Innovation collaboratifs\, toutes thématiques\, visant un procédé\, produit ou service innovant commercialisable\, dont la phase de développement est de trois ans maximum\, et dont la commercialisation intervient dans les deux ans qui suivent la fin du projet.\nSont éligibles\, les entreprises innovantes de moins de 2 000 salariés\, ainsi que les partenaires académiques. Chaque partenaire des projets lauréats est financé par son financeur national (en France\, par Bpifrance) en subvention\, selon les taux suivants :\n– 40 % des dépenses éligibles pour les PME « Eurostars »\n– 30 % des dépenses éligibles pour les entreprises jusqu’à 2 000 personnes ne satisfaisant pas à ces critères\n– 40 % des coûts complets plafonnés à 100 000 euros pour les laboratoires et universités.\nCritères d’éligibilité des projets\nau moins deux partenaires venant de deux pays membres d’Eurostars\,\ndurée de réalisation inférieure à 3 ans suivie d’une commercialisation intervenant moins de 2 ans après la fin du projet\,\nProjet ayant pour leader une PME\nLa (ou les) PME doit/doivent supporter au minimum 50 % des coûts du projet (hors coûts de sous-traitance)\nDate du prochain appel :  15 septembre 2016\n——————————–\nA propos d’EURIPIDES2\nA l’intérieur du programme EUREKA\, le cluster Euripides2 est dédié à l’électronique professionnelle\, aux systèmes électroniques «intelligents» et à l’usine de production électronique du futur. EURIPIDES2 lance deux appels à projets par an au printemps et à l’automne. Ils portent sur des projets de R&D coopératifs entre entreprises et laboratoires publics européens\, visant à lever des verrous technologiques ambitieux. Les projets doivent avoir au minimum deux partenaires venant de deux pays membres d’EUREKA. Les projets doivent être proches du marché\, c’est-à-dire conduisant à l’industrialisation de prototypes (TRL 3 à 6)\, et mettre l’accent sur l’intégration des produits électroniques hétérogènes\, les capteurs intelligents\, l’électronique de puissance\, ainsi que sur les systèmes implantés.\nChaque partenaire des projets lauréats est financé par son financeur national (en France\, par Bpifrance) en subvention\, selon les taux suivants :\n– 45 % des dépenses éligibles pour les PME si le projet est labellisé par un POLE\, sinon 30%\n– ETI : 30%\n– Grand groupe : 25%\n– Organisme de Recherche : 40% ou 100% des coûts marginaux\nDates du prochain appel (procédure en 2 étapes) :  22 septembre 2016 : Avant-projet (Project Outline); 1er décembre 2016: Proposition complète (Full Project Proposal)
URL:https://www.safecluster.com/evenement/petit-dejeuner-eureka-eurostars-euripides2/
LOCATION:SAFE Cluster\, Pôle de compétitivité Safe Cluster - Avenue Louis Philibert\, Aix-en-Provence\, 13290\, France
CATEGORIES:Innovation & Open Innovation
ATTACH;FMTTYPE=:
END:VEVENT
BEGIN:VEVENT
DTSTART;TZID=Europe/Paris:20161011T090000
DTEND;TZID=Europe/Paris:20161011T124500
DTSTAMP:20260422T224047
CREATED:20160922T114958Z
LAST-MODIFIED:20160922T114958Z
UID:44023-1476176400-1476189900@www.safecluster.com
SUMMARY:H2020 : journée nationale d'information "Espace"
DESCRIPTION:Le Point de Contact National (PCN) Espace Horizon 2020 organise une journée nationale d’information à Paris au siège du CNES (Centre National d’Etudes Spatiales)\, le 11 octobre 2016 de 9h00 à 12h45.\nLes temps forts de la journée : \n\nle bilan des appels Espace 2016 ;\nla présentation du Programme de Travail Espace 2017 ;\nune information préliminaire sur le Programme de Travail 2018-2020 ;\nle retour d’expérience d’un expert évaluateur.\n\nDes entretiens individuels sont également proposés\, uniquement sur rendez-vous.\nProgramme détaillé de la journée disponible ICI\nInscriptions gratuites et possibles jusqu’au 3 octobre inclus. Je m’inscris en cliquant ici\nContact SAFE Cluster : loic.chanvillard@safecluster.com
URL:https://www.safecluster.com/evenement/h2020-journee-nationale-dinformation-espace/
CATEGORIES:Filière
ATTACH;FMTTYPE=:
END:VEVENT
BEGIN:VEVENT
DTSTART;TZID=Europe/Paris:20161012T080000
DTEND;TZID=Europe/Paris:20161013T170000
DTSTAMP:20260422T224047
CREATED:20160922T134818Z
LAST-MODIFIED:20160922T134818Z
UID:44024-1476259200-1476378000@www.safecluster.com
SUMMARY:4ème édition de l'UAV Show
DESCRIPTION:Bordeaux Technowest organise les 12 & 13 Octobre prochains\, la quatrième édition de l’UAV SHOW\, 1er salon européen dédié aux drones civils et unique salon en Europe à opérer des démonstrations outdoor avec application métiers !\nSAFE Cluster et le réseau Provence RPAS vous donnent donc rendez-vous nombreux au Pavillon du Pin Galant à Mérignac (33) aux côtés de DCI\, Elistair\, USC2 et ASD.\nLe salon en bref :\n· 70 sociétés exposantes\n· 20 délégations étrangères présentes\n· 2 000 visiteurs attendus\n· Grands donneurs présents : SNCF – ENGIE – Dassault Aviation – Enedis – Thales – Bouygues Telecom – Zodiac\n· Opérateurs présents : Delair Tech – Pilgrim – SkEyeTech – Flying Eye – Airing – Xamen …\n12 démonstrations outdoor avec application métiers programmées : SNCF – ENGIE – Delair Tech – Athenium Films …\n· Démonstrations commentées par Frédéric Beniada\, journaliste à France Info et France Inter\, présentateur officiel des meetings de l’Armée de l’air\n 4 thématiques traitées : \n\n1.Les applications et le marché français des drones civils\n2. Réglementation\, normalisations nationale et internationale\n3. Support et services au développement – Business international – Export\n4. Technologie\, innovation\, recherche et essais\n\n30 conférenciers de haut niveau\n· Tables rondes animées par Gil Roy\, fondateur et rédacteur en chef d’Aérobuzz.fr\, site d’information aéronautique en continu.\nPlus d’infos sur le salon en cliquant ici\nContact SAFE Cluster : hubert.berenger@safecluster.com
URL:https://www.safecluster.com/evenement/4eme-edition-de-luav-show/
CATEGORIES:Salon
ATTACH;FMTTYPE=:
END:VEVENT
BEGIN:VEVENT
DTSTART;TZID=Europe/Paris:20161013T080000
DTEND;TZID=Europe/Paris:20161013T170000
DTSTAMP:20260422T224047
CREATED:20160713T073711Z
LAST-MODIFIED:20160713T073711Z
UID:44010-1476345600-1476378000@www.safecluster.com
SUMMARY:1ère édition Forum emploi "défense\, sécurité et innovation"
DESCRIPTION:Notez dès à présent le prochain forum Emploi qui se déroulera le jeudi 13 octobre à Marignane. Ce forum sera axé sur les thématiques de la sécurité de la défense et de l’innovation et est mené dans le cadre du partenariat de SAFE Cluster avec la Direction Régionale pole emploi à l’Espace Saint Exupéry à Marignane.\nLe programme détaillé de l’événement sera prochainement disponible.\nVous souhaitez participer à l’événement ? Merci de nous retourner le coupon réponse téléchargeable ici\nContact et + d’infos : elvira.caspers@safecluster.com
URL:https://www.safecluster.com/evenement/forum-emploi-securite-defense/
LOCATION:espace Espace Saint Exupéry\, 53 Avenue Jean Mermoz\, Marignane\, 13700
CATEGORIES:Filière
ATTACH;FMTTYPE=:
END:VEVENT
BEGIN:VEVENT
DTSTART;TZID=Europe/Paris:20161014T090000
DTEND;TZID=Europe/Paris:20161014T160000
DTSTAMP:20260422T224047
CREATED:20161005T111341Z
LAST-MODIFIED:20161005T111341Z
UID:44036-1476435600-1476460800@www.safecluster.com
SUMMARY:Barcamp "Prévention des risques naturels"
DESCRIPTION:En prévision du Hackathon #Hackrisques qui se déroulera mi-novembre\, le Ministère organise une grande journée de réflexion collaborative le vendredi 14 octobre à Paris. Objectif : inventer les outils et services de demain pour mieux nous protéger des risques naturels.\nVenez échanger avec chercheurs\, ONG\, associations\, citoyens\, sociologues\, startupers… pour identifier les enjeux et commencer à imaginer des solutions afin de mieux prévenir et gérer les risques naturels.\nPour participer\, inscrivez-vous ICI\nContact pour plus d’infos : guillaume.riou@safecluster.com / hackathon-risques@developpement-durable.gouv.fr
URL:https://www.safecluster.com/evenement/barcamp-prevention-des-risques-naturels/
CATEGORIES:Filière
ATTACH;FMTTYPE=:
END:VEVENT
BEGIN:VEVENT
DTSTART;TZID=Europe/Paris:20161017T080000
DTEND;TZID=Europe/Paris:20161021T170000
DTSTAMP:20260422T224047
CREATED:20160421T080851Z
LAST-MODIFIED:20160421T080851Z
UID:43979-1476691200-1477069200@www.safecluster.com
SUMMARY:3ème édition de FLOODrisk : 12 adhérents y exposent !
DESCRIPTION:SAFE est partenaire de la 3ème conférence autour du management du risque inondation qui se déroulera à Lyon du 17 au 21 octobre prochain et vous invite à y participer !\nSuite aux deux précédentes éditions réussies déroulées au Royaume Uni et aux Pays Bas et suite à la mise en application de la directive européenne en matière d’inondation\, Floodrisk incarne le rendez-vous incontournable des chercheurs\, décideurs et utilisateurs finaux de solutions en matière de gestion du risque inondation.\nLe Pôle accompagne cette année 12 adhérents du réseau SAFE. Venez les retrouver nombreux ! \n\nArbeauSolutions\nCedralis\nComatis\nGedicom\nGeophyconsult\nGTS\nNovimet\nParatronic\nPredict Services\nSynapse\nTenevia\nWeather Measures\n\nDécouvrez le programme détaillé en cliquant ici\nVous souhaitez participer à l’événement ? Cliquez ici\nContact SAFE Cluster : guillaume.riou@safecluster.com
URL:https://www.safecluster.com/evenement/3eme-conference-europeenne-sur-le-risque-inondation/
LOCATION:Centre de Congrès de Lyon\, 50 Quai Charles de Gaulle \, Lyon
CATEGORIES:Filière
ATTACH;FMTTYPE=:
END:VEVENT
BEGIN:VEVENT
DTSTART;TZID=Europe/Paris:20161019T143000
DTEND;TZID=Europe/Paris:20161019T180000
DTSTAMP:20260422T224047
CREATED:20161007T085510Z
LAST-MODIFIED:20161007T085510Z
UID:44038-1476887400-1476900000@www.safecluster.com
SUMMARY:Présentation des dispositifs Programme d'Investissements d'Avenir (IDEX)
DESCRIPTION:L’Université Côte d’Azur vous invite à participer à la présentation des dispositifs et modalités de collaboration Universités-Entreprises mis en œuvre dans le cadre du programme d’Investissements d’Avenir (IDEX)\, le 19 octobre 2016 à partir de 14h30 sur le site de l’Aéroport Nice Côte d’Azur Business centre.\nCet après-midi se déroulera en 2 temps : \n\nPrésentation du mode d’emploi des instruments proposés pour la R&D collaborative\nLes entreprises exprimeront ensuite leurs attentes de l’IDEX en matière de thématiques scientifiques\, formation et services attendus.\n\nL’inscription est gratuite et obligatoire en cliquant ici\nContact et plus d’infos ICI
URL:https://www.safecluster.com/evenement/uca-initiative-dexcellence-mode-demploi/
LOCATION:Aéroport Nice Côte d’Azur\, business centre - Terminal 1\, Nice
CATEGORIES:Innovation & Open Innovation
ATTACH;FMTTYPE=:
END:VEVENT
BEGIN:VEVENT
DTSTART;TZID=Europe/Paris:20161020T080000
DTEND;TZID=Europe/Paris:20161020T180000
DTSTAMP:20260422T224047
CREATED:20161004T074530Z
LAST-MODIFIED:20161004T074530Z
UID:44034-1476950400-1476986400@www.safecluster.com
SUMMARY:Opportunité export : Destination Roumanie
DESCRIPTION:Vous souhaitez développer votre business à l’export ? SAFE Cluster vous accompagne et vous emmène en Roumanie sur les terres de la nouvelle usine d’Airbus Helicopters inauguré récemment.\nNous vous proposons de participer à l’atelier « Travailler avec Airbus Helicopters Roumanie »\, jeudi 20 octobre prochain\, organisé en partenariat avec Business France et la CCIFER (CCI française de Roumanie).\nUn potentiel local important !\n-La société IAR créée en 1925 emploie 1 200 personnes pour la fabrication et modernisation des appareils (avions & hélicoptères) civils & militaires\,\n-Airbus Helicopters Roumanie va produire localement l’hélicoptère H215 avec plus de 300 employés et recherche actuellement des fournisseurs pour ses activités de production\,\n-Les sous-traitants de rang « 1 » des industriels ci-dessus…\nSAFE en contact direct avec :\n-Le Secrétaire d’Etat en charge de l’Industrie\,\n-Le Directeur Général d’Airbus Helicopters Roumanie\,\n-Le Responsable des offsets pour le Gouvernement Roumain\,\n-Le Directeur Exécutif du Groupement des Industries de Défense roumaines\,\n-Le Vice-Président\, Stratégie Business Développement d’UTI Group.\n2 options vous sont proposées pour introduire ce marché :\n1/ -Accompagner l’équipe SAFE qui se rendra sur place du 19 au 21 octobre \n-Participation à l’atelier Travailler avec Airbus Helicopters Roumanie\n-Assurance de rencontrer des représentants d’Airbus Helicopters et d’IAR (mise en relation)\nCoût = 220 € HT (380€ HT pour les non adhérents) – frais de déplacements et de logement restant à votre charge\n2/ -Vous faire représenter par SAFE Cluster\n-SAFE présentera sur place votre société\, sous forme de films\, présentations « Powerpoint » et brochures que vous nous fournirez ;\n-Un compte-rendu sur les entretiens avec les représentants d’Airbus Helicopters vous sera remis\, avec une estimation du potentiel commercial \, des délais et des actions à venir.\nCoût = 400 € HT (700€ HT pour les non adhérents)\nVous êtes intéressés ? Faites le savoir en renvoyant le bon d’engagement à : international@safecluster.com\nContact SAFE Cluster : Juliette Mallez – juliette.mallez@safecluster.com\nL’enquête internationale de SAFE est encore ouverte ! Cette enquête nous permettra de mieux cibler vos besoins à l’export. N’hésitez pas à y répondre en cliquant ici
URL:https://www.safecluster.com/evenement/opportunite-export-destination-roumanie/
LOCATION:Airbus Helicopters Roumanie\, Strada Hermann Oberth 32\, 507075
ATTACH;FMTTYPE=:
END:VEVENT
BEGIN:VEVENT
DTSTART;VALUE=DATE:20161025
DTEND;VALUE=DATE:20161028
DTSTAMP:20260422T224047
CREATED:20160427T060421Z
LAST-MODIFIED:20160427T060421Z
UID:43983-1477353600-1477612799@www.safecluster.com
SUMMARY:AIRTEC 2016
DESCRIPTION:AIRTEC est un Salon international combiné avec des réunions d’affaires et un Congrès international. Le Salon\, les réunions B2B et le Congrès sont très bien connectés entre eux\, et de haute qualité. Les réunions B2B\, le cœur d’AIRTEC\, sont pré-organisées de manière efficace via une plateforme en ligne de rapprochement d’entreprises durant six semaines avant l’évènement\, et les réunions ont lieu directement aux\nstands des exposants\, dans une atmosphère professionnelle et conviviale.\nPour en savoir plus sur l’offre exclusive pour les entreprises de SAFE Cluster pour exposer dans le Pavillon France à AIRTEC 2016\, cliquez ici\nhttp://airtec.aero/\n 
URL:https://www.safecluster.com/evenement/airtec-2016/
LOCATION:Lieu sans nom\, Munich\, Allemagne
CATEGORIES:Salon
ATTACH;FMTTYPE=:
END:VEVENT
BEGIN:VEVENT
DTSTART;TZID=Europe/Paris:20161031T080000
DTEND;TZID=Europe/Paris:20161031T170000
DTSTAMP:20260422T224047
CREATED:20160929T080114Z
LAST-MODIFIED:20160929T080114Z
UID:44032-1477900800-1477933200@www.safecluster.com
SUMMARY:Convention NAFAN
DESCRIPTION:La seconde édition de la convention NAFAN (North American French Aerospace Network) se déroulera à Orlando\, le 31 octobre prochain\, à la veille de l’ouverture du salon NBAA du 1er au 3 novembre 2016.\nLes membres de cette convention se retrouveront pour une journée d’échanges comprenant : \n\npanels de discussions consacrés à l’implantation en Amérique du Nord (M&A / croissance organique) avec la participation de dirigeants de PME françaises déjà implantées\, accompagnés d’experts (financiers\, légaux\, RH\, M&A);\nrendez-vous BtoB : membres NAFAN (Airbus\, Airbus Helicopters\, Safran\, Thales\, Hutchinson\, Zodiac…)\, experts financiers\, avocats d’affaires\, agences de développement économique\, spécialistes RH ;\nmoments de réseautage en présence d’industriels nord américains & sud américains.\n\n> Consultez le programme détaillé en en cliquant ici\n> Inscrivez-vous à l’événement en renvoyant le formulaire d’inscription à l’adresse suivante : pierre.canitrot@gifas.fr
URL:https://www.safecluster.com/evenement/convention-nafan/
ATTACH;FMTTYPE=:
END:VEVENT
END:VCALENDAR