BEGIN:VCALENDAR
VERSION:2.0
PRODID:-//Pôle SAFE - ECPv6.15.20//NONSGML v1.0//EN
CALSCALE:GREGORIAN
METHOD:PUBLISH
X-ORIGINAL-URL:https://www.safecluster.com
X-WR-CALDESC:Évènements pour Pôle SAFE
REFRESH-INTERVAL;VALUE=DURATION:PT1H
X-Robots-Tag:noindex
X-PUBLISHED-TTL:PT1H
BEGIN:VTIMEZONE
TZID:Europe/Paris
BEGIN:DAYLIGHT
TZOFFSETFROM:+0100
TZOFFSETTO:+0200
TZNAME:CEST
DTSTART:20150329T010000
END:DAYLIGHT
BEGIN:STANDARD
TZOFFSETFROM:+0200
TZOFFSETTO:+0100
TZNAME:CET
DTSTART:20151025T010000
END:STANDARD
BEGIN:DAYLIGHT
TZOFFSETFROM:+0100
TZOFFSETTO:+0200
TZNAME:CEST
DTSTART:20160327T010000
END:DAYLIGHT
BEGIN:STANDARD
TZOFFSETFROM:+0200
TZOFFSETTO:+0100
TZNAME:CET
DTSTART:20161030T010000
END:STANDARD
BEGIN:DAYLIGHT
TZOFFSETFROM:+0100
TZOFFSETTO:+0200
TZNAME:CEST
DTSTART:20170326T010000
END:DAYLIGHT
BEGIN:STANDARD
TZOFFSETFROM:+0200
TZOFFSETTO:+0100
TZNAME:CET
DTSTART:20171029T010000
END:STANDARD
END:VTIMEZONE
BEGIN:VEVENT
DTSTART;TZID=Europe/Paris:20161103T090000
DTEND;TZID=Europe/Paris:20161104T170000
DTSTAMP:20260422T214545
CREATED:20160218T104225Z
LAST-MODIFIED:20160218T104225Z
UID:43955-1478163600-1478278800@www.safecluster.com
SUMMARY:Les journées professionnelles de l'ENSOSP
DESCRIPTION:Retenez dès à présent la date !\nSAFE Cluster vous informe des Journées professionnelles de l’ENSOSP les 3 et 4 novembre 2016 autour du thème « Japon 2011: du grand séisme de Tohoku à l’accident de Fukushima\, retour et prospective sur la gestion d’une catastrophe multiforme.\n+ d’infos sur www.ensosp.fr
URL:https://www.safecluster.com/evenement/les-journees-professionnelles-de-lensosp/
LOCATION:ENSOSP\, 1070 Rue du Lieutenant Parayre\, aix en provence\, 13290
CATEGORIES:Filière
ATTACH;FMTTYPE=:
ORGANIZER;CN="ENSOSP":MAILTO:Wilfried.STEFIC@ensosp.fr
END:VEVENT
BEGIN:VEVENT
DTSTART;TZID=Europe/Paris:20161104T090000
DTEND;TZID=Europe/Paris:20161104T130000
DTSTAMP:20260422T214545
CREATED:20160929T060502Z
LAST-MODIFIED:20160929T060502Z
UID:44029-1478250000-1478264400@www.safecluster.com
SUMMARY:Rencontres Stag'Export
DESCRIPTION:La CCI International Provence-Alpes-Côte d-Azur organise des Rencontres Stag’Export\, dont l’objectif est de faciliter la mise en relation entre les entreprises qui se développent à l’international et les étudiants en recherche de stages export\, en utilisant les réseaux des universités ou des écoles spécialisées de la région PACA).\nContenu de la prestation : \n\n\n\n\n\n\nL’organisation sur une demie-journée de programme de rdv individuels d’une durée de 20 minutes environ entre le dirigeant et l’étudiant par CCI International Paca sur le territoire concerné de l’événement.\nUn suivi auprès des entreprises pour évaluer l’impact et proposer des actions complémentaires.\n\n\n\n\n\n\nDates\, lieux et contacts \n\nle 4 novembre 2016 (9h à 13h) à la CCI du Pays d’Arles\nAvenue de la 1èreDivision France Libre –13200 ARLES\nVotre contact: celine.geraci@paca.cci.fr\nle 22 novembre 2016 (9h à 13h) à la CCI Vaucluse\n46\, cours Jean Jaurès -84 000 AVIGNON\nVotre contact: stephanie.cornet-ferec@paca.cci.fr\nle 8 décembre 2016 (13h30 à 17h30) à la CCI Vaucluse\nCampus de la Grande Tourrache-450 avenue François Arago -83130 LA GARDE\nVotre contact : xavier.grimaldi@paca.cci.fr\n\n \nPour plus d’information\, téléchargez ici la plaquette et formulaire d’inscription
URL:https://www.safecluster.com/evenement/rencontres-stagexport/
CATEGORIES:Réseau
ATTACH;FMTTYPE=:
END:VEVENT
BEGIN:VEVENT
DTSTART;TZID=Europe/Paris:20161107T080000
DTEND;TZID=Europe/Paris:20161109T170000
DTSTAMP:20260422T214545
CREATED:20161104T150039Z
LAST-MODIFIED:20161104T150039Z
UID:44046-1478505600-1478710800@www.safecluster.com
SUMMARY:Expoprotection\, le salon de la prévention et de la gestion des risques
DESCRIPTION:Tous les deux ans à Paris\, Expoprotection rassemble les meilleurs spécialistes internationaux\, les équipements et solutions les plus innovants de la prévention et de la gestion des risques.\nRendez-vous pour 3 jours de Networking\, conférences et innovations autour des 2 univers complémentaires :\n– les Risques professionnels\, naturels & industriels \n– les Risques malveillance & incendie\n\n\nLes adhérents SAFE y participent !\n\nGaston Mille\nGroupe Leader\nSTID\nNovitact\nPaul Boyé\nPixiel
URL:https://www.safecluster.com/evenement/expoprotection-le-salon-de-la-prevention-et-de-la-gestion-des-risques/
LOCATION:Porte de Versailles\, Paris
CATEGORIES:Salon
ATTACH;FMTTYPE=:
END:VEVENT
BEGIN:VEVENT
DTSTART;TZID=Europe/Paris:20161107T080000
DTEND;TZID=Europe/Paris:20161110T170000
DTSTAMP:20260422T214545
CREATED:20161007T140339Z
LAST-MODIFIED:20161007T140339Z
UID:44039-1478505600-1478797200@www.safecluster.com
SUMMARY:Opportunité export : destination Mexique
DESCRIPTION:Vous souhaitez développer votre business à l’export ? Le Mexique est un de vos pays cibles ?\nSAFE Cluster vous informe d’une opportunité orientée Sécurité !\nParticipez au Colloque Sécurité « sécurité et protection des sites sensibles : Sécurité Publique – Sécurité Civile – Surveillance des sites sensibles » qui se tiendra au MEXIQUE (ville de Mexico et Guanajuato) du 7 au 10 novembre 2016 organisé en partenariat avec Business France.\n> Un potentiel local important ! Consultez la fiche marché « la sécurité au Mexique » en cliquant ici \n\nSécurité du citoyen / Sécurité civile\n– Surveillance/ Communications : solutions de contrôle d’accès\, alarmes\, périmétrage\, équipements de vision nocturne et de protection personnelle et industrielle\, caméras infrarouges\, systèmes de vidéosurveillance et d’anti-intrusion\, centres de contrôle et de surveillance globale à l’image du C5 (Thalès) de la ville de Mexico devenu une référence mondiale.\n– Renforcement de la protection civile : Plan MX pour améliorer la coordination des secours en cas de catastrophe.\n– Mobilité : véhicules blindés de transport ; véhicules blindés avec containers logistiques\, logements de secours\, tentes fonctionnelles ; équipements mobiles pour la localisation et identification de plaques d’immatriculation ; équipements mobiles de numérisation; véhicules hybrides.\n– Armement : munitions ; fusils électro-optiques de précision; protection balistique; armement non létal; uniformes de campagnes avec couverture anti-feu\, acide et coupure.\n– Communications : interception\, collecte et traitement de voix et des données\, communications mobiles\, dispositifs de géolocalisation des équipements et du personnel\, gestion des inventaires\, systèmes satellites et GPS.\nProtection des infrastructures critiques et réseaux\n– Formation du personnel de sécurité.\n– Sûreté physique des sites : de sa conception à son exploitation et son développement\, en passant par sa construction et son maintien en condition opérationnelle.\n– Surveillance aérienne : drones\, imageries nocturne et thermique\, satellites.\n\n2 options vous sont proposées par notre partenaire Business France pour attaquer ce marché ! Plaquette disponible en cliquant ici\n1/ Participer au colloque + bénéficier d’un programme de RV personnalisé  Coût = 2100 € HT : Je participe et renseigne le bon de participation ICI\n2/ Participer au colloque uniquement (si vous avez déjà un contact sur place)  Coût = 1050 € HT : Je participe et renseigne le bon de participation ICI \n\nContact Business France : Andrea Tiburcio – andrea.tiburcio@businessfrance.fr\nContact SAFE Cluster : Juliette Mallez – juliette.mallez@safecluster.com
URL:https://www.safecluster.com/evenement/opportunite-export-destination-mexique/
ATTACH;FMTTYPE=:
END:VEVENT
BEGIN:VEVENT
DTSTART;TZID=Europe/Paris:20161108T090000
DTEND;TZID=Europe/Paris:20161110T170000
DTSTAMP:20260422T214545
CREATED:20160922T074311Z
LAST-MODIFIED:20160922T074311Z
UID:44022-1478595600-1478797200@www.safecluster.com
SUMMARY:Formation Stratégie DRONE
DESCRIPTION:Le groupe DCI et SAFE Cluster\, en partenariat avec le CED-Armée de l’Air\, organisent une formation Stratégie Drone les 8\, 9 et 10 novembre 2016 à Salon de Provence.\nOBJECTIFS ET ENJEUX DE LA FORMATION\nLe drone est aujourd’hui reconnu comme étant un outil efficace \, tant sur le plan militaire que civil. Son emploi s’entoure de questions techniques\, éthiques\, économiques\, sociales\, réglementaires et juridiques. L’objectif de la formation est d’amener les stagiaires à un niveau d’acculturation\npermettant d’avoir une vision stratégique du domaine du DRONE.\nPUBLIC CIBLE\nCette formation est destinée à tous ceux souhaitant ou ayant besoin d’en connaitre dans le domaine du DRONE pour structurer leurs projets de développement.\nPRINCIPES RETENUS\n• 3 journées de formation sur la base aérienne de Salon de Provence.\n• Intervenants : enseignants chercheurs et experts du domaine.\n• Attribution de certificats de formation aux stagiaires.\nMontant de la formation : 650 € HT. Pour les PME et ETI adhérentes du pôle : 500 € HT.\nCette formation est éligible à certaines aides.\nProgramme disponible en cliquant ici \nCliquez ici pour vous inscrire avant le 20 octobre 2016. Attention\, l’accès à la base étant réglementé\, merci de vous munir d’une pièce d’identité.\n \nPour toute demande complémentaire\, contactez Christine Ando
URL:https://www.safecluster.com/evenement/formation-strategie-drone/
LOCATION:Base aérienne 701\, 13661 Salon-de-Provence Air\, Salon-de-Provence
CATEGORIES:Filière
ATTACH;FMTTYPE=:
ORGANIZER;CN="SAFE CLUSTER":MAILTO:infos@safecluster.com
END:VEVENT
BEGIN:VEVENT
DTSTART;VALUE=DATE:20161110
DTEND;VALUE=DATE:20161111
DTSTAMP:20260422T214545
CREATED:20161006T125757Z
LAST-MODIFIED:20161006T125757Z
UID:44037-1478736000-1478822399@www.safecluster.com
SUMMARY:Petit Déjeuner : Positivons sur les risques !
DESCRIPTION:Le CYPRES en partenariat avec la Revue Préventique organisent un petit déjeuner « Positivons sur les risques »\, suivi pourceux qui le souhaitent d’une après-midi de travail\, le jeudi 10 novembre 2016 à l’Infothèque de l’Arbois (Technopole de l’Arbois – Bât Poincaré 2ème étage – avenue Louis Philibert – Aix-en-Provence).\nProgramme\n9h30 Petit Déjeuner :\n– Communication\no Revue Préventique : changement de ligne éditoriale : comment améliorer le contenu ? Distribution des 4 derniers numéros de la revue.\no Utilisation de l’humour pour faire passer les messages de Prévention avec : « Âme & Risc & Péril »\n– Formation\no La résilience : Comment transformer une contrainte en action positive ?\nIntervenants : Didier Raciné (Revue Préventique)\, Stéphane Bouissou (happy&secÜre et Gie Qualité Entreprise Sud Est) Michel Sacher (CYPRES)\nPause déjeuner offerte par l’IMC pour ceux restant au groupe de travail de l’après-midi\nAprès-midi : Atelier : refonte de l’ouvrage sur l’Introduction au management de crise édité en 2010 par l’IMC (Institut Méditerranéen des Cindyniques). Les participants seront répartis en 6 thématiques :\n– Feu de forêt\n– Inondation\n– Séisme\n– Nucléaire\n– Transport de matières dangereuses\n– Risque chimique\nAttention le nombre de places étant limité merci de bien vouloir vous inscrire auprès d’Elodie PAYA – documentation@cypres.org ou 04 42 52 58 89
URL:https://www.safecluster.com/evenement/petit-dejeuner-positivons-sur-les-risques/
LOCATION:TECHNOPÔLE DE L’ENVIRONNEMENT\, Domaine du Petit Arbois \, Aix en Provence
CATEGORIES:Filière
ATTACH;FMTTYPE=:
END:VEVENT
BEGIN:VEVENT
DTSTART;TZID=Europe/Paris:20161110T090000
DTEND;TZID=Europe/Paris:20161110T130000
DTSTAMP:20260422T214545
CREATED:20161108T152147Z
LAST-MODIFIED:20161108T152147Z
UID:44048-1478768400-1478782800@www.safecluster.com
SUMMARY:Réunion d'échanges appel à projet "PIAVE sécurité"
DESCRIPTION:Le Conseil des industries de la confiance et de la sécurité (CICS) organise en liaison avec le CoFIS et plusieurs pôles\, dont SAFE Cluster\, une réunion d’information et de préparation autour de l’appel à projet PIAVE sécurité (consulter le cahier des charges ICI\, le jeudi 10 novembre de 9h à 13h à Paris (amphithéâtre Business France). A cette occasion SAFE y participera afin de représenter ses adhérents et promouvoir les projets régionaux défendus par le Pôle.\nProgramme de la matinée : \nInterventions institutionnelles\n> Introduction (CICS)\nObjectifs de la réunion\nPrésentation de l’AAP\nProcessus\nStratégie d’ensemble\n> Présentation des projets par les pilotes\n> Pitch des partenaires potentiels\n> Contacts B2B \nPour information\, l’Appel se clôturera le 12 janvier 2017.\n– Consultez le cahier des charges de l’appel et l’annexe 2.\nPour participer à la matinée : CICS (jroujansky@cics-org.fr)\nContact SAFE : jean-michel.dumaz@safecluster.com
URL:https://www.safecluster.com/evenement/reunion-cics-cofis-de-preparation-du-piave-securite/
LOCATION:Business France\, 77 bd Saint Jacques\, Paris\, 75014
CATEGORIES:Innovation & Open Innovation
ATTACH;FMTTYPE=:
END:VEVENT
BEGIN:VEVENT
DTSTART;TZID=Europe/Paris:20161115T090000
DTEND;TZID=Europe/Paris:20161115T170000
DTSTAMP:20260422T214545
CREATED:20160929T071424Z
LAST-MODIFIED:20160929T071424Z
UID:44030-1479200400-1479229200@www.safecluster.com
SUMMARY:Rendez-vous Pays & Filières : Mexique et Cuba
DESCRIPTION:La CCI International Provence-Alpes-Côte d’Azur organise une journée RV Pays & Filières sur le Mexique et le Cuba le mardi 15 novembre à Marseille\, en présence de Philippe Garcia\, Conseiller Commercial près l’Ambassade deFrance au Mexique\, Directeur Business France Mexique\, Amérique Centrale et Caraïbes.\nPour plus d’information\, téléchargez ici la plaquette d’information / bulletin d’inscription\nContact : Anne-Cécile GAYDON\, Conseiller en développement International\, M.anne-cecile.gaydon@paca.cci.fr
URL:https://www.safecluster.com/evenement/rendez-vous-pays-filieres-mexique-et-cuba/
ATTACH;FMTTYPE=:
END:VEVENT
BEGIN:VEVENT
DTSTART;TZID=Europe/Paris:20161116T100000
DTEND;TZID=Europe/Paris:20161116T130000
DTSTAMP:20260422T214545
CREATED:20161107T151301Z
LAST-MODIFIED:20161107T151301Z
UID:44047-1479290400-1479301200@www.safecluster.com
SUMMARY:Lancement du club régional des acheteurs publics innovants
DESCRIPTION:Cet événement s’inscrit dans le cadre de la semaine publique d’innovation\, initiative nationale qui se tient du 14 au 20 novembre 2016. Cette plénière permettre de jeter les bases de la construction d’un club régional des acheteurs publics innovants\, associant les services de l’Etat\, les collectivités et les opérateurs publics. Ce projet est lancé sur la base des travaux d’un groupe de travail régional associant notamment le Conseil régional\, la Métropole Aix-Marseille-Provence\, la DIRECCTE\, l’Union des Groupements d’Achats Publics (UGAP)\, plusieurs pôles de compétitivité et clusters d’entreprises\, acteurs publics et acteurs du monde économique.\nConfirmez votre participation par email : sgar-club-acheteurs@paca.pref.gouv.fr\nAccueil à partir de 9h30. Munissez vous de votre pièce d’identité et de l’invitation. Téléchargez l’invitation\, l’ordre du jour et le plan d’accès.
URL:https://www.safecluster.com/evenement/lancement-du-club-regional-des-acheteurs-publics-innovants/
CATEGORIES:Filière
END:VEVENT
BEGIN:VEVENT
DTSTART;VALUE=DATE:20161117
DTEND;VALUE=DATE:20161119
DTSTAMP:20260422T214545
CREATED:20160712T081237Z
LAST-MODIFIED:20160712T081237Z
UID:44008-1479340800-1479513599@www.safecluster.com
SUMMARY:FORUM INDUSTRIA
DESCRIPTION:SAFE Cluster renouvelle son partenariat avec le Forum Industria qui se tiendra les 17 et 18 novembre 2016 à Cagnes-sur-mer\, dont la thématique cette année est « l’Industrie du Futur« . Comme les années précédentes\, le pôle SAFE regroupera ses adhérents sous son Pavillon.\nVenez nous retrouver aux côtés d’AG3I\, Dynalya\, Evolutia\, Soditech Ingénierie\, Thales Alenia Space et Technicom.\nLe Forum INDUSTRIA est le Rendez-Vous annuel destiné à développer les relations inter-industrie de proximité\,  mailler les compétences et ainsi faire gagner l’INDUSTRIE territoriale\, dont les objectifs sont : \n\nFaire gagner l’Industrie azuréenne en développant les collaborations territoriales :\nExposer la diversité de l’industrie azuréenne pour promouvoir le « Made in Côte d’Azur » au niveau régional\, national et international\nRéunir en un même lieu Industriels et l’ensemble des acteurs du développement économique afin :\n\nLe Forum INDUSTRIA s’adresse à toutes les entreprises industrielles du territoire azuréen : \n\nPrescripteurs/donneurs d’ordres ; Fournisseurs/sous-traitants ; Jeunes entreprises & entreprises innovantes\nCible : responsables techniques\, de production\, des opérations\, de projets\, des achats\, dirigeants…\n\n \nRetrouvez les membres du Pôle en téléchargeant le plan des exposants\nVisitez le site dédié ici Forum Industria – Infos pratiques – Forum Industria \n\n\n\n\n\n\n\n\n\n\n\n\nCagnes-sur-Mer\n\n\n\n\n\n\n\n\n\n\n\n\n 
URL:https://www.safecluster.com/evenement/forum-industria/
LOCATION:Hippodrome de  la Côte d’Azur\, Cagnes-sur-Mer 
CATEGORIES:Salon
ATTACH;FMTTYPE=:
END:VEVENT
BEGIN:VEVENT
DTSTART;TZID=Europe/Paris:20161118T080000
DTEND;TZID=Europe/Paris:20161118T170000
DTSTAMP:20260422T214545
CREATED:20161024T081521Z
LAST-MODIFIED:20161024T081521Z
UID:44043-1479456000-1479488400@www.safecluster.com
SUMMARY:Matinée d'infos et de réseautage en Cyber-sécurité
DESCRIPTION:Les Points de Contact National Sécurité et TIC\, Systematic\, le pôle Safe\, le pôle SCS\, le pôle TES et INRIA organisent une matinée d’information sur deux sujets dans l’appel sécurité numérique de Horizon 2020.\nL’objectif de cet événement est de permettre aux acteurs concernés de s’informer et de se préparer pour participer aux montages de propositions relatives aux deux sujets concernés.\nLors de cet événement seront présentés : \n\nUn rappel d’Horizon 2020\, le dispositif national d’accompagnement et le rôle du P.C.N. ;\nLes deux sujets concernés et l’état de l’art de leurs domaines ;\nUne séance de présentation des compétences et des idées de projet\, par les participants qui le souhaitent ;\n\n> Programme détaillé ICI> Vous souhaitez y participer ? Cliquez ici> Contact Pôle : jean-michel.dumaz@safecluster.com
URL:https://www.safecluster.com/evenement/matinee-dinfos-et-de-reseautage-en-cyber-securite/
LOCATION:Business France\, 77 bd Saint Jacques\, Paris\, 75014
CATEGORIES:Innovation & Open Innovation
ATTACH;FMTTYPE=:
END:VEVENT
BEGIN:VEVENT
DTSTART;TZID=Europe/Paris:20161118T080000
DTEND;TZID=Europe/Paris:20161120T170000
DTSTAMP:20260422T214545
CREATED:20161005T110456Z
LAST-MODIFIED:20161005T110456Z
UID:44035-1479456000-1479661200@www.safecluster.com
SUMMARY:#HackRisques : prévention des risques naturels
DESCRIPTION:Le hackathon #HackRisques\, imaginé et organisé par le Ministère de l’Environnement\, de l’Énergie et de la Mer\, se tiendra le 18\, 19 et 20 novembre à Paris. Des data sessions et un barcamp (organisé le 14 oct.) viendront enrichir les réflexions en amont.\nInondations\, submersions marines\, orages\, tempêtes\, feux de forêt\, séismes\, cyclones\, éruptions volcaniques… Chaque année ces événements ponctuent l’actualité\, amenant avec eux leurs lots de décès\, de blessés et de destruction de biens collectifs et individuels.\nCette démarche\, qui s’inscrit dans le cadre de la communauté Greentech verte\,vise ainsi à rassembler scientifiques\, organismes publics\, acteurs privés\, citoyens\, associations\, jeunes pousses et étudiants pour une série de rendez-vous dédiés à la prévention des risques naturels.\n=> Programme et inscription en cliquant ici\n=> Vous souhaitez participer en amont à la journée de réflexion collaborative le Barcamp\, le 14 octobre de 9h à 16h à Paris ? Cliquez ici
URL:https://www.safecluster.com/evenement/hackrisques-prevention-des-risques-naturels/
LOCATION:Paris
CATEGORIES:Filière
ATTACH;FMTTYPE=:
END:VEVENT
BEGIN:VEVENT
DTSTART;TZID=Europe/Paris:20161118T090000
DTEND;TZID=Europe/Paris:20161118T103000
DTSTAMP:20260422T214545
CREATED:20161025T124650Z
LAST-MODIFIED:20161025T124650Z
UID:44045-1479459600-1479465000@www.safecluster.com
SUMMARY:Club de l'international de l'APEX
DESCRIPTION:Innovation et export : la bonne équation ! l’APEX vous propose une matinée de conférence et d’échanges autour des sujets de l’innovation et de l’export\, à partir de 9h\, bâtiment Henri Poincaré Technopôle de l’Arbois à Aix-en-Provence.\nEn France\, plus de 98% des entreprises sont des PME… et elles exportent ! Une des clés d’entrée à l’International est l’innovation : selon une étude de BPI France (PME 2011)\, une PME innovante sur deux est présente à l’international. En innovant\, les PME se différencient de leurs concurrents et ouvrent l’accès à des marchés qu’elles n’avaient pas envisagés jusque-là. L’innovation apparaît donc aux yeux de tous comme une condition nécessaire à l’exportation. Découvrez les 14 leviers de l’innovation en PME lors de ces conférences !\nLa société Neia Consulting viendra témoigner lors de cette matinée.
URL:https://www.safecluster.com/evenement/club-de-linternational-de-lapex/
LOCATION:Technopôle arbois méditerranée\, avenue louis philibert bât henri poincaré\, aix en provence
CATEGORIES:Innovation & Open Innovation
ATTACH;FMTTYPE=:
END:VEVENT
BEGIN:VEVENT
DTSTART;TZID=Europe/Paris:20161123T080000
DTEND;TZID=Europe/Paris:20161123T170000
DTSTAMP:20260422T214545
CREATED:20161013T130258Z
LAST-MODIFIED:20161013T130258Z
UID:44042-1479888000-1479920400@www.safecluster.com
SUMMARY:Road-show ESA Bic
DESCRIPTION:SAFE Cluster vous invite à participer au RoadShow ESA-Bic le mercredi 23 novembre 2016 à Sophia Antipolis.\nPlus de détail disponible très prochainement.\nContact et infos : loic.chanvillard@safecluster.com\n 
URL:https://www.safecluster.com/evenement/road-show-esa-bic/
LOCATION:Sophia Antipolis
CATEGORIES:Innovation & Open Innovation
END:VEVENT
BEGIN:VEVENT
DTSTART;TZID=Europe/Paris:20161124T083000
DTEND;TZID=Europe/Paris:20161124T130000
DTSTAMP:20260422T214545
CREATED:20161110T152555Z
LAST-MODIFIED:20161110T152555Z
UID:44049-1479976200-1479992400@www.safecluster.com
SUMMARY:10èmes rencontres CEA-Industrie en région PACA pour l'innovation technologique
DESCRIPTION:Après 9 rencontres CEA-Industries en région PACA\, organisées depuis 2012 et chacune ciblée sur une thématique technologique\, ces 10èmes rencontres CEA-INDUSTRIE ont pour objectif de :\n– présenter les offres de services CEA à même d’aider les industriels dans leur démarche et projets d’innovation technologique\,\n– expliquer les différents modes de partenariats possibles  Entreprises <-> CEA\,\n– présenter les différents modes de financement du partenariat CEA-Industrie\,\n– faire  témoigner des entreprises expliquant leur démarche de partenariat d’innovation avec le CEA et les bénéfices engrangés et/ou attendus.\nTéléchargez ici le programme\nInscription gratuite\, nécessaire\, via le site dédié
URL:https://www.safecluster.com/evenement/10emes-rencontres-cea-industrie-en-region-paca-pour-linnovation-technologique/
LOCATION:ECOLE NATIONALE SUPERIEURE DES MINES/ EMSE\, 880 route de Mimet\, GARDANNE
CATEGORIES:Filière
ATTACH;FMTTYPE=:
END:VEVENT
BEGIN:VEVENT
DTSTART;TZID=Europe/Paris:20161129T080000
DTEND;TZID=Europe/Paris:20161201T170000
DTSTAMP:20260422T214545
CREATED:20160621T091036Z
LAST-MODIFIED:20160621T091036Z
UID:44001-1480406400-1480611600@www.safecluster.com
SUMMARY:Aeromart 2016
DESCRIPTION:Organisées et financées par la Région Languedoc-Roussillon Midi-Pyrénées\, madeeli et la CCI Toulouse\, les conventions d’affaires internationale des industries aéronautiques et spatiales Aeromart se déroulent du 29 nov au 1er déc 2016 à Toulouse.\nQuelques temps forts sont d’ores et déjà à noter : \n\nRV d’affaires ciblés\nConférences de haut niveau (évolution des environnements scientifique\, technique\, industriel ou commercial)\nPolitique d’achats des grands groupes (conférences de grands D.O sur la stratégie et le fonctionnement de leurs achats)\nAteliers\n« Green aviation village »\n« Aeromart Cluster’s summit »\n\nProgramme détaillé disponible ici\nVous souhaitez participer à l’événement ? Cliquez ici\nContact SAFE : loic.chanvillard@safecluster.com
URL:https://www.safecluster.com/evenement/aeromart-2016/
LOCATION:centre de congrès Pierre Baudis\, 11 esplanade Compans Caffarelli \, toulouse\,  31685\, France
CATEGORIES:Salon
ATTACH;FMTTYPE=:
END:VEVENT
BEGIN:VEVENT
DTSTART;TZID=Europe/Paris:20161129T080000
DTEND;TZID=Europe/Paris:20161202T170000
DTSTAMP:20260422T214545
CREATED:20160622T081432Z
LAST-MODIFIED:20160622T081432Z
UID:44002-1480406400-1480698000@www.safecluster.com
SUMMARY:Pollutec 2016
DESCRIPTION:A l’occasion du salon Pollutec\, salon des équipements\, technologies et services de l’environnement\, SAFE Cluster sera présent sur le village des pôles Ecotech (Hall 4 H 99) aux côtés de 11 autres pôles membres du réseau\, du 29 nov. au 2 déc. 2016 à Lyon.\nPour toute demande d’invitation\, merci de contacter guillaume.riou@safecluster.com\nUne conférence sur la réseau des pôles Ecotech sera également organisée.\n> Plus d’infos sur le salon ici\nContact : guillaume.riou@safecluster.com\n 
URL:https://www.safecluster.com/evenement/pollutec-horizons/
LOCATION:Parc des expositions Eurexpo\, Avenue Louis Blériot\, Chassieu\, 69686
CATEGORIES:Salon
ATTACH;FMTTYPE=:
END:VEVENT
END:VCALENDAR