BEGIN:VCALENDAR
VERSION:2.0
PRODID:-//Pôle SAFE - ECPv6.15.20//NONSGML v1.0//EN
CALSCALE:GREGORIAN
METHOD:PUBLISH
X-WR-CALNAME:Pôle SAFE
X-ORIGINAL-URL:https://www.safecluster.com
X-WR-CALDESC:Évènements pour Pôle SAFE
REFRESH-INTERVAL;VALUE=DURATION:PT1H
X-Robots-Tag:noindex
X-PUBLISHED-TTL:PT1H
BEGIN:VTIMEZONE
TZID:Europe/Paris
BEGIN:DAYLIGHT
TZOFFSETFROM:+0100
TZOFFSETTO:+0200
TZNAME:CEST
DTSTART:20150329T010000
END:DAYLIGHT
BEGIN:STANDARD
TZOFFSETFROM:+0200
TZOFFSETTO:+0100
TZNAME:CET
DTSTART:20151025T010000
END:STANDARD
BEGIN:DAYLIGHT
TZOFFSETFROM:+0100
TZOFFSETTO:+0200
TZNAME:CEST
DTSTART:20160327T010000
END:DAYLIGHT
BEGIN:STANDARD
TZOFFSETFROM:+0200
TZOFFSETTO:+0100
TZNAME:CET
DTSTART:20161030T010000
END:STANDARD
BEGIN:DAYLIGHT
TZOFFSETFROM:+0100
TZOFFSETTO:+0200
TZNAME:CEST
DTSTART:20170326T010000
END:DAYLIGHT
BEGIN:STANDARD
TZOFFSETFROM:+0200
TZOFFSETTO:+0100
TZNAME:CET
DTSTART:20171029T010000
END:STANDARD
END:VTIMEZONE
BEGIN:VEVENT
DTSTART;TZID=Europe/Paris:20161129T080000
DTEND;TZID=Europe/Paris:20161201T170000
DTSTAMP:20260422T204742
CREATED:20160621T091036Z
LAST-MODIFIED:20160621T091036Z
UID:44001-1480406400-1480611600@www.safecluster.com
SUMMARY:Aeromart 2016
DESCRIPTION:Organisées et financées par la Région Languedoc-Roussillon Midi-Pyrénées\, madeeli et la CCI Toulouse\, les conventions d’affaires internationale des industries aéronautiques et spatiales Aeromart se déroulent du 29 nov au 1er déc 2016 à Toulouse.\nQuelques temps forts sont d’ores et déjà à noter : \n\nRV d’affaires ciblés\nConférences de haut niveau (évolution des environnements scientifique\, technique\, industriel ou commercial)\nPolitique d’achats des grands groupes (conférences de grands D.O sur la stratégie et le fonctionnement de leurs achats)\nAteliers\n« Green aviation village »\n« Aeromart Cluster’s summit »\n\nProgramme détaillé disponible ici\nVous souhaitez participer à l’événement ? Cliquez ici\nContact SAFE : loic.chanvillard@safecluster.com
URL:https://www.safecluster.com/evenement/aeromart-2016/
LOCATION:centre de congrès Pierre Baudis\, 11 esplanade Compans Caffarelli \, toulouse\,  31685\, France
CATEGORIES:Salon
ATTACH;FMTTYPE=:
END:VEVENT
BEGIN:VEVENT
DTSTART;TZID=Europe/Paris:20161129T080000
DTEND;TZID=Europe/Paris:20161202T170000
DTSTAMP:20260422T204742
CREATED:20160622T081432Z
LAST-MODIFIED:20160622T081432Z
UID:44002-1480406400-1480698000@www.safecluster.com
SUMMARY:Pollutec 2016
DESCRIPTION:A l’occasion du salon Pollutec\, salon des équipements\, technologies et services de l’environnement\, SAFE Cluster sera présent sur le village des pôles Ecotech (Hall 4 H 99) aux côtés de 11 autres pôles membres du réseau\, du 29 nov. au 2 déc. 2016 à Lyon.\nPour toute demande d’invitation\, merci de contacter guillaume.riou@safecluster.com\nUne conférence sur la réseau des pôles Ecotech sera également organisée.\n> Plus d’infos sur le salon ici\nContact : guillaume.riou@safecluster.com\n 
URL:https://www.safecluster.com/evenement/pollutec-horizons/
LOCATION:Parc des expositions Eurexpo\, Avenue Louis Blériot\, Chassieu\, 69686
CATEGORIES:Salon
ATTACH;FMTTYPE=:
END:VEVENT
BEGIN:VEVENT
DTSTART;TZID=Europe/Paris:20161201T080000
DTEND;TZID=Europe/Paris:20161202T170000
DTSTAMP:20260422T204742
CREATED:20161024T131249Z
LAST-MODIFIED:20161024T131249Z
UID:44044-1480579200-1480698000@www.safecluster.com
SUMMARY:2ème forum franco-russe des formations et de la recherche aéronautique et spatiale
DESCRIPTION:L’Ambassade de France en Russie et l’Institut Français de Moscou organisent le deuxième Forum franco-russe des formations et de la recherche aéronautiques et spatiales\, qui aura lieu à Toulouse les 1er et 2 décembre 2016.\nDans la continuité des échanges initiés lors du premier forum en 2015\, plusieurs établissements d’enseignement supérieur de la région toulousaine (ENAC\, ISAE-SUPAERO\, IAS\, IPSA\, TBS\, Université Paul-Sabatier) organisent la seconde édition en France\, avec le soutien du GIFAS et de la Région Occitanie.\nPour consulter le programme des 2 journées\, cliquez ici\nContact et infos : FFR2016@enac.fr
URL:https://www.safecluster.com/evenement/2eme-forum-franco-russe-des-formations-et-de-la-recherche-aeronautique-et-spatiale/
LOCATION:Toulouse
CATEGORIES:Innovation & Open Innovation
ATTACH;FMTTYPE=:
END:VEVENT
BEGIN:VEVENT
DTSTART;TZID=Europe/Paris:20161201T090000
DTEND;TZID=Europe/Paris:20161201T130000
DTSTAMP:20260422T204742
CREATED:20160928T085720Z
LAST-MODIFIED:20160928T085720Z
UID:44027-1480582800-1480597200@www.safecluster.com
SUMMARY:Les rendez-vous de l'innovation et de l'industrie : les drones
DESCRIPTION:La CCI Marseille Provence organise un rendez-vous de l’innovation et de l’industrie e jeudi 1er décembre 2016.sur les drones : une nouvelle activité de croissance avec de nombreux champs d’applications.\nLes usages sont vastes : la construction\, l’agriculture\, l’énergie\, le transport\, l’audiovisuel\, le divertissement\, la sécurité civile…\nSi vous aussi les drones vous intéressent pour le développement de votre activité\, participez à cette matinée. \n\nDécouvrez les marchés en émergence\nIntégrez les technologies de ce secteur\nAppréhendez les contours de la législation\n\nInscription gratuite mais obligatoire ICI\n 
URL:https://www.safecluster.com/evenement/les-rendez-vous-de-linnovation-et-de-lindustrie-les-drones/
CATEGORIES:Filière
ATTACH;FMTTYPE=:
END:VEVENT
BEGIN:VEVENT
DTSTART;TZID=Europe/Paris:20161206T080000
DTEND;TZID=Europe/Paris:20161206T170000
DTSTAMP:20260422T204742
CREATED:20161122T100631Z
LAST-MODIFIED:20161122T100631Z
UID:44051-1481011200-1481043600@www.safecluster.com
SUMMARY:Petit déjeuner innovation "faites financer vos projets Défense " !
DESCRIPTION:Les Pôles SAFE et MER MEDITERRANEE avec le soutien de la DGA organisent le mardi 6 décembre un petit-déjeuner Innovation « Faites financer vos projets Défense ! » de 8h30 à 11h\, à Aix en Provence.\nVenez découvrir les dispositifs de financement spécifiques aux  projets « défense » :\n> RAPID (Régime d’Appui à l’Innovation Duale)\n> ASTRID (Accompagnement Spécifique des Travaux de Recherches et d’Innovation Défense)\nCette matinée sera aussi l’occasion d’échanger avec des entreprises et acteurs de terrain.\n \nProgramme prévisionnel :\n8h30      Accueil des participants\n9h           Les dispositifs de financement : Quelles sont les clés de succès ?\nQuelles sont les spécificités de la R&D et de l’innovation de défense et quels sont les liens avec l’innovation civile ?\npar Hervé BONNAUD\, Chargé de mission développement économique et innovation Aéronautique & Défense de la DIRECCTE PACA\n9h45      Témoignages d’entreprises (en cours de définition)\nRetour d’expérience de la Société VSM \nProjet ESTHEL   Entraîneur au Sauvetage et au Tir par HELicoptèresEmergency and Shooting Trainer for HELicopters\nProjet TURBHEL TURBulences en HELicoptères\n10h        Networking : Exprimez vos besoins de compétences et de partenariats !\nTarifs :\n– Gratuit pour les entreprises et laboratoires adhérentes d’un des Pôles organisateurs\n– 10 € pour les non adhérents d’un des Pôles organisateurs\n– 15 € pour les cabinets de conseils\nVous souhaitez y participer ? Cliquez ici !\ncontact : laura.carel@safecluster.com
URL:https://www.safecluster.com/evenement/petit-dejeuner-innovation-faites-financer-vos-projets-defense/
LOCATION:SAFE Cluster\, Pôle de compétitivité Safe Cluster - Avenue Louis Philibert\, Aix-en-Provence\, 13290\, France
CATEGORIES:Innovation & Open Innovation
ATTACH;FMTTYPE=:
END:VEVENT
BEGIN:VEVENT
DTSTART;TZID=Europe/Paris:20161206T080000
DTEND;TZID=Europe/Paris:20161206T170000
DTSTAMP:20260422T204742
CREATED:20161122T145353Z
LAST-MODIFIED:20161122T145353Z
UID:44052-1481011200-1481043600@www.safecluster.com
SUMMARY:Journée Open Innovation
DESCRIPTION:Le Pôle Optitec\, avec l’intervention du Pôle SAFE organise une journée Open Innovation le 6 décembre prochain à Marseille.\nAu programme: \n\nIntervention de notre expert national en Design Thinking\, Véronique Hillen\, Fondatrice et Doyenne de la « D.school » Paris (École des Ponts)\nPrésentation du programme Open Innovation by OPTITEC ; Katia Mirochnitchenko\, Directrice\nTémoignages de PME\nAnnonce et Lancement de Challenge\, en partenariat avec des Pôles de compétitivité de la Région PACA (dont le Pôle SAFE)\nCocktail et Networking\n\nL’inscription est gratuite mais obligatoire par mail events@pole-optitec.com ou par téléphone au 04 91 05 59 69.
URL:https://www.safecluster.com/evenement/journee-open-innovation/
LOCATION:Marseille
CATEGORIES:Innovation & Open Innovation
END:VEVENT
BEGIN:VEVENT
DTSTART;TZID=Europe/Paris:20161206T080000
DTEND;TZID=Europe/Paris:20161209T170000
DTSTAMP:20260422T204742
CREATED:20160928T092007Z
LAST-MODIFIED:20160928T092007Z
UID:44028-1481011200-1481302800@www.safecluster.com
SUMMARY:Conférence SAGEO
DESCRIPTION:Cette conférence francophone sur la géomatique\, l’analyse spatiale et les sciences de l’information géographique se tiendra à Nice dans les locaux de l’IMREDD du 6 au 9 décembre 2016.\nPlus d’infos disponibles en cliquant ici \nContact : Guillaume Riou \n 
URL:https://www.safecluster.com/evenement/conference-sageo/
CATEGORIES:Salon
ATTACH;FMTTYPE=:
END:VEVENT
BEGIN:VEVENT
DTSTART;TZID=Europe/Paris:20161215T080000
DTEND;TZID=Europe/Paris:20161215T170000
DTSTAMP:20260422T204742
CREATED:20161003T125130Z
LAST-MODIFIED:20161003T125130Z
UID:44033-1481788800-1481821200@www.safecluster.com
SUMMARY:Rencontres Industrielles Internationales PACA
DESCRIPTION:Vous souhaitez :\nNouer ou renforcer vos relations d’affaires\,\nIdentifier de nouvelles opportunités à l’international\,\nMultiplier les contacts et rencontrer des donneurs d’ordres régionaux et étrangers sur les filières industrielles clés de notre région.\nParticipez aux Rencontres Industrielles Internationales PACA organisées par la CCI International PACA et Total Développement Régional le Jeudi 15 décembre 2016 à Marseille.\nPour en savoir plus\, téléchargez ici le flyer\nContacts :\nCéline GERACI\, CCCI International Provence-Alpes-Côte d’Azur – celine.geraci@paca.cci.fr\nCéline BRACONNIER\, Total Développement Régional – celine.braconnier@total.com
URL:https://www.safecluster.com/evenement/rencontres-industrielles-internationales-paca/
LOCATION:Palais de la Bourse\, 9 La Canebière\, Marseille\, 13001\, France Métropolitaine
CATEGORIES:Filière
END:VEVENT
END:VCALENDAR