BEGIN:VCALENDAR
VERSION:2.0
PRODID:-//Pôle SAFE - ECPv6.15.20//NONSGML v1.0//EN
CALSCALE:GREGORIAN
METHOD:PUBLISH
X-ORIGINAL-URL:https://www.safecluster.com
X-WR-CALDESC:Évènements pour Pôle SAFE
REFRESH-INTERVAL;VALUE=DURATION:PT1H
X-Robots-Tag:noindex
X-PUBLISHED-TTL:PT1H
BEGIN:VTIMEZONE
TZID:Europe/Paris
BEGIN:DAYLIGHT
TZOFFSETFROM:+0100
TZOFFSETTO:+0200
TZNAME:CEST
DTSTART:20160327T010000
END:DAYLIGHT
BEGIN:STANDARD
TZOFFSETFROM:+0200
TZOFFSETTO:+0100
TZNAME:CET
DTSTART:20161030T010000
END:STANDARD
BEGIN:DAYLIGHT
TZOFFSETFROM:+0100
TZOFFSETTO:+0200
TZNAME:CEST
DTSTART:20170326T010000
END:DAYLIGHT
BEGIN:STANDARD
TZOFFSETFROM:+0200
TZOFFSETTO:+0100
TZNAME:CET
DTSTART:20171029T010000
END:STANDARD
BEGIN:DAYLIGHT
TZOFFSETFROM:+0100
TZOFFSETTO:+0200
TZNAME:CEST
DTSTART:20180325T010000
END:DAYLIGHT
BEGIN:STANDARD
TZOFFSETFROM:+0200
TZOFFSETTO:+0100
TZNAME:CET
DTSTART:20181028T010000
END:STANDARD
END:VTIMEZONE
BEGIN:VEVENT
DTSTART;TZID=Europe/Paris:20170111T080000
DTEND;TZID=Europe/Paris:20170111T170000
DTSTAMP:20260422T193018
CREATED:20161129T111703Z
LAST-MODIFIED:20161129T111703Z
UID:44053-1484121600-1484154000@www.safecluster.com
SUMMARY:Défi "Drone indoor pour les forces spéciales"
DESCRIPTION:La Direction Générale de l’Armement\, en partenariat avec les pôles SAFE et son réseau RPAS Network\, Astech et Aerospace Valley organise le 1er défi d’open innovation du DGA Lab au profit des forces spéciales.\nParticipez nombreux à ce défi et venez rencontrer les innovateurs d’aujourd’hui et de demain ! Au rendez-vous : laboratoires\, PME\, experts …) issus des domaines des drones\, du traitement d’image\, de la reconstruction 3D de l’environnement\, des capteurs inertiels\, des senseurs vidéo\, de l’intelligence artificielle\, des moyens radio\, du design UX/UI…\nObjectifs : faire émerger une solution technologique expérimentable dans les forces dans un an (prototype) dans le cadre d’une démarche d’innovation ouverte. Le cas d’usage de ce drone est de voler et de naviguer à l’intérieur d’un bâtiment à des fins de renseignement\, sans se perdre\, hors vue de l’opérateur\, en avant d’un groupe d’intervention. Ce drone doit transmettre les informations recueillies à l’équipe d’intervention\, de préférence en temps réel.\nRègles : Le défi pourra se faire en équipe multi-compétence. Vous constituerez vos équipes lors de la 1ère session : le 11 janvier 2017 à Paris. Pour y participer\, il est indispensable de s’inscrire sur le formulaire\nPour candidater avant le 20 décembre 2016\, remplissez le formulaire ici\nContact : charlotte.allais@intradef.gouv.fr\nContact SAFE : hubert.berenger@safecluster.com
URL:https://www.safecluster.com/evenement/defi-drone-indoor-pour-les-forces-speciales/
LOCATION:Paris
CATEGORIES:Innovation & Open Innovation
ATTACH;FMTTYPE=:
END:VEVENT
BEGIN:VEVENT
DTSTART;TZID=Europe/Paris:20170126T080000
DTEND;TZID=Europe/Paris:20170126T170000
DTSTAMP:20260422T193018
CREATED:20170106T144951Z
LAST-MODIFIED:20170106T144951Z
UID:44055-1485417600-1485450000@www.safecluster.com
SUMMARY:Les aides à l'export
DESCRIPTION:Atelier interactif pour découvrir l’ensemble du dispositif d’accompagnement à l’internationalisation mis en place par l’Etat français.\nPublic concerné : Entreprises exportatrices débutantes ou confirmées : chefs d’entreprises\, responsables export\, commerciaux\nObjectifs : Découvrir l’ensemble du dispositif d’accompagnement à l’internationalisation mis en place par l’Etat français.\nContenus : Présentation des offres de services des principaux acteurs publics de l’international en Paca : de l’assurance prospection au V.I.E. en passant par le crédit d’impôt export\, le prêt de développement export ou le diagnostic de propriété intellectuelle.\nLes + : \n\nPanorama complet en une matinée\nPossibilité de prendre rendez-vous avec les acteurs de l’international\n\nContact : xavier.grimaldi@paca.cci.fr \nInscription en ligne obligatoire \n 
URL:https://www.safecluster.com/evenement/les-aides-a-lexport/
LOCATION:CCI du VAR\, Quartier Pré de Pâques\, Brignoles\, 83170 
CATEGORIES:Filière
END:VEVENT
BEGIN:VEVENT
DTSTART;TZID=Europe/Paris:20170126T090000
DTEND;TZID=Europe/Paris:20170126T123000
DTSTAMP:20260422T193018
CREATED:20170106T101038Z
LAST-MODIFIED:20170106T101038Z
UID:44054-1485421200-1485433800@www.safecluster.com
SUMMARY:Doing Business aux Etats-Unis : considérations juridiques\, fiscales et sociales
DESCRIPTION:Vous souhaitez développer des affaires aux Etats-Unis et vous vous interrogez sur les règles US fiscales\, juridiques et sociales en lien avec ce projet ? La CCI Internationale Provence Alpes Côte d’Azur vous propose un atelier de veille\, le jeudi 26 janvier 2017 de 9h à 12h30 à Marseille.\nVous êtes concernés par cet atelier de veille : Dirigeants\, directeurs financiers\, développeurs d’affaires\, commerciaux de TPE et PME/PMI\, juristes d’entreprises\, avocats d’affaires internationales…\nProgramme et bulletin d’inscription disponibles en cliquant ici\nContact CCI : anne-cecile.gaydon@paca.cci.fr
URL:https://www.safecluster.com/evenement/doing-business-aux-etats-unis-considerations-juridiques-fiscales-et-sociales/
LOCATION:CCI Région PACA\, 8 rue Neuve Saint Martin\, Marseille\, 13001
ATTACH;FMTTYPE=:
END:VEVENT
BEGIN:VEVENT
DTSTART;TZID=Europe/Paris:20170126T120000
DTEND;TZID=Europe/Paris:20170126T140000
DTSTAMP:20260422T193018
CREATED:20170110T091058Z
LAST-MODIFIED:20170110T091058Z
UID:44057-1485432000-1485439200@www.safecluster.com
SUMMARY:Déjeuner de présentation des opportunités d'affaires à Miami/Floride
DESCRIPTION:En vue de la mission économique organisée fin octobre 2017\, la Ville de Marseille et la Chambre de Commerce et d’Industrie Marseille Provence ont le plaisir de vous inviter à un déjeuner de présentation sur les opportunités d’affaires à Miami\, « la Floride\, une ouverture vers 2 continents »\, le jeudi 26 janvier\, au Palais de la Bourse à Marseille.\nLa Floride\, troisième état américain par l’économie et la population depuis début 2015\, est connue pour sa qualité de vie\, son climat\, qui en font une destination de tourisme et de résidence très prisée.\nMais la Floride\, c’est aussi une destination d’investissement privilégiée pour les entreprises européennes :\n– Accessibilité au premier marché mondial\, avec la double option\, nord-américaine et latino-américaine.\n– Bassin de recrutement exceptionnel\, multilingue/multiculturel renforcé par l’attractivité naturelle d’un Etat réputé pour sa qualité de vie.\n– Excellences sectorielles : historiquement dans l’aéronautique\, le spatial\, la logistique\, les services aux entreprises\, le logiciel\, l’électronique… et aujourd’hui également dans les services financiers\, les biotechnologies\, les énergies renouvelables\, le luxe…\n– Cadre juridique et fiscal très pro-business\, avec une fiscalité parmi les plus faibles au sein des Etats-Unis\, aussi bien pour les entreprises que pour les individus\, et une réglementation du travail adaptée aux nécessités de flexibilité des organisations.\n– Coûts très compétitifs du travail\, de l’immobilier\, etc.\, inférieurs à la moyenne des Etats-Unis.\nTous ces avantages rendent la Floride attractive pour les investisseurs et se place dans les premières destinations des flux de capitaux des Etats-Unis. \nNon payant mais inscription obligatoire avant le 22 janvier 2017
URL:https://www.safecluster.com/evenement/dejeuner-de-presentation-des-opportunites-daffaires-a-miamifloride/
LOCATION:Palais de la Bourse\, 9 La Canebière\, Marseille\, 13001\, France Métropolitaine
ATTACH;FMTTYPE=:
END:VEVENT
END:VCALENDAR