BEGIN:VCALENDAR
VERSION:2.0
PRODID:-//Pôle SAFE - ECPv6.15.20//NONSGML v1.0//EN
CALSCALE:GREGORIAN
METHOD:PUBLISH
X-ORIGINAL-URL:https://www.safecluster.com
X-WR-CALDESC:Évènements pour Pôle SAFE
REFRESH-INTERVAL;VALUE=DURATION:PT1H
X-Robots-Tag:noindex
X-PUBLISHED-TTL:PT1H
BEGIN:VTIMEZONE
TZID:Europe/Paris
BEGIN:DAYLIGHT
TZOFFSETFROM:+0100
TZOFFSETTO:+0200
TZNAME:CEST
DTSTART:20160327T010000
END:DAYLIGHT
BEGIN:STANDARD
TZOFFSETFROM:+0200
TZOFFSETTO:+0100
TZNAME:CET
DTSTART:20161030T010000
END:STANDARD
BEGIN:DAYLIGHT
TZOFFSETFROM:+0100
TZOFFSETTO:+0200
TZNAME:CEST
DTSTART:20170326T010000
END:DAYLIGHT
BEGIN:STANDARD
TZOFFSETFROM:+0200
TZOFFSETTO:+0100
TZNAME:CET
DTSTART:20171029T010000
END:STANDARD
BEGIN:DAYLIGHT
TZOFFSETFROM:+0100
TZOFFSETTO:+0200
TZNAME:CEST
DTSTART:20180325T010000
END:DAYLIGHT
BEGIN:STANDARD
TZOFFSETFROM:+0200
TZOFFSETTO:+0100
TZNAME:CET
DTSTART:20181028T010000
END:STANDARD
END:VTIMEZONE
BEGIN:VEVENT
DTSTART;VALUE=DATE:20170201
DTEND;VALUE=DATE:20170203
DTSTAMP:20260422T182912
CREATED:20170106T150026Z
LAST-MODIFIED:20170106T150026Z
UID:44056-1485907200-1486079999@www.safecluster.com
SUMMARY:More Electric Aircraft
DESCRIPTION:More Electric Aircraft technology has continued to develop\, mature and enter into service over recent years with impressive advances being seen in all of the domains across the related aerospace technologies\, including the flight of all-electric prototypes. The MEA2017 conference will showcase state of the art developments and upcoming technologies\, to be presented by representatives from worldwide industry and academia.\nBuilding on the technologies developed for the first generation of more-electric platforms such as the Airbus A380 and Boeing 787\, these experts will discuss and review how the adoption of more electrical technology in design and operation is being driven by strong advances in many of the key building blocks such as wide bandgap devices\, energy storage technologies\, new manufacturing processes\, power generation and distribution architectures\, and the adoption of new materials. Whilst much work has already been demonstrated on more-electrical platforms\, there is much more to do to further increase the power density and improve the reliability whilst making the most of the natural advantages of electrical technology\, topics which will be addressed in-depth at the conference.\nThe MEA 2017 Programme Committee has planned a rich conference thanks to a very strong line-up of plenary and keynote speakers.  These will be complemented by highly interactive poster sessions which will cover a broad range of more electrical aircraft topics including energy storage\, operations on ground\, thermal management\, power generation and distribution\, actuation systems and the more electric engine.\nAttending this conference is an opportunity not to be missed if you are working in the field.  You will have the chance to meet worldwide industrial and academic colleagues as well as enjoy the beautiful city and food of Bordeaux\, a great environment for networking.\nWe look forward to welcoming you next February at the conference.\n\nJean-Charles Mare (Toulouse University)\, Eddie Orr (Rolls-Royce plc)\,\nco-chairs of MEA 2017 Programme Committee\n\nwww.see.asso.fr
URL:https://www.safecluster.com/evenement/more-electric-aircraft/
LOCATION:Palais des Congrès de Bordeaux\, Bordeaux
CATEGORIES:Salon
ATTACH;FMTTYPE=:
END:VEVENT
BEGIN:VEVENT
DTSTART;TZID=Europe/Paris:20170202T080000
DTEND;TZID=Europe/Paris:20170202T170000
DTSTAMP:20260422T182912
CREATED:20161012T143304Z
LAST-MODIFIED:20161012T143304Z
UID:44040-1486022400-1486054800@www.safecluster.com
SUMMARY:Réussir le recyclage des matériaux composites c'est possible maintenant !
DESCRIPTION:Le CRECOF vous invite le 2 février 2017 à Bouguenais (44) à participer à une journée d’information et d’échanges concrets autour du recyclage des matériaux composites\, désormais possible grâce aux technologies développées et aux voies de valorisations qui apparaissent et qui s’adaptent aux différentes natures de composites.\nPlus d’infos et inscription en cliquant ici
URL:https://www.safecluster.com/evenement/reussir-le-recyclage-des-materiaux-composites-cest-possible-maintenant/
CATEGORIES:Innovation & Open Innovation
ATTACH;FMTTYPE=:
END:VEVENT
BEGIN:VEVENT
DTSTART;TZID=Europe/Paris:20170202T080000
DTEND;TZID=Europe/Paris:20170202T170000
DTSTAMP:20260422T182912
CREATED:20161013T125922Z
LAST-MODIFIED:20161013T125922Z
UID:44041-1486022400-1486054800@www.safecluster.com
SUMMARY:Journée de l'innovation du CNES
DESCRIPTION:Le Centre National d’Etudes Spatiales (CNES) organise la journée de l’innovation qui se déroulera le 2 février 2017 à Toulouse.\nVous souhaitez participer à l’événement ? Contactez Loïc Chanvillard (SAFE Cluster) : loic.chanvillard@safecluster.com
URL:https://www.safecluster.com/evenement/journee-de-linnovation-du-cnes/
LOCATION:11 Espl. Compans Caffarelli\, 31000 Toulouse\, 11 esplanade Compans Caffarelli\, toulouse\, 31000\, France
CATEGORIES:Innovation & Open Innovation
ATTACH;FMTTYPE=:
END:VEVENT
BEGIN:VEVENT
DTSTART;TZID=Europe/Paris:20170202T100000
DTEND;TZID=Europe/Paris:20170202T160000
DTSTAMP:20260422T182912
CREATED:20170130T164847Z
LAST-MODIFIED:20170130T164847Z
UID:44066-1486029600-1486051200@www.safecluster.com
SUMMARY:SAFE participe aux Assises Régionales des Transports
DESCRIPTION:La Région Provence-Alpes-Côte d’Azur organise sa première conférence plénière des Assises régionales des Transports le jeudi 2 février 2017 à l’Hôtel de Région à Marseille. A cette occasion\, le Pôle SAFE participera à la Table ronde « La sécurité : enjeu majeur pour les acteurs de la mobilité ».\nAnimé par Robert VIENNET\, Directeur des rédactions de MobiliCités.com et Transport Public\, le programme de la journée est le suivant :\n9h30 – 10h00      Accueil café\n10h00 – 10h15    Discours d’ouverture : Christian ESTROSI\, Président de la Région\nMots d’introduction :  \n10h15- 10h20   Louis NEGRE\, Président du GART \n10h20 -10h25   Stéphane BOUILLON\, Préfet de région\n10h25 – 10h30   Présentation de la démarche des Assises : Philippe TABAROT\, Vice-Président en charge des transports\nDeux tables rondes de la matinée : 10h45 -12h15\n10h30-11h15 L’ouverture des services de transport ferroviaire à la concurrence\nPhilippe TABAROT\, Vice-Président\nRoberto RINAUDO\, directeur général de Thello\nFares GOUCHA\, ancien directeur de la régie des chemins de fer de Provence\n11h15-12h00 La sécurité dans les transports\nCaroline POZMENTIER\, Vice-Présidente en charge de la sécurité\nDavid GALTIER\, général  de la zone de défense\nGéraud PARJADIS\, directeur général du Pôle Safe\nBuffet 12h00 -13h15 Réception VIP avec le Président de 12h00 à 12h30\nTrois tables rondes de l’après-midi : 13h15-15h30\n13H15-14H00 Transport\, développement économique et déplacement des salariés\nPierre GRAND DUFAY : Président de la Commission Économie et emploi\nFrançois RANISE : Président de cap au nord\nPascal NICOLETTI\,  Président de la Commission Aménagement et développement des territoires et du massif\, foncier\, habitat et logement au CESER\n14H00-14H45 La tarification des transports\nJean-Pierre SERRUS : Vice-Président Mobilité Métropole AMP\nYannick CHENEVARD : Vice-Président transports TPM\nLaurent BRIANT : Directeur de Cityway\n14H45-15H30 Les alternatives au transport ferroviaire\nMaxime TOMMASINI\, Président de la Commission Transports\nJean Philippe PEGLION\, Vice-Président de la FNTV PACA\, Président de la FNTV 06\nYann HERVOUËT\, CEO de Instant System\n15h30-16h00 Conclusion de la journée : Vice-Président Philippe TABAROT\nEntrée libre
URL:https://www.safecluster.com/evenement/assises-regionales-des-transports/
LOCATION:Hôtel de Région\, 27\, place Jules Guesde \, Marseille
CATEGORIES:Filière
ATTACH;FMTTYPE=:
END:VEVENT
BEGIN:VEVENT
DTSTART;TZID=Europe/Paris:20170227T080000
DTEND;TZID=Europe/Paris:20170303T170000
DTSTAMP:20260422T182912
CREATED:20170131T101112Z
LAST-MODIFIED:20170131T101112Z
UID:44067-1488182400-1488560400@www.safecluster.com
SUMMARY:Formation "Sécurité et Justice"
DESCRIPTION:l’Institut National des Hautes Etudes de la Sécurité et de la Justice (INHESJ) organise du 27 février au 3 mars sur le site de l’ENSOSP à Aix en Provence une session de formation régionale « Jeunes »  Sécurité et la Justice\, dédiée aux jeunes actifs issus des secteurs privés et publics.\nL’objectif de cette formation est de sensibiliser ce public aux grands enjeux de sécurité et de justice. Cette formation permet également des rapprochements à l’échelle régionale entre enseignements universitaires et pratiques professionnelles en favorisant le  décloisonnement  des univers professionnels.\nLa première session de l’année 2017 se déroulera sur le site de l’ENSOSP (Ecole Nationale Supérieure des Officiers de Sapeurs-Pompiers) à Aix en Provence.\nPlus d’infos en cliquant ici\nTéléchargez ici le dossier de présentation de la formation\nVous souhaitez participer à la formation\, cliquez ici
URL:https://www.safecluster.com/evenement/formation-securite-et-justice/
LOCATION:ENSOSP\, 1070 Rue du Lieutenant Parayre\, aix en provence\, 13290
CATEGORIES:Filière
ATTACH;FMTTYPE=:
END:VEVENT
BEGIN:VEVENT
DTSTART;VALUE=DATE:20170228
DTEND;VALUE=DATE:20170303
DTSTAMP:20260422T182912
CREATED:20170209T123755Z
LAST-MODIFIED:20170209T123755Z
UID:44068-1488240000-1488499199@www.safecluster.com
SUMMARY:Mission "opportunité d’affaires" en Italie (Brindisi)
DESCRIPTION:Le Pôle SAFE vous informe d’une mission « opportunité d’affaires » en Italie (Brindisi) qui se tiendra du mardi 28 février au jeudi 2 mars 2017.\nCette mission\, coordonnée par l’Agence italienne pour le commerce extérieur\, le bureau pour la promotion des échanges de l’Ambassade d’Italie et la Région des Pouilles consistera à vous proposer des journées de travail en BtoB destinées à vous faire rencontrer les entreprises performantes des districts régionaux du secteur.\nAu programme\, rencontres business\, visite de sites d’entreprises et de leurs régions dans le domaine de l’aérospatial.\nPlus de 50 sociétés vous attendent ! Venez découvrir vos partenaires de demain et évoluer dans un environnement plus compétitif !\nContact ICE-Agence Paris : Claudio Belluccini – Tél. 01 53 75 70 13 – c.belluccini@ice.it\nContact International SAFE Cluster : juliette.mallez@safecluster.com
URL:https://www.safecluster.com/evenement/mission-opportunite-daffaires-en-italie-brindisi/
LOCATION:Brindisi\, Italie
END:VEVENT
BEGIN:VEVENT
DTSTART;TZID=Europe/Paris:20170228T080000
DTEND;TZID=Europe/Paris:20170304T170000
DTSTAMP:20260422T182912
CREATED:20170126T135308Z
LAST-MODIFIED:20170126T135308Z
UID:44065-1488268800-1488646800@www.safecluster.com
SUMMARY:Participez à la mission régionale PACA en Russie !
DESCRIPTION:Dans le cadre des relations que la Région entretient avec ses partenaires russes le Président Christian Estrosi conduira une mission économique régionale du 28 février au 4 mars 2017 à Moscou et à Kazan (République du Tatarstan) afin de renforcer les retombées économiques de ce processus institutionnel.\nSont ciblés pour cette mission :\n•    les domaines d’intérêt mutuel identifiés par les deux parties : coopération économique\, échanges universitaires et technologiques\,\n•    les filières d’excellence régionales suivantes : ville intelligente/smart-grids\, TIC\, agriculture/viticulture\, énergie\, santé/médicaments/biotechs\, tourisme\, sport\, culture.\nCette mission économique s’adresse aux entreprises et acteurs du territoire régional ayant déjà développé des liens avec la Russie ou souhaitant initier des partenariats économiques avec des acteurs russes.\nLes partenaires publics régionaux d’ores et déjà identifiés dans l’organisation de cette mission sont les métropoles\, les pôles de compétitivité\, les agences de développement\, les universités et écoles\, la Chambre de Commerce et d’Industrie Régionale Internationale\, l’ARII et  Business France.\nEn termes d’organisation\, la mobilisation des entreprises sera coordonnée par l’ARII en lien avec les pôles de compétitivité. La Région apportera une contribution financière (plafonnée à 4 000 €) permettant de couvrir 50 % des coûts incluant le déplacement et l’hébergement sur place pour que les entreprises puissent participer à cette mission dans les meilleures conditions possibles.\nL’Agence Business France pourra\, si besoin\, être mobilisée pour assurer l’organisation des rendez-Vous B to B pour les entreprises présentes (la participation de la Région couvrira également 50% des frais liés à un éventuel accompagnement des entreprises par Business France).\nToute entreprise intéressée par cette mission et souhaitant y participer pourra se manifester auprès de l’ARII en retournant la fiche de présentation ICI\nContact ARII PACA : Nicolas Chehanne nchehanne@arii-paca.fr\nAnne Charlotte de Barbiers acdebarbieux@arii-paca.fr\nContact international SAFE Cluster : juliette.mallez@safecluster.com
URL:https://www.safecluster.com/evenement/participez-a-la-mission-regionale-paca-en-russie/
LOCATION:Moscou\, Russie\, Fédération de
ATTACH;FMTTYPE=:
END:VEVENT
END:VCALENDAR