BEGIN:VCALENDAR
VERSION:2.0
PRODID:-//Pôle SAFE - ECPv6.15.20//NONSGML v1.0//EN
CALSCALE:GREGORIAN
METHOD:PUBLISH
X-ORIGINAL-URL:https://www.safecluster.com
X-WR-CALDESC:Évènements pour Pôle SAFE
REFRESH-INTERVAL;VALUE=DURATION:PT1H
X-Robots-Tag:noindex
X-PUBLISHED-TTL:PT1H
BEGIN:VTIMEZONE
TZID:Europe/Paris
BEGIN:DAYLIGHT
TZOFFSETFROM:+0100
TZOFFSETTO:+0200
TZNAME:CEST
DTSTART:20160327T010000
END:DAYLIGHT
BEGIN:STANDARD
TZOFFSETFROM:+0200
TZOFFSETTO:+0100
TZNAME:CET
DTSTART:20161030T010000
END:STANDARD
BEGIN:DAYLIGHT
TZOFFSETFROM:+0100
TZOFFSETTO:+0200
TZNAME:CEST
DTSTART:20170326T010000
END:DAYLIGHT
BEGIN:STANDARD
TZOFFSETFROM:+0200
TZOFFSETTO:+0100
TZNAME:CET
DTSTART:20171029T010000
END:STANDARD
BEGIN:DAYLIGHT
TZOFFSETFROM:+0100
TZOFFSETTO:+0200
TZNAME:CEST
DTSTART:20180325T010000
END:DAYLIGHT
BEGIN:STANDARD
TZOFFSETFROM:+0200
TZOFFSETTO:+0100
TZNAME:CET
DTSTART:20181028T010000
END:STANDARD
END:VTIMEZONE
BEGIN:VEVENT
DTSTART;TZID=Europe/Paris:20170828T143000
DTEND;TZID=Europe/Paris:20170828T183000
DTSTAMP:20260422T112434
CREATED:20170724T115704Z
LAST-MODIFIED:20170724T115704Z
UID:44136-1503930600-1503945000@www.safecluster.com
SUMMARY:Rencontres Ambassadeurs/entrepreneurs 2017
DESCRIPTION:Les rencontres de l’Ambassadeur et de l’entrepreneur se dérouleront le lundi 28 août prochain à Paris et permettront aux chefs d’entreprises de TPE/PME et ETI françaises de bénéficier d’un ou plusieurs entretiens de 15 minutes en tête à tête\, de manière directe\, concrète et personnalisée avec les ambassadeurs de France en poste dans le monde entier dans le but de favoriser leur développement à l’international.\nPlus d’infos en cliquant ici\n 
URL:https://www.safecluster.com/evenement/rencontres-ambassadeursentrepreneurs-2017/
LOCATION:centre de conférences ministériel\, 27 rue de la convention\, paris\, 75015
ATTACH;FMTTYPE=:
END:VEVENT
END:VCALENDAR