BEGIN:VCALENDAR
VERSION:2.0
PRODID:-//Pôle SAFE - ECPv6.15.20//NONSGML v1.0//EN
CALSCALE:GREGORIAN
METHOD:PUBLISH
X-ORIGINAL-URL:https://www.safecluster.com
X-WR-CALDESC:Évènements pour Pôle SAFE
REFRESH-INTERVAL;VALUE=DURATION:PT1H
X-Robots-Tag:noindex
X-PUBLISHED-TTL:PT1H
BEGIN:VTIMEZONE
TZID:Europe/Paris
BEGIN:DAYLIGHT
TZOFFSETFROM:+0100
TZOFFSETTO:+0200
TZNAME:CEST
DTSTART:20160327T010000
END:DAYLIGHT
BEGIN:STANDARD
TZOFFSETFROM:+0200
TZOFFSETTO:+0100
TZNAME:CET
DTSTART:20161030T010000
END:STANDARD
BEGIN:DAYLIGHT
TZOFFSETFROM:+0100
TZOFFSETTO:+0200
TZNAME:CEST
DTSTART:20170326T010000
END:DAYLIGHT
BEGIN:STANDARD
TZOFFSETFROM:+0200
TZOFFSETTO:+0100
TZNAME:CET
DTSTART:20171029T010000
END:STANDARD
BEGIN:DAYLIGHT
TZOFFSETFROM:+0100
TZOFFSETTO:+0200
TZNAME:CEST
DTSTART:20180325T010000
END:DAYLIGHT
BEGIN:STANDARD
TZOFFSETFROM:+0200
TZOFFSETTO:+0100
TZNAME:CET
DTSTART:20181028T010000
END:STANDARD
END:VTIMEZONE
BEGIN:VEVENT
DTSTART;VALUE=DATE:20171106
DTEND;VALUE=DATE:20171110
DTSTAMP:20260420T093309
CREATED:20170216T093148Z
LAST-MODIFIED:20170216T093148Z
UID:44090-1509926400-1510271999@www.safecluster.com
SUMMARY:DEFENCE & SECURITY 2017
DESCRIPTION:Salon Défense et Sécurité Tri-Service\n\n• + de 400 entreprises internationales leaders sur le marché de la défense et sécurité nationale en provenance de 50 pays\n• 13 000 visiteurs & décisionnaires issus de plus de 50 pays\n• + de 300 délégations officielles représentant plus de 25 pays \n• Pavillon français coordonné par le GICAN \nPlus d’informations sur le salon\, Cliquez ici
URL:https://www.safecluster.com/evenement/defence-security-2017/
LOCATION:Bangkok\, Thaïlande
CATEGORIES:Salon
ATTACH;FMTTYPE=:
END:VEVENT
BEGIN:VEVENT
DTSTART;VALUE=DATE:20171106
DTEND;VALUE=DATE:20171111
DTSTAMP:20260420T093309
CREATED:20170215T160538Z
LAST-MODIFIED:20170215T160538Z
UID:44082-1509926400-1510358399@www.safecluster.com
SUMMARY:TTVS 2017
DESCRIPTION:Le CNES organise le TTVS du 16 au 20 octobre et du 06 au 10 novembre 2017.\nLe cours TTVS présente les caractéristiques et les contraintes de conception spécifiques à la technologie spatiale et décrit les techniques et les technologies des sous-systèmes à équipements embarqués.\nSon objectif pédagogique est de vous permettre de visualiser l’ensemble des techniques et des technologies qui concourent à la constitution et au fonctionnement des véhicules spatiaux.\nPublic concerné : Toute personne qui souhaite élargir l’éventail de ses connaissances pour acquérir une vision globale des métiers intrinsèques à la conception des véhicules spatiaux.\nLa première semaine aborde les missions\, l’environnement spatial\, les principaux types de charge utile et leurs techniques.\nLa deuxième semaine traite des techniques et technologies utilisées dans les plateformes et des méthodes relatives au développement des véhicules spatiaux.\nTélécharger le programme complet des 2 semaines : le programme\nInscrivez vous sur le site dédié : https://www.ttvs.fr/fr/
URL:https://www.safecluster.com/evenement/ttvs-2017-2/
LOCATION:Hôtel Palladia\, 271 Avenue de Grande Bretagne\, Toulouse
CATEGORIES:Filière
END:VEVENT
BEGIN:VEVENT
DTSTART;TZID=Europe/Paris:20171107T080000
DTEND;TZID=Europe/Paris:20171107T170000
DTSTAMP:20260420T093309
CREATED:20170515T074020Z
LAST-MODIFIED:20170515T074020Z
UID:44111-1510041600-1510074000@www.safecluster.com
SUMMARY:Rencontre acheteur : 3ème édition du colloque Sécurité industrielle
DESCRIPTION:Faites connaître votre savoir-faire auprès des décideurs des secteurs industriels des hydrocarbures\, de l’énergie\, de la chimie\, de la sidérurgie\, de la mécanique\, des matériaux de construction\,…\nVOUS ÊTES…\n* Fournisseurs d’équipements\, de matériels et de services pour : la sécurisation des accès\, la sécurité incendie\, sécurité des machines et process\,\n* Experts sur l’équipement de sites sensibles ou la protection de travailleurs en présence de matières dangereuses\,\n* Spécialiste en ingénierie dans la sécurité industrielle.\nVOUS VOULEZ…\nRencontrer les Décideurs\, les Ingénieurs HSE et Responsables Sécurité de sites industriels algériens et présenter vos solutions de sécurité.\nDévelopper votre réseau de contacts et identifier des partenaires ou des distributeurs en Algérie.\nVous positionner sur le marché algérien\, accroître votre visibilité et saisir les opportunités du marché sur différents secteurs.\nConsultez la plaquette en cliquant ici
URL:https://www.safecluster.com/evenement/3eme-edition-du-colloque-securite-industrielle/
LOCATION:Algérie\, Alger
END:VEVENT
BEGIN:VEVENT
DTSTART;TZID=Europe/Paris:20171107T080000
DTEND;TZID=Europe/Paris:20171108T170000
DTSTAMP:20260420T093309
CREATED:20171020T113921Z
LAST-MODIFIED:20171020T113921Z
UID:44172-1510041600-1510160400@www.safecluster.com
SUMMARY:Séminaire Détection identification neutralisation des drones
DESCRIPTION:SAFE Cluster\, Défense Conseil International (DCI)\, le SGDSN\, le Cluster CENSEC ainsi que l’ensemble des membres du réseau RPAS Network vous invite à participer au séminaire dédié aux systèmes innovants pour la lutte anti drones\, organisé les 7 et 8 novembre 2017 sur le site de l’aéroport d’Avignon.\nPlus d’infos et inscriptions en cliquant ici\nContact SAFE Hubert Bérenger
URL:https://www.safecluster.com/evenement/seminaire-detection-identification-neutralisation-des-drones/
LOCATION:Aéroport Avignon\, 335 Avenue Clément Ader\, Avignon-Montfavet\, 84140\, France
CATEGORIES:Filière
ATTACH;FMTTYPE=:
END:VEVENT
BEGIN:VEVENT
DTSTART;VALUE=DATE:20171108
DTEND;VALUE=DATE:20171109
DTSTAMP:20260420T093309
CREATED:20170912T124103Z
LAST-MODIFIED:20170912T124103Z
UID:44149-1510099200-1510185599@www.safecluster.com
SUMMARY:Atelier "Radars: Technologies\, Méthodologies et Applications en Météorologie et au-delà"
DESCRIPTION:L’atelier « Radars: Technologies\, Méthodologies et Applications en Météorologie et au-delà » (R‑TMA-2017) se tiendra du 6 au 8 novembre 2017 sur le Campus Universitaire des Cézeaux\, Université Clermont Auvergne\, à Clermont Ferrand.\nL’objet de cet atelier est de fournir un forum d’échange et de discussion sur les développements technologiques et méthodologies ainsi que sur les applications radar\, non seulement dans le domaine de la météorologie\, mais également dans un contexte d’ouverture interdisciplinaire large aux domaines de la recherche et de l’étude du système terre et de l’univers\, sans restriction de technique radar\, de type de support ou d’objet d’étude. Organisé autour de présentations orales\, posters et tables rondes réparties en 6 sessions\, il s’adresse à l’ensemble des acteurs: chercheurs\, ingénieurs et industriels\, impliqués dans les divers aspects des technologies radars et de leurs applications afin de stimuler échanges et collaborations.\nLe site pour plus d’informations mais aussi pour s’inscrire et déposer un résumé est ouvert ici:https://radars.sciencesconf.org/\nSoutenu financièrement par la Mission pour l’Interdisciplinarité du CNRS et localement par l’UCA\, l’OPGC et le LaMP\, il n’y aura pas de frais d’inscription. Toutefois\, l’inscription reste obligatoire pour des raisons de logistique.\nLa date limite d’inscription et de dépôt des résumés est fixée au 15 octobre 2017.
URL:https://www.safecluster.com/evenement/atelier-radars-technologies-methodologies-et-applications-en-meteorologie-et-au-dela/
LOCATION:Université Clermont Auvergne\, Clermont Ferrand
CATEGORIES:Innovation & Open Innovation
END:VEVENT
BEGIN:VEVENT
DTSTART;TZID=Europe/Paris:20171108T080000
DTEND;TZID=Europe/Paris:20171109T170000
DTSTAMP:20260420T093309
CREATED:20170829T131545Z
LAST-MODIFIED:20170829T131545Z
UID:44143-1510128000-1510246800@www.safecluster.com
SUMMARY:7ème séminaire Vision nocturne bas niveau de lumière
DESCRIPTION:Le département optronique de la DGA Technique aéronautique vous propose de participer au 7èmes séminaire « vision nocturne- bas niveau de lumière » les 8 et 9 novembre 2017 à Balma.\nCet événement s’inscrit dans la continuité des précédents séminaires et rassemble les principaux acteurs issus du Ministère de la défense\, de l’industrie et de la recherche.\nObjectifs : retours d’expériences\, présentation des avancées technologiques et échanges autour des problématiques rencontrées\, identification des enjeux et défis du domaine à relever.\nVous souhaitez réaliser une communication ? Soumettez le résumé de votre présentation. L’équipe en charge de l’organisation vous confirmera les modalités.Téléchargez ici le formulaire d’appel à communication à retourner à l’adresse suivante : dga-ta.seminairevn.fct@intradef.gouv.fr \nDeadline de soumission : 10 septembre 2017\nVous ne pouvez pas assister aux journées ? Il sera possible de vous communiquer les présentations de l’événement !\nContact SAFE : jean-michel.dumaz@safecluster.com
URL:https://www.safecluster.com/evenement/7eme-seminaire-vision-nocturne-bas-niveau-de-lumiere/
LOCATION:balma
CATEGORIES:Innovation & Open Innovation
ATTACH;FMTTYPE=:
END:VEVENT
BEGIN:VEVENT
DTSTART;TZID=Europe/Paris:20171109T080000
DTEND;TZID=Europe/Paris:20171109T170000
DTSTAMP:20260420T093309
CREATED:20170918T083654Z
LAST-MODIFIED:20170918T083654Z
UID:44153-1510214400-1510246800@www.safecluster.com
SUMMARY:Les ateliers du Bourget
DESCRIPTION:Participez à la seconde édition des Ateliers du Bourget qui se dérouleront le 9 novembre prochain dans les locaux de Supméca à Saint Ouen.\nUne occasion unique pour vous de développer votre réseau et d’intégrer une communauté de PME/ETI et Donneurs d’Ordres avec lesquels vous pourrez échanger\, débattre afin de mieux identifier les facteurs-clés de votre entreprise et les adapter aux attentes de vos marchés.\nAu programme : 14 ateliers autour de thèmes divers tels que l’innovation\, le développement économique\, l’accès aux marchés\, les coopérations\, le management…\nPlus d’infos en cliquant ici\nVous souhaitez vous inscrire ? cliquez ici
URL:https://www.safecluster.com/evenement/les-ateliers-du-bourget/
LOCATION:Supméca\, 3 rue fernand henaut\, saint ouen\, 93400
ATTACH;FMTTYPE=:
END:VEVENT
BEGIN:VEVENT
DTSTART;TZID=Europe/Paris:20171116T090000
DTEND;TZID=Europe/Paris:20171116T173000
DTSTAMP:20260420T093309
CREATED:20171011T115204Z
LAST-MODIFIED:20171011T115204Z
UID:44168-1510822800-1510853400@www.safecluster.com
SUMMARY:11ème rencontre aviation civile et aviation militaire
DESCRIPTION:Venez assister à la 11ème rencontre aviation civile aviation militaire qui se tiendra le 16 novembre 2017 au siège de la Direction générale de l’Aviation – Paris 15.\nLieu privilégié d’échanges entre les grands acteurs internationaux du monde aéronautique\, RACAM réunit les hauts responsables de l’aviation civile et des armées\, les industriels\, les directeurs généraux de compagnies aériennes et d’aéroports\, les unions et groupements professionnels\, les associations et\, globalement\, tous les utilisateurs de l’espace aérien. Cet événement annuel unique en Europe est l’occasion d’évoquer des sujets d’actualité et d’identifier de nouvelles synergies dans le but commun de bâtir un ciel plus sûr. Le comité de pilotage RACAM et la société de service IENAIR apportent toute leur expertise dans l’organisation de cette manifestation. »\nTéléchargez le flyer ici\nInscrivez-vous en remplissant le coupon ici
URL:https://www.safecluster.com/evenement/11eme-rencontre-aviation-civile-et-aviation-militaire/
LOCATION:DGAC amphithéâtre\, 50 rue Henry Farman\, Paris\, 75720
CATEGORIES:Filière
ATTACH;FMTTYPE=:
END:VEVENT
BEGIN:VEVENT
DTSTART;TZID=Europe/Paris:20171116T133000
DTEND;TZID=Europe/Paris:20171116T180000
DTSTAMP:20260420T093309
CREATED:20171027T074341Z
LAST-MODIFIED:20171027T074341Z
UID:44173-1510839000-1510855200@www.safecluster.com
SUMMARY:Collège PME & Goûter du financement
DESCRIPTION:Le financement de l’innovation\, levier essentiel de business pour votre entreprise !\nUne multitude de source de financement : comment s’y retrouver ?\nJeudi 16 Novembre 2017\n–\nSAFE Cluster (Aix en Provence)\n\n\nSAFE Cluster organise son goûter du financement !\nEntreprises et porteurs de projet : ce goûter du financement vous permettra d’identifier les interlocuteurs et dispositifs adéquats en fonction de votre projet et de son état d’avancement.\n \n\nProgramme prévisionnel :\n13h30-14h30 : Collège PME SAFE \n(réservé aux PME adhérentes de SAFE Cluster)\nA partir de 14H30 : Goûter du financement \n14h30 – 14h45 : Introduction (SAFE)\n14h45-15h30: Aides au financement de vos innovations en haut de bilan\nPrésentation des sources de financement possibles pour les projets innovants \n\nLes aides BPI : Prêts\, Subventions et avances remboursables\, etc. (Intervenant : BPI – Christophe Gaté)\nAides et subventions régionales : paca émergence\, paca investissement\, etc. (Intervenant : région PACA Elodie VICTORERO)\n\n15h30-16h15: Comment maitriser votre ingénierie financière et convaincre ! \n\nLes différences du financement du bas et haut de bilan : vers qui se tourner ?\nComment présenter votre projet devant des investisseurs ?\nComment structurer votre ingénierie financière ?\nLes fonds d’investissement : cartographie\n\n(Intervenant : BNP – Stephan Antaramian)\n16h15-16h30: SAFE vous accompagne à travers son accélérateur Pegase Croissance\n(Intervenant : Pegase Croissance)\n16h30-18h : Networking\n  \nJE PARTICIPE ET JE M’INSCRIS ICI \n \nPour plus d’information\, n’hésitez pas à contacter votre contact Innovation   laura.carel@safecluster.com; anna.philippe@safecluster.com
URL:https://www.safecluster.com/evenement/college-pme-gouter-du-financement/
LOCATION:SAFE Cluster\, Pôle de compétitivité Safe Cluster - Avenue Louis Philibert\, Aix-en-Provence\, 13290\, France
CATEGORIES:Innovation & Open Innovation
ORGANIZER;CN="SAFE CLUSTER":MAILTO:infos@safecluster.com
END:VEVENT
BEGIN:VEVENT
DTSTART;TZID=Europe/Paris:20171120T000000
DTEND;TZID=Europe/Paris:20171124T000000
DTSTAMP:20260420T093309
CREATED:20170728T115825Z
LAST-MODIFIED:20170728T115825Z
UID:44142-1511136000-1511481600@www.safecluster.com
SUMMARY:Formation imagerie géomatique et systèmes autonomes
DESCRIPTION:SAFE Cluster aux côtés de DCI et du réseau Provence RPAS Network vous propose une session de formation portant sur l’imagerie\, la géomatique et les systèmes autonomes à Salon de Provence.\nCette formation s’adresse à un public souhaitant ou ayant besoin d’en connaître sur ces domaines dans l’optique de structurer leurs projets de développement.\nPlus d’infos ici\nContact et plus d’infos : hubert.berenger@safecluster.com\n 
URL:https://www.safecluster.com/evenement/formation-imagerie-geomatique-et-systemes-autonomes/
LOCATION:Base aérienne 701\, 13661 Salon-de-Provence Air\, Salon de provence\, France
CATEGORIES:Innovation & Open Innovation
ATTACH;FMTTYPE=:
END:VEVENT
BEGIN:VEVENT
DTSTART;VALUE=DATE:20171121
DTEND;VALUE=DATE:20171125
DTSTAMP:20260420T093309
CREATED:20170112T152424Z
LAST-MODIFIED:20170112T152424Z
UID:44060-1511222400-1511567999@www.safecluster.com
SUMMARY:MILIPOL PARIS
DESCRIPTION:Milipol Paris est l’événement mondial de la sécurité intérieure des États. La 20ème édition se déroulera du 21 au 24 novembre 2017 au Parc des Expositions de Paris-Nord Villepinte. Le salon est organisé sous l’égide du Ministère français de l’Intérieur en partenariat avec plusieurs institutions gouvernementales.\nEn 2015\, le salon a rassemblé 949 exposants de 55 pays\, 24 056 visiteurs provenant de 143 pays et 115 délégations officielles de 77 pays.\nPour cette nouvelle édition\, venez exposer à nos côtés ! Renforcez votre position sur le marché de la sécurité aux côtés des plus grands donneurs d’ordre…\nManifestez votre intérêt et venez exposer. Voir les modalités de participation en cliquant ici\nDeadline de retour le vendredi 30 juin 2017\nContact et plus d’infos : christine.ando@safecluster.com
URL:https://www.safecluster.com/evenement/milipol-paris/
LOCATION:Parc des Expositions de Paris Nord\, Parc des Expositions de Paris Nord\, Villepinte
CATEGORIES:Salon
ATTACH;FMTTYPE=:
END:VEVENT
BEGIN:VEVENT
DTSTART;TZID=Europe/Paris:20171121T100000
DTEND;TZID=Europe/Paris:20171121T120000
DTSTAMP:20260420T093309
CREATED:20171109T144231Z
LAST-MODIFIED:20171109T144231Z
UID:44179-1511258400-1511265600@www.safecluster.com
SUMMARY:Présentation du Copernicus Web Service par ATOS
DESCRIPTION:Financé par la Commission Européenne\, via l’ESA\, ce service offrira courant 2018 la mise en oeuvre opérationnelle de plateformes proposant le stockage\, l’offre de données\, le calcul et des outils de développement d’applications d’observation de la terre.\nLa Société ATOS qui présente ce nouveau Web Service pilote un des 4 consortiums chargé de développer une plateforme opérationnelle et vous propose de découvrir comment vous pouvez donner une nouvelle dimension au développement et à l’évolution de votre offre de services et de vos applications en venant s’intégrer à cette plateforme intitulée CWS (Copernicus Web Services).\nElle proposera ses services selon les 3 couches de la technologie du « cloud » (IaaS\, PaaS\, DaaS).\nContact et inscription : Loïc Chanvillard
URL:https://www.safecluster.com/evenement/presentation-du-copernicus-web-service-par-atos/
CATEGORIES:Filière
ATTACH;FMTTYPE=:
END:VEVENT
BEGIN:VEVENT
DTSTART;TZID=Europe/Paris:20171121T140000
DTEND;TZID=Europe/Paris:20171121T170000
DTSTAMP:20260420T093309
CREATED:20171011T074859Z
LAST-MODIFIED:20171011T074859Z
UID:44167-1511272800-1511283600@www.safecluster.com
SUMMARY:Nouvelles APIs géoportail géoservices IGN
DESCRIPTION:L’IGN vous invite à participer à l’après-midi de présentations et d’échanges sur les nouvelles APIs Géoportail et Géoservices IGN le mardi 21 novembre 2017 à Sophia Antipolis.\nLes APIs Géoportail facilitent la mise en oeuvre des ressources du Géoportail dans un site ou une application web. Elles ont évolué en 2016 pour mieux répondre aux besoins des développeurs et SSII.\nContact SAFE : Loïc Chanvillard
URL:https://www.safecluster.com/evenement/nouvelles-apis-geoportail-geoservices-ign/
LOCATION:business pole\, espace de coworking 1047 route des dolines allée Ziller entrée A\, sophia antipolis\, 06560
CATEGORIES:Innovation & Open Innovation
ATTACH;FMTTYPE=:
END:VEVENT
BEGIN:VEVENT
DTSTART;TZID=Europe/Paris:20171122T080000
DTEND;TZID=Europe/Paris:20171122T170000
DTSTAMP:20260420T093309
CREATED:20170913T133446Z
LAST-MODIFIED:20170913T133446Z
UID:44151-1511337600-1511370000@www.safecluster.com
SUMMARY:Journée d'infos AAP H2020 Cybersécurité/Sociétés sûres
DESCRIPTION:Dans le cadre de la 20ème édition Milipol Paris\, événement mondial de la sécurité intérieure des états\, le PCN (Point de Contact National) organise une session Brokerage internationale Horizon 2020\, le 22 septembre prochain à Toulouse. Découvrez au cours de cette journée la programmation des appels à projets H2020 Cybersécurité et Sociétés Sûres.\nProgramme détaillé disponible en cliquant ici\nContact : jean-michel.dumaz@safecluster.com
URL:https://www.safecluster.com/evenement/journee-dinfos-aap-h2020-cybersecuritesocietes-sures/
LOCATION:Toulouse
CATEGORIES:Innovation & Open Innovation
ATTACH;FMTTYPE=:
END:VEVENT
BEGIN:VEVENT
DTSTART;TZID=Europe/Paris:20171122T080000
DTEND;TZID=Europe/Paris:20171123T170000
DTSTAMP:20260420T093309
CREATED:20170727T124046Z
LAST-MODIFIED:20170727T124046Z
UID:44139-1511337600-1511456400@www.safecluster.com
SUMMARY:16ème édition Industria
DESCRIPTION:Industria est le salon professionnel dédié à l’industrie en PACA. Créé en 2002\, Industria est devenu au fil des éditions\, l’événement de référence qui réunit en un seul et même lieu les principaux acteurs industriels.\nSalon à la fois haute de gamme et convivial\, Industria a pour but de promouvoir les savoir-faire industriels\, de développer et de valoriser l’attractivité des métiers industriels en leur assurant une visibilité optimale.\nRendez-vous les 22 et 23 novembre 2017 à l’hippodrome de Cagnes sur Mer.\nConsultez le programme des 2 journées en cliquant ici
URL:https://www.safecluster.com/evenement/16eme-edition-industria/
LOCATION:hippodrome Cagnes sur Mer
CATEGORIES:Salon
ATTACH;FMTTYPE=:
END:VEVENT
BEGIN:VEVENT
DTSTART;TZID=Europe/Paris:20171124T110000
DTEND;TZID=Europe/Paris:20171124T140000
DTSTAMP:20260420T093309
CREATED:20171108T164205Z
LAST-MODIFIED:20171108T164205Z
UID:44178-1511521200-1511532000@www.safecluster.com
SUMMARY:Grenelle de l'innovation\, R&D\, Veille techno DOS
DESCRIPTION:Thales Alenia Space vous propose le Grenelle R&D\, Innovation\, Veille techno DOS organisé le 24 novembre 2017 de 11h à 14h à Cannes.\nL’occasion de découvrir tout ce que vous avez toujours voulu savoir sur leurs produits\, leurs axes de recherches\, l’Open Innovation\, les concurrents…\nVenez rencontrer\, échanger avec les intervenants de la R&D\, de l’innovation\, de la veille technologique et bien plus encore.\nTéléchargez ici le flyer de l’événement !\n 
URL:https://www.safecluster.com/evenement/grenelle-de-linnovation-rd-veille-techno-dos/
LOCATION:Thales Alenia Space\, Allée des Gabians\, Cannes
CATEGORIES:Innovation & Open Innovation
END:VEVENT
BEGIN:VEVENT
DTSTART;TZID=Europe/Paris:20171129T083000
DTEND;TZID=Europe/Paris:20171129T160000
DTSTAMP:20260420T093309
CREATED:20171108T151306Z
LAST-MODIFIED:20171108T151306Z
UID:44176-1511944200-1511971200@www.safecluster.com
SUMMARY:11èmes rencontres CEA - Industries en région PACA
DESCRIPTION:SAFE Cluster est partenaire de la 11ème rencontre CEA – Industries dédiées  « Logiciels – Codes de calcul – Modélisation – Simulation » le mercredi 29 novembre 2017 de 8h30 à 16h à Gardanne.\nProgramme détaillé disponible en cliquant ici\nInscrivez-vous en cliquant ici
URL:https://www.safecluster.com/evenement/11emes-rencontres-cea-industries-en-region-paca/
LOCATION:Ecole Nationale Supérieure des Mines\, Site Georges Charpak 880 route de Mimet\, Gardanne\, 13120
CATEGORIES:Innovation & Open Innovation
ATTACH;FMTTYPE=:
END:VEVENT
END:VCALENDAR