BEGIN:VCALENDAR
VERSION:2.0
PRODID:-//Pôle SAFE - ECPv6.15.20//NONSGML v1.0//EN
CALSCALE:GREGORIAN
METHOD:PUBLISH
X-WR-CALNAME:Pôle SAFE
X-ORIGINAL-URL:https://www.safecluster.com
X-WR-CALDESC:Évènements pour Pôle SAFE
REFRESH-INTERVAL;VALUE=DURATION:PT1H
X-Robots-Tag:noindex
X-PUBLISHED-TTL:PT1H
BEGIN:VTIMEZONE
TZID:Europe/Paris
BEGIN:DAYLIGHT
TZOFFSETFROM:+0100
TZOFFSETTO:+0200
TZNAME:CEST
DTSTART:20170326T010000
END:DAYLIGHT
BEGIN:STANDARD
TZOFFSETFROM:+0200
TZOFFSETTO:+0100
TZNAME:CET
DTSTART:20171029T010000
END:STANDARD
BEGIN:DAYLIGHT
TZOFFSETFROM:+0100
TZOFFSETTO:+0200
TZNAME:CEST
DTSTART:20180325T010000
END:DAYLIGHT
BEGIN:STANDARD
TZOFFSETFROM:+0200
TZOFFSETTO:+0100
TZNAME:CET
DTSTART:20181028T010000
END:STANDARD
BEGIN:DAYLIGHT
TZOFFSETFROM:+0100
TZOFFSETTO:+0200
TZNAME:CEST
DTSTART:20190331T010000
END:DAYLIGHT
BEGIN:STANDARD
TZOFFSETFROM:+0200
TZOFFSETTO:+0100
TZNAME:CET
DTSTART:20191027T010000
END:STANDARD
END:VTIMEZONE
BEGIN:VEVENT
DTSTART;TZID=Europe/Paris:20180116T093000
DTEND;TZID=Europe/Paris:20180116T130000
DTSTAMP:20260420T071035
CREATED:20171124T143004Z
LAST-MODIFIED:20171124T143004Z
UID:44181-1516095000-1516107600@www.safecluster.com
SUMMARY:Petit Déj' Inno : Boostez vos collaborations avec la recherche !
DESCRIPTION:SAFE Cluster et ses Pôles de compétitivité partenaires Mer Méditerranée et Optitec\, ainsi que l’ANR\, le CARNOT filière AIRCAR\, le CEA\,\nl’IRT Saint Exupéry et la SATT Sud-Est\nco-organisent le petit déjeuner de l’innovation\n« PME\, ETI\, Grand groupes :\nboostez vos collaborations avec la Recherche ! »\,\nle 16 janvier 2018 de 9h30 à 13h00 à Aix-en-Provence\n(Technopôle de l’Arbois – Bât Henri Poincaré) \nPME\, ETI\, Grands Groupes : Venez découvrir tous les dispositifs qui s’offrent à vous pour mieux collaborer avec la Recherche !\nProgramme :\n9h00 : Accueil des participants\n9h15 – 11h00 : Présentation de plusieurs dispositifs et partenaires de la collaboration Entreprises/Laboratoires de Recherche :\nI/ ANR flash\, Challenges\, Labcom\, ANR astrid et ANR astrid maturation\, ANR générique défi 9 : comment s’y retrouver ?\nLes dispositifs de financement de l’ANR (Agence Nationale de la Recherche) à destination des entreprises et laboratoires de recherche en particulier dans les domaines de la sécurité et de l’aéronautique/spatial : présentation réalisée par Isidore DECOSTAIRE\, Responsable du Défi 9 de l’ANR\nII/ De l’invention à l’Innovation : la SATT Sud Est permet d’accélérer le transfert de technologies depuis les laboratoires vers les entreprises\nPrésentation de la SATT Sud Est (Société d’Accélération du Transfert de Technologies PACA Corse) réalisée par Franck Orsatti ICT Project Manager à la SATT Sud Est\nIII/ Avec AirCar\, accédez à l’excellence de la recherche française grâce à un portail unique : les compétences et les moyens de 9 000 chercheurs au service de l’innovation pour les TPE\, PME\, ETI de l’aéronautique\nPrésentation du Carnot Filières AIRCAR réalisée par Jacques Oubrier\, Directeur d’AIRCAR\nIV/ Le CEA\, un partenaire au service des entreprises dans leur projet d’innovation technologique\nPrésentation réalisée par Jean-Pierre TERRAZ\, chargé de valorisation industrielle CEA Cadarache\nV/ L’IRT Saint Exupéry\, accélérateur de recherche technologique pour l’aéronautique\, l’espace et les systèmes embarqués à vocation mondiale\nPrésentation réalisée par Nadia Vaysse\, Chargée Montage Projet & Patrick Farail\, Responsable du Pôle Ingénierie\n11h00 – 11h30 : Témoignages et retours d’expérience d’entreprises (EXAVISION et KONTRON) et d’un laboratoire (LP3) ayant bénéficié de ces différents dispositifs\n11h30 – 13h00 : RDV BtoB : Entretiens individuels et confidentiels pour échanger sur vos besoins et répondre à vos questions spécifiques.\nATTENTION : l’inscription est obligatoire afin d’organiser le planning de la matinée (ordre de passage fixé en fonction de la date de réception de votre inscription). \n13h : Networking \nINSCRIPTION ICI \nContacts et infos : Laura Carel – Anna Philippe
URL:https://www.safecluster.com/evenement/petit-dej-inno-boostez-vos-collaborations-avec-la-recherche/
LOCATION:SAFE Cluster\, Pôle de compétitivité Safe Cluster - Avenue Louis Philibert\, Aix-en-Provence\, 13290\, France
CATEGORIES:Innovation & Open Innovation
ATTACH;FMTTYPE=:
END:VEVENT
BEGIN:VEVENT
DTSTART;VALUE=DATE:20180119
DTEND;VALUE=DATE:20180120
DTSTAMP:20260420T071035
CREATED:20171222T100827Z
LAST-MODIFIED:20171222T100827Z
UID:44182-1516320000-1516406399@www.safecluster.com
SUMMARY:Le CITEPH lance le 12ème Appel à Projets
DESCRIPTION:Le CITEPH lance le 12ème Appel à Projets et vous convie à la réunion de lancement organisée le vendredi 19 janvier 2018 à Courbevoie (Auditorium de la Maison de la Mécanique 39/41 rue Louis Blanc).\n\nCette réunion est l’occasion annuelle pour les Sponsors du Programme de préciser leurs besoins de R&D. Comme l’an dernier\, un temps d’échange plus important est prévu entre sponsors et PME-PMI.\nPlus d’infos ici\nContact SAFE : Magali Jaffard
URL:https://www.safecluster.com/evenement/le-citeph-lance-le-12eme-appel-a-projets/
LOCATION:Maison de la Mécanique\, 39/41 rue Louis Blanc\, Courbevoie
CATEGORIES:Innovation & Open Innovation
ATTACH;FMTTYPE=:
END:VEVENT
BEGIN:VEVENT
DTSTART;TZID=Europe/Paris:20180121T080000
DTEND;TZID=Europe/Paris:20180123T170000
DTSTAMP:20260420T071035
CREATED:20170927T115149Z
LAST-MODIFIED:20170927T115149Z
UID:44158-1516521600-1516726800@www.safecluster.com
SUMMARY:INTERSEC Dubai
DESCRIPTION:L’Intersec est le salon professionnel leader mondial pour la protection et la sécurité et\, en plus\, une plate-forme de communication couronnée de succès pour le secteur de la protection et de la sécurité. Il a lieu une fois par an à Dubaï et offre aux visiteurs un éventail unique de produits des secteurs sécurité commerciale\, sécurité informatique\, protection contre l’incendie\, sauvetage\, protection de personnes\, santé\, sécurité intérieure et surveillance.\nPlus d’infos : guillaume.riou@safecluster.com
URL:https://www.safecluster.com/evenement/intersec-dubai/
LOCATION:Dubai
END:VEVENT
BEGIN:VEVENT
DTSTART;VALUE=DATE:20180123
DTEND;VALUE=DATE:20180124
DTSTAMP:20260420T071035
CREATED:20180109T080735Z
LAST-MODIFIED:20180109T080735Z
UID:44185-1516665600-1516751999@www.safecluster.com
SUMMARY:Séminaire Gestion multirisques des territoires
DESCRIPTION:Depuis quelques mois\, les équipes du centre Irstea d’Aix-en-Provence ont engagé une réflexion commune\, sur la gestion des risques à l’échelle des territoires dans une perspective multi-aléas et multi-enjeux. Cette approche multirisque des territoires est en effet apparue naturelle\, les différents acteurs y étant souvent confrontés à des aléas variés touchant des enjeux multiples.\nDans le cadre du projet Gerimae axé sur les méthodes et outils pour la gestion des risques pour une approche territoriale intégrée multi-aléas et multi-enjeux\, un important travail d’analyse de l’existant a été réalisé. Afin de vous présenter ce travail et de débattre sur la gestion multirisques des territoires au travers d’exemples concrets\, nous vous invitons à participer au séminaire de clôture du projet qui aura lieu le mardi 23 janvier au centre Irstea d’Aix-en-Provence.\nCette journée se déroulera autour des points suivants : \n\nanalyse de la littérature scientifique sur la thématique du multirisques\,\nanalyse des politiques publiques environnementales et cartographie des outils de gestion des risques et de l’environnement\,\nprésentation des résultats d’une enquête et d’entretiens menés auprès de gestionnaires locaux des risques et de l’environnement sur leurs pratiques\,\nmoment d’échange autour d’un buffet\,\ntémoignages de gestionnaires des risques.\n\n  \nTéléchargez ici le programme de la journée\nCliquez ICI pour vous inscrire\nPour en savoir plus sur le centre d’Irstea à Aix en Provence\, cliquez ici\n 
URL:https://www.safecluster.com/evenement/seminaire-gestion-multirisques-des-territoires/
LOCATION:IRSTEA\, Aix en Provence
CATEGORIES:Filière
ATTACH;FMTTYPE=:
END:VEVENT
BEGIN:VEVENT
DTSTART;TZID=Europe/Paris:20180123T080000
DTEND;TZID=Europe/Paris:20180126T170000
DTSTAMP:20260420T071035
CREATED:20180115T151222Z
LAST-MODIFIED:20180115T151222Z
UID:44189-1516694400-1516986000@www.safecluster.com
SUMMARY:Rencontres acheteurs Sécurité Civile\, Industrielle et Environnementale
DESCRIPTION:SAFE Cluster est partenaire de la mission internationale Indonésie-Malaisie proposée par Business France et le Ministère des Affaires Etrangères qui se déroulera du 23 au 26 avril 2018.\nVous souhaitez développer vos contacts et votre business sur le territoire ? Participez à ces rencontres acheteurs et venez valoriser votre savoir-faire sur les marchés indonésien et malaisien ! Cette mission sera aussi l’occasion de rencontrer les principaux acteurs de la prévention.\nVous êtes : \n\nfournisseur d’équipements\, de matériels et de services dans les domaines de la sécurisation des accès\, la protection individuelle ou la sécurité incendie\nExpert en équipement des sites sensibles ou de protection individuelle en présence de matière dangereuse\nvous souhaitez :\nfaire la connaissance des ingénieurs HSE\, responsables sécurité et gouvernementaux de sites industriels et publics malaisiens et indonésiens pour présenter vos solutions de sécurité\nidentifier les partenaires et distributeurs sur ces territoires\npositionner votre entreprise sur ces marchés et ainsi accroître votre visibilité et saisir les opportunités de marchés sur les différents secteurs\n\nCette mission est faites pour vous !\nDécouvrez le détail du programme ainsi que l’offre tarifaire en cliquant ici\nContact et plus d’infos : Guillaume Riou\n 
URL:https://www.safecluster.com/evenement/rencontres-acheteurs-securite-civile-industrielle-et-environnementale/
LOCATION:Indonésie
ATTACH;FMTTYPE=:
END:VEVENT
BEGIN:VEVENT
DTSTART;VALUE=DATE:20180125
DTEND;VALUE=DATE:20180126
DTSTAMP:20260420T071035
CREATED:20170927T121835Z
LAST-MODIFIED:20170927T121835Z
UID:44159-1516838400-1516924799@www.safecluster.com
SUMMARY:Journée de l’Innovation - CNES
DESCRIPTION:Le CNES organise sa troisième Journée de l’Innovation le jeudi 25 janvier 2018 au Centre de Congrès Pierre Baudis à Toulouse.\nCette journée donnera au CNES l’occasion de présenter son plan détaillé de R&T des Systèmes Orbitaux. Un volet consacré aux start-up devrait nous permettre de découvrir le dynamisme des acteurs africains du domaine.\nEnfin\, une place spéciale a été accordée à la science fondamentale et à ses relations avec les technologies innovantes en liaison avec les résultats de projets d’actualité : physique particulaire\, principe d’équivalence et ondes gravitationnelles seront abordés dans le cadre de ce fil rouge.\nLe programme est consultable sur le site de l’événement http://www.cnes-innovation.fr. \nINSCRIPTION : Demandez votre code personnel obligatoire à loic.chanvillard@safecluster.com \nContact Safe Cluster : loic.chanvillard@safecluster.com
URL:https://www.safecluster.com/evenement/journee-rt-cnes/
LOCATION:Centre de Congrès Pierre Baudis\,  11 esplanade Complans Caffarelli\, Toulouse\, France
CATEGORIES:Filière,Innovation & Open Innovation
END:VEVENT
BEGIN:VEVENT
DTSTART;TZID=Europe/Paris:20180125T090000
DTEND;TZID=Europe/Paris:20180125T130000
DTSTAMP:20260420T071035
CREATED:20180123T111112Z
LAST-MODIFIED:20180123T111112Z
UID:44198-1516870800-1516885200@www.safecluster.com
SUMMARY:Petit Déjeuner du Cyprès : Outils numériques opérationnels et de formation pour la gestion de CRISE
DESCRIPTION:Le Cyprès organise le jeudi 25 janvier à 9 h dans les locaux du CYPRES/Pagode DREAL à Martigues\, un petit déjeuner sur le thème « Outils numériques opérationnels et de formation pour la gestion de CRISE\, au HSE\, à la Co activité Entreprises Extérieures et les situations dégradées ».\nL’occasion de renouveler la présentation PIICTO/KEM ONE/INODADYS avec le partenaire du GIE\, INOVADYS\, pour une cible d’industriels de l’étang de Berre et des services pompiers industriels.\nL’outil INOVADYS présenté\,  est utilisé pour l’ensemble des centrales nucléaires en France et une partie des sites TOTAL. Il est très utile et innovant pour les exercices POI\, plan Etare\, gestion de Crise\, gestion HSE et nous dévellopons dans le cadre d’un Crédit Impôt Innovation un module « gestion des Entreprises Extérieures « .\nPlus d’information et Inscription à  documentation@cypres.org  ou 04 42 13 01 00
URL:https://www.safecluster.com/evenement/petit-dejeuner-du-cypres-outils-numeriques-operationnels-et-de-formation-pour-la-gestion-de-crise/
LOCATION:CYPRES\, Route de la vierge\, CS1\, Martigues
CATEGORIES:Filière
END:VEVENT
BEGIN:VEVENT
DTSTART;TZID=Europe/Paris:20180129T140000
DTEND;TZID=Europe/Paris:20180129T170000
DTSTAMP:20260420T071035
CREATED:20180118T220338Z
LAST-MODIFIED:20180118T220338Z
UID:44192-1517234400-1517245200@www.safecluster.com
SUMMARY:Réunion d'information sur le Programme Investissement d'Avenir (PIA)
DESCRIPTION:Les pôles de compétitivité Occitanie vous invitent à la réunion d’information sur le Programme Investissement d’Avenir (PIA) pour accompagner et financer les start-ups et PME innovantes :\n► Appel à projets national «Concours d’innovation»\n► PIA 3 régionalisé\n\n\nle lundi 29 janvier 2018 à 14h – Montpellier\n\n\nle lundi 5 février 2018 à 14h – Toulouse\n\n\nInscription obligatoire et gratuite avant le 25 janvier 2018\nProgramme\n14h00 Accueil\n14h15 Temps forts \n\nPanorama général du PIA 3 et bilan PIA 1 et 2\n\nPar Alain GRIOT\, Coordinateur PIA\, Direction de la recherche et de l’innovation / Commissariat général au développement durable – Ministère de l’écologie\, du développement durable et de l’énergie. \n\nPrésentations du PIA 3 filières régionalisé et du concours de l’innovation et de ses 8 thématiques*\n\nNicolas ROCHE et Laurent CAMBUS – BPI\, Direction régional Occitanie\, Samuel PUYGRENIER et Christophe HEVIN – ADEME\, Direction régional Occitanie \n\nSession de Questions / Réponses\n\n16h00: Rencontres avec les chargés de projets des pôles de compétitivité et les intervenants autour d’un café.\n \nLieux : Montpellier et Toulouse > Les adresses vous seront précisées ultérieurement \nContact Safe Cluster : Laura Carel\n \n \nFocus Concours d’innovation [En savoir plus]\n4 thématiques opérées par l’Ademe [En savoir plus] \n•Transport et mobilité durable  • Agriculture innovante • Innover pour la qualité des écosystèmes terrestres\, aquatiques et marins • Energies renouvelables\, stockage et systèmes énergétiques.\n4 thématiques opérées par Bpifrance [En savoir plus] :\n• Numérique • Santé • Sécurité et cybersécurité • French Fab.\nCoût total du projet de R&D Innovant entre 600k€ et 5M€ pour une durée de 12 à 36 mois.\nConditions : • Etre porté par une PME unique • Financement : de 35% à 45% d’aide – 2/3 subvention / 1/3 avance remboursable
URL:https://www.safecluster.com/evenement/11758/
LOCATION:Montpellier
CATEGORIES:Innovation & Open Innovation
ATTACH;FMTTYPE=:
END:VEVENT
BEGIN:VEVENT
DTSTART;TZID=Europe/Paris:20180131T140000
DTEND;TZID=Europe/Paris:20180131T173000
DTSTAMP:20260420T071035
CREATED:20180105T090953Z
LAST-MODIFIED:20180105T090953Z
UID:44183-1517407200-1517419800@www.safecluster.com
SUMMARY:Traitement des données drones pour optimiser la sécurité à proximité des lignes électriques
DESCRIPTION:Seconde étape du Projet Univers autour du potentiel business de l’utilisation des données spatiales\, Imaginove\, Indura et leurs partenaires vous invitent à un nouveau Think Tank organisé \nMercredi 31 janvier 2018\, de 14h à 17h30\ndans les locaux d’EDF à Lyon \nL’occasion d’en savoir plus sur l’état des technologies et méthodes d’acquisition et de traitement de données LIDAR\, grâce à nos partenaires institutionnels et académiques.\nPrésentation de l’activité drone d’EDF et des enjeux et objectifs du challenge #2 qui sera officiellement lancé ce jour autour de la thématique « Traitement des données drones pour optimiser la sécurité à proximité des lignes électriques ». \nThink Tank et challenge ouverts aux PME spécialisées en traitement d’images. \nInscription gratuite mais obligatoire ICI\nPour en savoir plus sur le projet Univers\, cliquez ici\nPour toute information complémentaire\, contactez Simon Contraires – Responsable Innovation –  scontraires@imaginove.fr – 06 38 53 72 21
URL:https://www.safecluster.com/evenement/traitement-des-donnees-drones-pour-optimiser-la-securite-a-proximite-des-lignes-electrques/
LOCATION:EDF à Lyon\, Lyon
CATEGORIES:Filière
ATTACH;FMTTYPE=:
END:VEVENT
END:VCALENDAR