BEGIN:VCALENDAR
VERSION:2.0
PRODID:-//Pôle SAFE - ECPv6.15.20//NONSGML v1.0//EN
CALSCALE:GREGORIAN
METHOD:PUBLISH
X-ORIGINAL-URL:https://www.safecluster.com
X-WR-CALDESC:Évènements pour Pôle SAFE
REFRESH-INTERVAL;VALUE=DURATION:PT1H
X-Robots-Tag:noindex
X-PUBLISHED-TTL:PT1H
BEGIN:VTIMEZONE
TZID:Europe/Paris
BEGIN:DAYLIGHT
TZOFFSETFROM:+0100
TZOFFSETTO:+0200
TZNAME:CEST
DTSTART:20170326T010000
END:DAYLIGHT
BEGIN:STANDARD
TZOFFSETFROM:+0200
TZOFFSETTO:+0100
TZNAME:CET
DTSTART:20171029T010000
END:STANDARD
BEGIN:DAYLIGHT
TZOFFSETFROM:+0100
TZOFFSETTO:+0200
TZNAME:CEST
DTSTART:20180325T010000
END:DAYLIGHT
BEGIN:STANDARD
TZOFFSETFROM:+0200
TZOFFSETTO:+0100
TZNAME:CET
DTSTART:20181028T010000
END:STANDARD
BEGIN:DAYLIGHT
TZOFFSETFROM:+0100
TZOFFSETTO:+0200
TZNAME:CEST
DTSTART:20190331T010000
END:DAYLIGHT
BEGIN:STANDARD
TZOFFSETFROM:+0200
TZOFFSETTO:+0100
TZNAME:CET
DTSTART:20191027T010000
END:STANDARD
END:VTIMEZONE
BEGIN:VEVENT
DTSTART;TZID=Europe/Paris:20180430T080000
DTEND;TZID=Europe/Paris:20180503T170000
DTSTAMP:20260420T020507
CREATED:20170927T124321Z
LAST-MODIFIED:20170927T124321Z
UID:44162-1525075200-1525366800@www.safecluster.com
SUMMARY:Xponential
DESCRIPTION:If you’re looking to harness the power of unmanned technology\, AUVSI XPONENTIAL 2018 is the spot. An intersection of cutting-edge innovation and real-world applications\, XPONENTIAL is the one event that brings all things unmanned into sharp focus. Join more than 8\,500 industry leaders and forward-thinking users from both the defense and commercial sectors to learn the latest on policy\, business use cases and technology applications—and grab your share of this billion dollar industry.\nMore information : web site\nInformations : hubert.berenger@safecluster.com
URL:https://www.safecluster.com/evenement/xponential/
LOCATION:Denver\, USA
CATEGORIES:Salon
END:VEVENT
BEGIN:VEVENT
DTSTART;VALUE=DATE:20180508
DTEND;VALUE=DATE:20180511
DTSTAMP:20260420T020507
CREATED:20180418T055000Z
LAST-MODIFIED:20180418T055000Z
UID:44219-1525737600-1525996799@www.safecluster.com
SUMMARY:Salon SMART CITIES de New-York
DESCRIPTION:La Région Sud\, Provence-Alpes-Côte d’Azur et ses partenaires organisent une mission d’accompagnement dédiée aux start-ups issues de l’ensemble du territoire régional souhaitant participer à l’édition 2018 de Smart Cities New York qui se tiendra du 8 au 10 mai à New York. \nPremier événement international de cette ampleur sur les enjeux de la transition digitale et énergétique des villes\, qui s’inscrit dans le cadre de la cop d’avance de la région Sud\, le SCNY rassemble les acteurs et influenceurs de l’industrie\, du secteur public\, de l’université et de la recherche pour deux jours de conférences\, de démonstrations de solutions nouvelles et de rencontres au Pier 36\, lieu emblématique du renouveau urbain à NYC.Sécurité\, énergie\, santé\, data\, IoT\, infrastructure\, mobilité\, résilience\, eau\, agriculture urbaine sont au programme de cette édition. Le SCNY devient à New York le lieu de rencontre des municipalités à la recherche de solutions pour leur développement durable et des entreprises en mesure de répondre aux défis de la transformation urbaine.\nLors de cette édition\, la Région Sud disposera d’un stand de 18 m² sur lequel elle accueillera 6 entreprises*. Pour celles-ci\, c’est l’occasion parfaite de nouer des relations à l’international\, développer des réseaux\, fixer des rendez B2B\, rencontrer des financeurs ou des partenaires\, et aussi adapter leur offre aux besoins du marché actuel et futur.\nChaque entreprise bénéficiera\, grâce au soutien financier de la Région\, de :\n–    Un espace comprenant un comptoir avec étagère de rangement\, tabouret et leur logo\n–    2 pass d’accès aux conférences  / entreprise\n–    Mention de l’entreprise dans la communication du salon (newsletter\, site web\, application)\n–    Accès VIP à la soirée d’inauguration du salon\n–    Une préparation sur mesure en amont du salon (2 réunions de coaching) par un membre du SNCY\, expert du marché U.S.\n–    Un programme de rendez-vous B2B personnalisés\n–    Participation aux nombreuses conférences et ateliers au programme du SCNY animés par des experts du domaine des Smart Cities et à des événements en parallèle du salon\n–    Suivi des relations créées durant le salon jusqu’à l’édition suivante par un membre du SNCY\, expert du marché U.S.\n*équivalent à 8850€ par entreprise pris en charge à 100% par la Région Sud\, Provence-Alpes-Côte d’Azur.\nÀ noter : les frais de logistique (Hôtel + Avion) sont à la charge de l’entreprise.\nComment candidater ?\nLa mobilisation des entreprises est coordonnée par l’ARII en lien avec les différents acteurs.\n–    Compléter la fiche de présentation (entreprise et solution/objet/projet présenté) ci-jointe et de la retourner aux contacts mentionnés ci-dessous avant le 4 avril 2018. \n–    Joindre une attestation De minimis\, et ce\, afin de s’assurer du non-dépassement du seuil de 200 000 euros d’aides publiques notifiées au titre de ce régime d’aide sur les trois dernières années (2015-2017).\nLes entreprises seront informées de leur sélection fin mars (la date précise vous sera communiquée ultérieurement) suite à l’analyse de leur candidature par un comité de sélection présidé par la Région. \nDocuments à télécharger:\n\n\nAMI/Participation au salon Smart Cities : qui comprend tous les détails pour candidater ainsi qu’un zoom sur l’édition 2018 de SCNY\nLa fiche entreprise à compléter et retourner auprès de l’ARII\n\nContacts:•    Agence Régionale  pour l’innovation et l’internationalisation des Entreprises (ARII)\nArnaud BLAIN\, Chargé de mission\, Pôle International et Compétences\nTél: 04 88 22 85 08\n•    Région Sud\, Provence-Alpes-Côte d’Azur\nYamina BOULKERARA\, Chargée de mission\, Service Rayonnement International\nTél: 04 88 73 80 65\n\n 
URL:https://www.safecluster.com/evenement/salon-smart-cities-de-new-york/
LOCATION:New York\, USA
CATEGORIES:Salon
ATTACH;FMTTYPE=:
END:VEVENT
BEGIN:VEVENT
DTSTART;VALUE=DATE:20180518
DTEND;VALUE=DATE:20180519
DTSTAMP:20260420T020507
CREATED:20180207T103251Z
LAST-MODIFIED:20180207T103251Z
UID:44205-1526601600-1526687999@www.safecluster.com
SUMMARY:Assemblée Générale & SAFE Day
DESCRIPTION:Toute l’équipe de SAFE Cluster vous convie à l’Assemblée Générale et au SAFE Day\, événement annuel dédié au réseau SAFE le vendredi 18 mai 2018 à partir de 9h à l’Ecole de l’Air à Salon de Provence !\nAnimations\, conférences\, tables rondes\, rencontres adhérents\, vidéos… Retrouvez très prochainement le programme de cette journée en détail !\nNous comptons déjà sur votre présence essentielle !\nInscrivez-vous en cliquant ici\nVous ne pourrez être présent ? Téléchargez ici le Bon pour pouvoir\nContact et infos SAFE :  Magali Viviani
URL:https://www.safecluster.com/evenement/save-the-date-assemblee-generale-de-safe-cluster/
LOCATION:Base aérienne 701\, 13661 Salon-de-Provence Air\, Salon de provence\, France
CATEGORIES:Réseau
ATTACH;FMTTYPE=:
END:VEVENT
BEGIN:VEVENT
DTSTART;TZID=Europe/Paris:20180522T093000
DTEND;TZID=Europe/Paris:20180522T110000
DTSTAMP:20260420T020507
CREATED:20180425T094840Z
LAST-MODIFIED:20180425T094840Z
UID:44221-1526981400-1526986800@www.safecluster.com
SUMMARY:Matinée débat "Sécurité et protection économique des entreprises à l'ère numérique"
DESCRIPTION:En partenariat avec Bernard VERGIER\, Président de la Chambre de Commerce et d’Industrie de Vaucluse\, \nJean-Christophe MORAUD\, Préfet de Vaucluse \, vous convie à une matinée-débats #SECNUMECO\, \navec l’intervention des représentants de l’Agence nationale de la sécurité des systèmes d’information (ANSSI)\, \ndu Service de l’information stratégique et de la sécurité économiques (SISSE) et des chefs d’entreprises sur le thème : \n«Sécurité et protection économique des entreprises à l’ère du numérique »\,\nle mardi 22 mai à 9h30\, à l’amphithéâtre du campus de la CCI de Vaucluse\, allée des Fenaisons\, à Avignon \nAu Programme: \n\n9h00 : Accueil café\n9h30 : Mot d’accueil de Bernard VERGIER\, Président de la CCI de Vaucluse et propos introductif de Jean-Christophe MORAUD\, Préfet de Vaucluse\n9h45 : Table ronde n°1\, Sécurité numérique et protection des données personnelles\n\nThèmes abordés : à l’heure de l’omniprésence du numérique et du développement constant de ses spectaculaires potentialités\, les entreprises doivent pouvoir compter sur des outils numériques sécurisés. Or\, chaque jour\, de tous côtés\, les exemples de nouvelles vulnérabilités se multiplient.\n– Quels dispositifs de protection existe-il pour protéger vos entreprises de plus en plus victimes de cyberattaques ?\n– Comment adapter sa protection à la nature de ses données : état des lieux des données\, protections\, focus sur l’entrée en vigueur du règlement européen sur la protection des données en mai 2018.\nIntervenants : M. Moise MOYAL\, délégué de l’Agence nationale de la sécurité des systèmes d’information\, M. Jean FRAYSSINET\, Professeur émérite à l’Université d’Aix-Marseille. Membre de la Commission de contrôle des fichiers d’Interpol\, M. Thierry MAIGNAN\, vice-président de l’association Pro Vaucluse Numérique\, et Mme Mélanie LAFON\, responsable RH (data protection officer)\, entreprise Sofico Services France. \n\n10h45 : Table ronde n°2 \, Sécurité économique et compétitivité des entreprises\n\nThèmes abordés : dans un univers ou la compétition est devenue globale\, où la concurrence est intensifiée\, où l’information occupe une place de plus en plus cruciale\, les entreprises sont exposées à un nombre croissant de risques susceptibles de les déstabiliser ou de menacer leur pérennité (intrusions\, vol ou perte de données sensibles\, atteintes aux savoir-faire\, atteintes à l’image ou à la réputation\, fraudes au président\, faux virements…. ). Et\, contrairement aux idées reçues\, les TPE-PME sont particulièrement concernées.\n– Comment concevoir la sûreté comme un atout de la compétitivité et l’intégrer dans l’élaboration de la stratégie de son entreprise et sa dynamique de développement.\nIntervenants : M. Jean-Christophe MORAUD\, préfet de Vaucluse\, un représentant du SISSE\, et M. Claude BORDES\, entreprise DA&T (La Tour d’Aygues)\nLes participants pourront échanger avec les intervenants aux tables rondes.\nPour des questions d’organisation\, il est demandé de s’inscrire avant le 10 mai 2018\, via le formulaire en ligne “inscription à l’événement” ci-dessous : \n Inscription à l’événement\nContact : Philippe Margaine – CCI – Responsable Intelligence Economique et Numérique\nTél : 06 20 61 24 14 / economie-numerique@vaucluse.cci.fr /
URL:https://www.safecluster.com/evenement/matinee-debat-securite-et-protection-economique-des-entreprises-a-lere-numerique/
LOCATION:CCI du Vaucluse\, Allée des Feraisons\, Avignon
CATEGORIES:Filière
END:VEVENT
BEGIN:VEVENT
DTSTART;VALUE=DATE:20180523
DTEND;VALUE=DATE:20180525
DTSTAMP:20260420T020507
CREATED:20180306T072039Z
LAST-MODIFIED:20180306T072039Z
UID:44213-1527033600-1527206399@www.safecluster.com
SUMMARY:Les Technos Days de Valabre
DESCRIPTION:Depuis 2010\, les inondations majeures qui ont touché le sud de la France et les évènements plus récents de 2018 dans la moitié nord du territoire\, nous réinvitent à nous questionner sur notre capacité à anticiper et à faire face à des épisodes toujours plus fréquents\, plus rapides et plus longs. Fort de ce constat\, l‘Entente de Valabre\, avec le soutien de la DGSCGC et en collaboration avec la mission interrégionale « inondation arc méditerranéen » de la DREAL PACA\, vous propose un focus sur ces technologies d‘actualité les 23 et 24 mai 2018 à l’occasion des Technos Days de Valabre. \nSafe Cluster est à nouveau partenaire de cette édition 2018.\nL’environnement technologique est devenu notre quotidien. Vous pourrez ainsi découvrir\, la multiplicité des outils proposés et les mutations rapides nous imposent des rendez-vous réguliers pour identifier le champ des possibles en matière d’assistance technique à nos besoins.\nCe Technos Days est l’occasion de nous pencher sur la problématique spécifique des inondations. Quelles solutions aujourd’hui\, de la prévision à la gestion de crise\, pour être plus performants ? » \nPour en savoir plus\, visitez le site dédié ICI\n 
URL:https://www.safecluster.com/evenement/les-technos-days-de-valabre/
LOCATION:Valabre\, Centre Francis Arrighi Domaine de Valabre - RN7\, Gardanne\, 13120
CATEGORIES:Innovation & Open Innovation
ATTACH;FMTTYPE=:
END:VEVENT
BEGIN:VEVENT
DTSTART;VALUE=DATE:20180524
DTEND;VALUE=DATE:20180527
DTSTAMP:20260420T020507
CREATED:20170927T130007Z
LAST-MODIFIED:20170927T130007Z
UID:44164-1527120000-1527379199@www.safecluster.com
SUMMARY:VIVA TECHNOLOGY 2018
DESCRIPTION:Faire de Provence Alpes Côte d’Azur la première Smart Région d’Europe\, telle est notre ambition. Pour y arriver\, la Région doit être exemplaire en matière de soutien à l’innovation et aux startups. Aussi\, la Région a décidé d’être présente au premier salon européen dédié aux transformations qui se tiendra à Paris les 24\, 25 et 26 mai prochains.\nVitrine de l’innovation française\, le salon VIVA TECHNOLOGY est le rendez-vous incontournable des acteurs du domaine. Grands Groupes\, Start-up\, Challengeurs\, investisseurs tous seront présents pour relever les défis de demain. Plateforme de rang mondial\, les dernières innovations y sont dévoilées\, à l’instar du CES Las Vegas. \nVous souhaitez exposer sur le stand régional ? Téléchargez l’Appel à Manifestation d’Intérêt.\nLes entreprises\, répondant aux critères d’éligibilité et souhaitant participer au salon sur le stand régional devront transmettre leur candidature\, par mail\, au service SMART REGION avant le 06 avril 2018.\n \nPour plus d’information\, contactez au Service SMART Région :\nFabienne EVANS\, Tel 04 91 57 50 41\, @ : fevans@regionpaca.fr\nJulie ROCKIZKI\, Tel : 04 88 73 79 96\, @ : jrockizki@regionpaca.fr
URL:https://www.safecluster.com/evenement/vivatech/
LOCATION:Paris
CATEGORIES:Salon
ATTACH;FMTTYPE=:
END:VEVENT
BEGIN:VEVENT
DTSTART;VALUE=DATE:20180525
DTEND;VALUE=DATE:20180526
DTSTAMP:20260420T020507
CREATED:20180221T110203Z
LAST-MODIFIED:20180221T110203Z
UID:44209-1527206400-1527292799@www.safecluster.com
SUMMARY:Workshop de présentation de l'AMI Thales Alenia Space et Safran Aircraft Engines
DESCRIPTION:SAFE vous ouvre les portes des équipes de Thales Alenia Space et SAFRAN Aircraft Engines et offre une belle opportunité de collaboration ! \nCo-développez vos solutions (en répondant aux USE-CASE ci-dessous) et venez présenter votre projet devant les experts opérationnels et décideurs des 2 industriels lors du Workshop organisé le vendredi 25 mai à École Nationale Supérieure des Mines de Saint-Étienne – Campus Georges Charpak Provence.\nLes points forts ? Échanger avec les équipes opérationnelles et décisionnaires  des 2 grands groupes\, accroître votre visibilité et booster vos compétences pour construire des POC et MVP avec ces grands industriels partenaires.\nEn + : Un co-financement de votre POC à la clé !\n \nProgramme :\n9h30-10h   Accueil des participants\n10h-12h     Présentation par TAS et SAFRAN de leur activité essais et simulation en région\nPrésentation par TAS et SAFRAN de leurs problématiques « traitement des données essais »\nDescription des Use Case sélectionnés par les binômes SAFRAN/TAS\nPrésentation des règles de l’appel par SAFE et SCS\n12h-13h30       Cocktail déjeunatoire de networking\nA partir de 13h30 : Speed’dating en parallèle par Use-Case \nLes PME présentent leur proposition aux experts de chaque USE-CASE :\n1. Ouverture de domaine\n2. Recherche des anomalies sur les voies de mesures en essai\n3. Identification d’erreurs de transmission sur signaux hautes fréquences\nFin du WS : confirmation des entreprises souhaitant envoyer une proposition de PoC et renvoi d’un dossier de candidature et d’un chiffrage avant le 15 juin 2018 \n\n\n\n\n\n\n\n\n\n\n\n\nVous êtes intéressés ?\nIl est encore temps de répondre à l’AMI !\n 1 à 2 structures seront sélectionnées par USE-CASE\n Deadline d’inscription au Workshop et de retour de votre Template de présentation : vendredi 18 mai 2018\n\n\n\n\n\n\n\n\n\n\n\n\n \nPour en savoir plus sur USE CASES TAS SAFRAN \n\n\n\n\n\n\n\nTéléchargez le template de présentation  !\n\n\n\n\n\n\n\n  \n\n\n\n\n\n\n\n\nInscrivez-vous ICI\n\n\n\n\n\n\n\n\n  \n\n\n\n\n\n\n\n\n\n\n\n\n\n\n\n\nPour qui est cet A.M.I ? \nToutes les entreprises (TPE / PME / ETI)\, travaillant dans le domaine des technologies Big Data (Big Data\, Big Analytics\, Machine learning\, etc.) et compétences logicielles associées\n\n\n\n\n\n\n\n\n\n\n\n\n\n\n\n  \n\n\n\n\n\n\n\n Téléchargez ICI les Conditions Générales\n\n\n\n\n\n\n\n  \n\n\n\n\n\n\n\nContact & plus d’infos\n\n\n\n\n\n\n\n 
URL:https://www.safecluster.com/evenement/workshop-de-presentation-de-lami-thales-alenia-space-et-safran-aircraft-engines/
LOCATION:École Nationale Supérieure des Mines de Saint-Étienne – Campus Georges Charpak Provence
CATEGORIES:Innovation & Open Innovation
ATTACH;FMTTYPE=:
END:VEVENT
BEGIN:VEVENT
DTSTART;VALUE=DATE:20180525
DTEND;VALUE=DATE:20180527
DTSTAMP:20260420T020507
CREATED:20180419T122117Z
LAST-MODIFIED:20180419T122117Z
UID:44220-1527206400-1527379199@www.safecluster.com
SUMMARY:ActInSpace III
DESCRIPTION:Le CNES\, l’ESA et l’ESA BIC Sud France s’unissent pour organiser la troisième édition #ActInSpace les vendredi 25 et samedi 26 mai 2018. Cet événement créatif unique se déroulera en simultané dans 34 pays et 72 villes internationales\, dont 17 françaises. Le hackathon sera organisé en local par la Communauté d’Agglomération Cannes Pays de Lérins avec le support de Telecom Valley au Logis des jeunes de Provence Mimont à Cannes. A noter la participation de Loïc Chanvillard\, responsable des activités spatiales\, qui représentera Safe Cluster dans le comité local d’organisation sur Cannes.\nActInSpace est un événement de créativité à destination des étudiants\, ingénieurs et entrepreneurs. En deux jours\, des équipes imaginent des services et produits à partir de technologies et données spatiales avec l’appui d’experts du domaine spatial et de l’entrepreneuriat.\nLeur objectif : relever en équipe et en 24 heures un des 40 défis proposés ! \nPour qui : Ouvert à tout public !\nQue vous soyez étudiant\, créateur d’entreprise\, chercheur\, développeur\, usager\, créatif\, designer\, experts ou tout simplement passionné par le domaine du spatial\, vous êtes tous les bienvenus dans l’aventure ! \nLes Défis :\nListe des défis proposés est en ligne sur le site de l’événement : https://actinspace.org/challenges\nCes défis ont pour but de promouvoir l’usage des technologies spatiales au bénéfice des citoyens et de notre planète. \nSi vous souhaitez :\n\nAvoir l’opportunité de rencontrer des experts\, des inventeurs et enrichir votre carnet d’adresses\,\nAccomplir un challenge dans l’air du temps et découvrir des technologies à la pointe du progrès\,\nAvoir une reconnaissance dans le domaine du numérique et du spatial\,\nAboutir à une véritable expérience d’entrepreneuriat.\n\nAlors l’ActInSpace est fait pour vous ! \n Inscription gratuite et obligatoire ! \n  \nContact et plus d’infos : Loïc Chanvillard
URL:https://www.safecluster.com/evenement/actinspace-iii/
CATEGORIES:Filière
ATTACH;FMTTYPE=:
END:VEVENT
BEGIN:VEVENT
DTSTART;VALUE=DATE:20180528
DTEND;VALUE=DATE:20180602
DTSTAMP:20260420T020507
CREATED:20180105T100529Z
LAST-MODIFIED:20180105T100529Z
UID:44184-1527465600-1527897599@www.safecluster.com
SUMMARY:SpaceOps 2018
DESCRIPTION:REGISTER NOW FOR SPACEOPS 2018 !\nHosted and organized by the Centre National d’Etudes Spatiales (CNES)\, SpaceOps 2018 is a technical forum of the Space Mission Operations and Ground Systems community that addresses state-of-the-art operations principles\, methods\, and tools.\nThe best ideas\, the brightest teams\, and the most insightful experiences will be presented to the broadest community of space operations professionals. Consider exhibiting and sponsoring in this 15th SpaceOps Conference \nThe 15th International Conference on Space Operations\nwill take place from May 28 – June 1\, 2018\nin Marseille\, France \nWe are pleased to announce that the online registration is now open. \nRegister now and benefit from our Early Registration Fee!\n \n5 good reasons to register for SpaceOps 2018 : \n\nDiscover the latest space operations techniques and lessons from missions and share your innovations with the space operations community\nHear late-breaking news from agencies and commercial operators\nNetwork with leading space operations experts from Agencies\, Academic and Research Institutions\, Operators and Industry\nLearn about the latest developments in operations technology\, products\, and services\nExplore the beautiful area of Marseille (France)\n\n \nYou will find information about Marseille\, accommodation\, transportation and a lot more on the Symposium website.\nWe recommend that you book your accommodation well in advance.\nFor more information: contact@spaceops2018.org\nContact Safe Cluster : Loïc Chanvillard\nwww.spaceops2018.org
URL:https://www.safecluster.com/evenement/spaceops-2018/
LOCATION:Palais du Pharo\, 58 Boulevard Charles Livon\, Marseille
CATEGORIES:Filière
ATTACH;FMTTYPE=:
END:VEVENT
BEGIN:VEVENT
DTSTART;VALUE=DATE:20180528
DTEND;VALUE=DATE:20180602
DTSTAMP:20260420T020507
CREATED:20180119T085317Z
LAST-MODIFIED:20180119T085317Z
UID:44195-1527465600-1527897599@www.safecluster.com
SUMMARY:Semaine Numérique
DESCRIPTION:A l’initiative de la Ville d’Avignon\, l’Association Delta Numérique (ADN) est chargée de l’organisation de la première édition de la Semaine Numérique à Avignon\, qui se déroulera du 28 mai au 1er juin.\nCet événement se déroulera en deux temps\, articulés autour du Salon du Numérique organisé chaque année par notre association. Durant la semaine\, des conférences\, workshop\, et animations seront proposés sur divers lieux de la ville. Cet ensemble d’actions sera regroupé sous le label « Semaine Numérique ».\nSafe Cluster est heureux de contribuer à cet événement.\nPlus d’information seront communiquées ultérieurement.\nContact Safe Cluster : Elvira Caspers
URL:https://www.safecluster.com/evenement/semaine-numerique/
LOCATION:Avjgnon
CATEGORIES:Filière
ATTACH;FMTTYPE=:
END:VEVENT
BEGIN:VEVENT
DTSTART;TZID=Europe/Paris:20180528T083000
DTEND;TZID=Europe/Paris:20180528T180000
DTSTAMP:20260420T020507
CREATED:20180322T132046Z
LAST-MODIFIED:20180322T132046Z
UID:44217-1527496200-1527530400@www.safecluster.com
SUMMARY:Rencontre « entreprises-diplomatie » sur le thème du « soutien à l’export sécurité et défense »
DESCRIPTION:La Section Liaison Entreprise (SLE) de la Direction de la Coopération de Sécurité et de Défense (DCSD) et la Direction des Entreprises\, de l’Economie Internationale et de la promotion du Tourisme (DEEIT) organisent une journée de rencontre « entreprises-diplomatie » sur le thème du « soutien à l’export sécurité et défense »\, le lundi 28 mai 2018 au siège du MEDEF\, à Paris\, de 08h30 à 18h (limite longue).\nCette journée a pour vocation de permettre à chacun de mieux appréhender le rôle des acteurs du SOUTEX au niveau étatique. Elle a pour objectifs de : \n\nDiffuser de l’information\nPartager de l’expérience\nMettre en relation les PME avec un certain nombre d’acteurs institutionnels (ceux qui traitent de près ou de loin du monde de l’export\, et ceux qui seront affectés à l’été 2018 en poste à l’étranger (coopérants\, attachés de défense))\n\nElle s’articulera donc autour de conférences le matin et de rencontres sur un modèle « B to G » l’après-midi\, ainsi que des temps consacrés au networking lors des pauses café et du cocktail déjeunatoire.\nLes thèmes des exposés du matin seront\, en plus de la description de « qui fait quoi en termes de SOUTEX au niveau de l’Etat » : \n\nLes règles et conditions d’exportation (= « le contrôle export »)\nLes outils de financement français\, ainsi que les projets de l’UE sur le sujet\n\n \nLa participation à cette journée est gratuite. Cependant\, eu égard à la taille des locaux\, le nombre de places sera limité. \nLes réponses sont à envoyer svp à l’adresse suivante: seminaire2018.sle-dcsd@diplomatie.gouv.fr\nLes entreprises retenues recevront alors des éléments complémentaires.\n \n 
URL:https://www.safecluster.com/evenement/rencontre-entreprises-diplomatie-sur-le-theme-du-soutien-a-lexport-securite-et-defense/
LOCATION:MEDEF\, 55 Avenue Bosquet\, Paris\, 75007
ATTACH;FMTTYPE=:
END:VEVENT
BEGIN:VEVENT
DTSTART;VALUE=DATE:20180529
DTEND;VALUE=DATE:20180601
DTSTAMP:20260420T020507
CREATED:20180109T111956Z
LAST-MODIFIED:20180109T111956Z
UID:44187-1527552000-1527811199@www.safecluster.com
SUMMARY:Préventica 2018
DESCRIPTION:LE CONGRÈS SÉCURITÉ / SÛRETÉ – LYON 2018\nOrganisés depuis 2013 dans les régions de France\, les Rendez-Vous Préventica Sécurité-Sûreté constituent un nouveau format original de rendez-vous BtoB à destination des décideurs de proximité.\nPublics visés : • Donneurs d’ordres publics et privés • Professionnels de la filière (Fabricants\, Distributeurs\, Installateurs…) • Forces constituées (Police\, Gendarmerie\, Armée\, Sécurité Civile) • Experts\, Universitaires\, Organisations professionnelles.\n90 exposants provenant de France et d’Europe pour présenter toutes les solutions et innovations technologiques en matière de sécurité.\n60 conférences et ateliers pratiques permettant de décrypter les enjeux de la sécurité des biens et des personnes (sûreté et malveillance\, vidéo protection\, protection des sites sensibles\, sécurité des grands évènements …). \nSafe Cluster sera présent et ambitionne de fédérer et accompagner ses adhérents sous son Pavillon sur ce salon.\nTéléchargez et renvoyez avant le 23 mars\nle BON D’ENGAGEMENT PREVENTICA  \nà Magali VIVIANI\n  \nA noter également en annexe du Salon\, la présence de Safe Cluster à la 2e édition des Assises de la Sécurité globale des Territoires\, co-organisées par la revue Préventique.\nL’ambition des Assises étant de démontrer que la sécurité est réellement devenue « l’affaire de tous » : l’Etat\, les Collectivités\, les Entreprises\, les Professionnels\, les citoyens… \nVous voulez en savoir plus ? Contactez rapidement Magali Viviani\n\nLe Ministère de l’Intérieur renouvelle son Haut Patronage à Préventica pour cette édition. \n\n\n\n 
URL:https://www.safecluster.com/evenement/preventica-2018/
LOCATION:Centre de Congrès de Lyon\, 50 Quai Charles de Gaulle \, Lyon
CATEGORIES:Salon
ATTACH;FMTTYPE=:
END:VEVENT
BEGIN:VEVENT
DTSTART;VALUE=DATE:20180529
DTEND;VALUE=DATE:20180601
DTSTAMP:20260420T020507
CREATED:20180119T092703Z
LAST-MODIFIED:20180119T092703Z
UID:44196-1527552000-1527811199@www.safecluster.com
SUMMARY:EBACE 2018
DESCRIPTION:Le salon de l’aviation d’affaires EBACE2018 (European Business Aviation Convention & Exhibition) est un événement de premier plan pour l’aviation d’affaires en Europe.\nDu 29 au 31 mai 2018 à Genève dans le magnifique Palexpo\, le salon réunira des chefs d’entreprise\, des décideurs\, des responsables gouvernementaux\, des fabricants ainsi que tous les acteurs de l’aviation d’affaires.\nCe que l’on peut attendre d’EBACE2018 : \n\nPlus de 450 exposants\nPlus de 13 000 visiteurs\nLa présentation de plus de 55 avions stationnés au sol sur le tarmac de l’aéroport de Genève\n\n \nCette année encore\, Safe Cluster est partenaire de l’événement et offre à ses adhérents une réduction exceptionnelle de $100 sur le ticket d’entrée (valeur initiale $360).\nPour bénéficier de cette réduction\, veuillez cliquer ici pour vous enregistrer en utilisant le code de réduction à demander à Christine Ando.\nContact et plus d’information auprès de Madame Sophie Brun\nVisitez ici le site web du salon\n 
URL:https://www.safecluster.com/evenement/ebace-2018/
LOCATION:Genève\, Suisse
CATEGORIES:Salon
ATTACH;FMTTYPE=:
END:VEVENT
END:VCALENDAR