BEGIN:VCALENDAR
VERSION:2.0
PRODID:-//Pôle SAFE - ECPv6.15.20//NONSGML v1.0//EN
CALSCALE:GREGORIAN
METHOD:PUBLISH
X-WR-CALNAME:Pôle SAFE
X-ORIGINAL-URL:https://www.safecluster.com
X-WR-CALDESC:Évènements pour Pôle SAFE
REFRESH-INTERVAL;VALUE=DURATION:PT1H
X-Robots-Tag:noindex
X-PUBLISHED-TTL:PT1H
BEGIN:VTIMEZONE
TZID:Europe/Paris
BEGIN:DAYLIGHT
TZOFFSETFROM:+0100
TZOFFSETTO:+0200
TZNAME:CEST
DTSTART:20170326T010000
END:DAYLIGHT
BEGIN:STANDARD
TZOFFSETFROM:+0200
TZOFFSETTO:+0100
TZNAME:CET
DTSTART:20171029T010000
END:STANDARD
BEGIN:DAYLIGHT
TZOFFSETFROM:+0100
TZOFFSETTO:+0200
TZNAME:CEST
DTSTART:20180325T010000
END:DAYLIGHT
BEGIN:STANDARD
TZOFFSETFROM:+0200
TZOFFSETTO:+0100
TZNAME:CET
DTSTART:20181028T010000
END:STANDARD
BEGIN:DAYLIGHT
TZOFFSETFROM:+0100
TZOFFSETTO:+0200
TZNAME:CEST
DTSTART:20190331T010000
END:DAYLIGHT
BEGIN:STANDARD
TZOFFSETFROM:+0200
TZOFFSETTO:+0100
TZNAME:CET
DTSTART:20191027T010000
END:STANDARD
END:VTIMEZONE
BEGIN:VEVENT
DTSTART;VALUE=DATE:20180528
DTEND;VALUE=DATE:20180602
DTSTAMP:20260420T004033
CREATED:20180105T100529Z
LAST-MODIFIED:20180105T100529Z
UID:44184-1527465600-1527897599@www.safecluster.com
SUMMARY:SpaceOps 2018
DESCRIPTION:REGISTER NOW FOR SPACEOPS 2018 !\nHosted and organized by the Centre National d’Etudes Spatiales (CNES)\, SpaceOps 2018 is a technical forum of the Space Mission Operations and Ground Systems community that addresses state-of-the-art operations principles\, methods\, and tools.\nThe best ideas\, the brightest teams\, and the most insightful experiences will be presented to the broadest community of space operations professionals. Consider exhibiting and sponsoring in this 15th SpaceOps Conference \nThe 15th International Conference on Space Operations\nwill take place from May 28 – June 1\, 2018\nin Marseille\, France \nWe are pleased to announce that the online registration is now open. \nRegister now and benefit from our Early Registration Fee!\n \n5 good reasons to register for SpaceOps 2018 : \n\nDiscover the latest space operations techniques and lessons from missions and share your innovations with the space operations community\nHear late-breaking news from agencies and commercial operators\nNetwork with leading space operations experts from Agencies\, Academic and Research Institutions\, Operators and Industry\nLearn about the latest developments in operations technology\, products\, and services\nExplore the beautiful area of Marseille (France)\n\n \nYou will find information about Marseille\, accommodation\, transportation and a lot more on the Symposium website.\nWe recommend that you book your accommodation well in advance.\nFor more information: contact@spaceops2018.org\nContact Safe Cluster : Loïc Chanvillard\nwww.spaceops2018.org
URL:https://www.safecluster.com/evenement/spaceops-2018/
LOCATION:Palais du Pharo\, 58 Boulevard Charles Livon\, Marseille
CATEGORIES:Filière
ATTACH;FMTTYPE=:
END:VEVENT
BEGIN:VEVENT
DTSTART;VALUE=DATE:20180528
DTEND;VALUE=DATE:20180602
DTSTAMP:20260420T004033
CREATED:20180119T085317Z
LAST-MODIFIED:20180119T085317Z
UID:44195-1527465600-1527897599@www.safecluster.com
SUMMARY:Semaine Numérique
DESCRIPTION:A l’initiative de la Ville d’Avignon\, l’Association Delta Numérique (ADN) est chargée de l’organisation de la première édition de la Semaine Numérique à Avignon\, qui se déroulera du 28 mai au 1er juin.\nCet événement se déroulera en deux temps\, articulés autour du Salon du Numérique organisé chaque année par notre association. Durant la semaine\, des conférences\, workshop\, et animations seront proposés sur divers lieux de la ville. Cet ensemble d’actions sera regroupé sous le label « Semaine Numérique ».\nSafe Cluster est heureux de contribuer à cet événement.\nPlus d’information seront communiquées ultérieurement.\nContact Safe Cluster : Elvira Caspers
URL:https://www.safecluster.com/evenement/semaine-numerique/
LOCATION:Avjgnon
CATEGORIES:Filière
ATTACH;FMTTYPE=:
END:VEVENT
BEGIN:VEVENT
DTSTART;VALUE=DATE:20180606
DTEND;VALUE=DATE:20180611
DTSTAMP:20260420T004033
CREATED:20180522T061757Z
LAST-MODIFIED:20180522T061757Z
UID:44222-1528243200-1528675199@www.safecluster.com
SUMMARY:20ème Edition "le Rêve d’Icare"
DESCRIPTION:Depuis 30 ans\, l’Association du rêve d’Icare de Royan partage sa passion de l’Air et de l’Espace avec des dizaines de milliers de visiteurs à chaque édition. Ce festival est parvenu d’année en année à établir un lien privilégié entre ciel\, terre et mer dans le cadre aussi exceptionnel qu’insolite de la grande plage de Royan\, pour devenir un événement incontournable de l’avant-saison en Charente Maritime.\nComme à chaque édition\, le Rêve d’Icare accueille pour tenir le forum biannuel des Dirigeables qui aura lieu le vendredi 8 Juin de 9h à 13 heures dans un chapiteau sur la plage de Royan. Les porteurs de projets de Dirigeables présenteront l’avancée de leurs programmes dont certains entrent désormais en phase industrielle.\nVisitez le site dédié ICI
URL:https://www.safecluster.com/evenement/20eme-edition-le-reve-dicare/
LOCATION:Royan
CATEGORIES:Filière
ATTACH;FMTTYPE=:
END:VEVENT
BEGIN:VEVENT
DTSTART;TZID=Europe/Paris:20180606T080000
DTEND;TZID=Europe/Paris:20180606T170000
DTSTAMP:20260420T004033
CREATED:20180530T141757Z
LAST-MODIFIED:20180530T141757Z
UID:44224-1528272000-1528304400@www.safecluster.com
SUMMARY:Journées Portes Ouvertes de l'Innovation Applicative
DESCRIPTION:Venez nombreux assister aux démonstrations\nd’innovations applicatives SF\nlors de la journée\nporte ouverte du 6 juin 2018 \nGold Sponsor :  CEA TECH \n\n\n\n\nLes membres de System Factory sponsorisés par le  CEA TECH exposent et vous proposent d’assister à des démonstrations de technologies \nInscrivez vous ici \n*Inscription Obligatoire \n\nCEA TECH capteurs\, l’imagerie\, la fusion de données\, l’analyse de structures\, l’analyse de câbles et bien d’autres démonstrations de briques.\nBIOCEANOR : Nous développons et commercialisons des produits et services innovants permettant de mesurer la qualité de l’eau en temps réel et par prédiction. Nous travaillons sur des produits utilisant différentes briques technologiques : IoT (Internet des objets) Big Data et machine Learning.\nRGX : Nous concevons des systèmes d’imagerie hyperspectrale\, permettant de percevoir au-delà de ce qui est visible à l’œil nu. L’alliance de l’imagerie et de la spectroscopie a des applications notamment dans les domaines de l’agriculture de précision\, la sécurité\, l’écologie…\nCETRAC : Pour faire face à l’augmentation des besoins en moyen de communication hétérogène\, la technologie CetraC les simplifie et les rend\, sûrs et sécurisés dans tous vos systèmes critiques.\nLes propriétés : multi-protocole\, multi-criticité\, certifiable et modélisable\, 100% Hardware\, 100% made in France. Les domaines d’usages : aéronautique\, automobile\, naval\, espace\, industrie et cybersécurité.\nSMART LIGHTING ALLIANCE : Pour palier à la saturation du réseau et des ondes électromagnétiques\, nous promouvons l’éclairage intelligent à travers des solutions comme le LiFi. La démonstration visera à démontrer la capacité de la LED à envoyer des données (vidéo et/ou audio) par la lumière.\nIGO : Transformez vos données géospatiales en applications\nDémonstrations : plateforme géospatiale 3D temps réel collaborative\, maquette numérique 3D temps réel interactive\, IGOCLOUD3D et solutions plateformes SaaS\nUNIVERSITE DE TOULON : Suite logicielle pour la surveillance maritime. Il s’agit d’un ensemble de briques logicielles (détection de navires\, tracking\, détourage\, superrésolution) dédiées à la surveillance maritime et développées dans le contexte spécifique de l’environnement marin.\nReconnaissance de visages en temps réel. Il s’agit d’une brique logicielle\, développée initialement pour de l’indexation automatique de films\, qui réalise de la reconnaissance de visage en temps réel dans une vidéo.\n 3ROAM fournit des solutions de communication sans fil de 10 Mbps à 10 Gbps pour acheminer la voix et les données entre capteurs\, images et services de back end. 3Roam est un pionnier de la « fibre radio » pour les réseaux haut débit auprès des opérateurs\, des fournisseurs d’accès Internet\, des administrations et des réseaux privés (surveillance\, maritime\, pétrole\, transport). \nASSYSTEM E&I\nstand 1 : Une offre de sécurité globale (Physique\, Fonctionnelle et Cybersécurité) pour les infrastructures industrielles y compris critiques\nstand 2 : Assystem présentera ses activités en Intelligence Artificielle dans le domaine du Nucléaire et des Transports notamment au travers de l’études de données non structurées et de l’utilisation d’architecture et d’algorithme innovants pour la mise en évidence de comportements ou de propriétés particulières. thèmes : Les architectures big data pour les domaines du nucléaire et des transports\, les méthodes pour définir l’indexation de documents et pour la définition d’ontologies\nstand 3 : ASSYSTEM présentera son approche « Digital Twin » à partir d’une architecture ouverte et utilisant les nouvelles technologies BIM\, Scan\, Réalité Virtuelle ainsi qu’une méthodologie innovante de construction d’un modèle de données. \n AVENAO PRODWAYS\nnouvelle offre de SERVICE en matière  d’Hybridation & Electrification Moteur : cette offre très innovante est susceptible d’intéresser tous les fabricants et distributeurs de :\nEngins de levage & manutention\, Engins de BTP\, Engins  d’Agriculture\, Fabricant de Drones\, Fabricant de Robot \, Transport Terrestre & Nautique & Aérien.
URL:https://www.safecluster.com/evenement/journees-portes-ouvertes-de-linnovation-applicative/
LOCATION:technopôle de la mer\, 93 FORUM de le Méditerranée\, ollioules\, 83190
CATEGORIES:Filière
ATTACH;FMTTYPE=:
END:VEVENT
BEGIN:VEVENT
DTSTART;VALUE=DATE:20180611
DTEND;VALUE=DATE:20180616
DTSTAMP:20260420T004033
CREATED:20170927T124554Z
LAST-MODIFIED:20170927T124554Z
UID:44163-1528675200-1529107199@www.safecluster.com
SUMMARY:Eurosatory
DESCRIPTION:Le salon Eurosatory\, réunit tous les 2 ans les principaux acteurs de la Défense et de la Sécurité terrestres et aéroterrestres. Créé en 1967\, ce salon n’a cessé de croître depuis\, aussi bien du côté des exposants\, que celui des visiteurs. Il se tiendra en 2018\, du 11 au 15 juin\, au Parc des Expositions de Paris Nord Villepinte.\nEurosatory est le plus grand rassemblement international consacré à la défense et à la sécurité. \nIl est donc naturel pour SAFE Cluster d’y participer à vos côtés.  Notre objectif étant de promouvoir les filières de Défense et Sécurité de la région PACA à travers le savoir-faire des entreprises adhérentes. \nIls participent à nos côtés !\n\n \nPlusieurs « Packs » vous sont proposés en fonction de la surface d’exposition souhaitée.\nLes « Packs » comprennent tous :\n\n\nLe stand équipé (une signalétique individuelle)\n\n\n2 badges exposants\n\n\nDes badges visiteurs sociétés illimités\n\n\nL’accès à l’espace commun équipé d’un écran et consommables (café\, soft…)\n\n\nUn accompagnement privilégié du pôle en amont et durant le salon\n\n\nTARIFS :\n\n\nStand de 8m2 (avec Angle sur allée principale) : 6920€ HT\n\n\nStand de 6m2 (avec Angle sur allée secondaire) :5450€ HT\n\n\nStand de 6m2 : 5080€ HT\n\n\nStand de 3m2 : 2990€ HT\n\n\nStand Co exposant (pupitre) : 2150€ HT\n\n\nPour plus de renseignement : magali.viviani@safecluster.com
URL:https://www.safecluster.com/evenement/eurosatory/
LOCATION:Paris
CATEGORIES:Salon
ATTACH;FMTTYPE=:
END:VEVENT
BEGIN:VEVENT
DTSTART;TZID=Europe/Paris:20180613T080000
DTEND;TZID=Europe/Paris:20180613T170000
DTSTAMP:20260420T004033
CREATED:20171017T112150Z
LAST-MODIFIED:20171017T112150Z
UID:44170-1528876800-1528909200@www.safecluster.com
SUMMARY:Forum emploi - Avignon
DESCRIPTION:Forum emploi à Avignon.\nPlus d’infos dans les prochaines semaines .
URL:https://www.safecluster.com/evenement/forum-emploi-avignon/
LOCATION:Avignon
END:VEVENT
BEGIN:VEVENT
DTSTART;TZID=Europe/Paris:20180618T091500
DTEND;TZID=Europe/Paris:20180618T170000
DTSTAMP:20260420T004033
CREATED:20180528T125848Z
LAST-MODIFIED:20180528T125848Z
UID:44223-1529313300-1529341200@www.safecluster.com
SUMMARY:RENCONTRE ET RDV BTOB AVEC FRANCE BREVETS - Valorisation internationale de vos brevets par le licencing
DESCRIPTION:Safe Cluster est partenaire de la Rencontre « Valorisation internationale de vos brevets par le licencing » et RDV BTOB avec France Brevets\, organisée par Éa éco-entreprises\, Aqua Valley\, France Brevets et le Technopôle de l’Environnement Arbois-Méditerranée qui se tiendra le lundi 18 juin\, à la Salle du Forum au Technopôle de l’Environnement Arbois-Méditerranée à Aix en Provence.\nVous permettre de mieux comprendre en quoi consiste la valorisation de la propriété intellectuelle dans la compétition mondiale\, mais également de découvrir quels sont les avantages et les inconvénients de cet outil.\nPUBLIC CONCERNÉ :\nToutes entreprises et laboratoires de recherche membres des clusters\, Pôles organisateurs et partenaires de l’événement.\nLA PRIORITÉ SERA DONNÉE AUX CHEFS DE PROJET\, RESPONSABLES INNOVATION\, COORDINATEURS DE PROJET…\nINTERVENANT : Murielle GREUSARD\, French and European Patent Attorney – France Brevets\nMODERATEUR : Lounis Mebarek\, Éa éco-entreprises\nPROGRAMME\n9 :15 : Accueil café\n9 :30 : Qu’est-ce qu’un brevet ?\n– Que breveter ?\n– Comment protéger mes innovations ?\n– Comment inscrire le brevet dans la stratégie de développement de mon entreprise ?\n11 :00 : Comment valoriser mon brevet ? Rôle(s) potentiels de France Brevets ?\n11 :30 : Témoignage et exemples\n11 :45 : Présentation du projet FinMed\n12 :00 Déjeuner libre\n13 :00 -17 :00 : RDV BtoB (20 minutes\, sur inscription seulement) \nINSCRIPTION ICI \nNombre de places limité : 50 ; inscription obligatoire\nImportant\, toute personne non inscrite au préalable\, ne pourra être acceptée. \nRENSEIGNEMENTS :\nLounis MEBAREK\, chargé de mission innovation \, lounis.mebarek@ea-ecoentreprises.com / Tel. 04 42 97 10 15\nPour en savoir plus\, téléchargez ici le flyer
URL:https://www.safecluster.com/evenement/rencontre-et-rdv-btob-avec-france-brevets-valorisation-internationale-de-vos-brevets-par-le-licencing/
LOCATION:TECHNOPÔLE DE L’ENVIRONNEMENT\, Domaine du Petit Arbois \, Aix en Provence
CATEGORIES:Filière
ATTACH;FMTTYPE=:
END:VEVENT
BEGIN:VEVENT
DTSTART;VALUE=DATE:20180621
DTEND;VALUE=DATE:20180623
DTSTAMP:20260420T004033
CREATED:20180604T052033Z
LAST-MODIFIED:20180604T052033Z
UID:44225-1529539200-1529711999@www.safecluster.com
SUMMARY:Journées"technico-opérationnelles" au Régiment de Soutien du Combattant
DESCRIPTION:Forts du succès des 2 éditions précédentes\, les organisateurs de la Journée Eau & Défense vous invitent à une 3e édition technico-opérationnelle :\nNouveau format :l’événement se tient sur deux jours\, avec possibilité d’hébergement in situ\nNouveau lieu :la base du Régiment de Soutien du Combattant de Toulouse accueillera la manifestation\nL’exposition de matériels civil et militaireadaptés aux opérations extérieures\, exclusivité 2018\, mettra en lumière les technologies et les innovations\nLe lancement du Défi DGA « Création d’un appareil de traitement d’eau souillée pour une distribution de l’eau en bouteille EDCH »\, avec pour finalité la signature d’un marché.\nParticipez également à la conférence « retours d’expérience des forces en opération»\, aux rendez-vous B to B et aux ateliers…\nDécouvrez le programme de ces 2 journées : \n\n\n\n\n\n\n\n\n\n\n\n\n\n\n\n\n\n\n\n\n\n\n\n\nJOUR 1\nJeudi 21 Juin 2018\n\n\n\n\n\n\n\n\n\n\n\n\n\n\n\n  \n\n\n\n\n\n\n\n\n\n\n\n\n\n\n\n\n10h30 : Ouverture de la journée\n11h00 : Conférence plénière\nRetours d’expérience des forces en opération\n12h30 : Déjeuner\n14h00 : Inauguration officielle de l’exposition \nParcours au sein des exposants\n15h30 : Pause\n16h00 : Sessions parallèles\n* 16h00/18h30 : B to B\n* 16h00/17h30 : Atelier 1 : Achat Défense Innovation\nPossibilité de couchage sous tente\, en conditions opérationnelles\n\n\n\n\n\n\n\n\n\n\n\n\n\n\n\n\n\n\n\n\n\n\n\n\n\n\n\n\n\n\n\n\n\n\n\n\n\n\n\n\n\nJOUR 2\nVendredi 22 Juin 2018\n\n\n\n\n\n\n\n\n\n\n\n\n\n\n\n  \n\n\n\n\n\n\n\n\n\n\n\n\n\n\n\n\n08h30 : Session parallèles\n* 08h30/10h30 : B to B\n* 08h30/10h30 : Exposition\n* 09h00 / 10h30 : Atelier 2 : Recyclage / Réutilisation de l’eau en conditions extérieures10h30 : Pause10h45 : Présentation et lancement du défi DGA\n » Création d’un appareil de traitement d’eau souillée pour une distribution de l’eau en bouteille EDCH « .\n12h00 : Clôture \n\n\n\n\n\n\n\n\n\n\n\n\n\n\n\n  \n\n\n\n\n\n\n\n\n\n\n\n\n\n\n\n\n\n\n\n\n\n\n\n  \n\n\n\n\n\n\n\n► Je m’inscris aux journées Eau & Défense\n\n\n\n\n\n\n\n\n\n\n► Je souhaite exposer gratuitement du matériel\n\n\n\n \nCONTACT :\nMylène DESMONTS\, Chargée de mission Aqua-Valley m.desmonts@aqua-valley.com // 06 34 66 93 47
URL:https://www.safecluster.com/evenement/journeestechnico-operationnelles-au-regiment-de-soutien-du-combattant/
CATEGORIES:Filière
ATTACH;FMTTYPE=:
END:VEVENT
BEGIN:VEVENT
DTSTART;VALUE=DATE:20180625
DTEND;VALUE=DATE:20180630
DTSTAMP:20260420T004033
CREATED:20180425T091556Z
LAST-MODIFIED:20180425T091556Z
UID:12959-1529884800-1530316799@www.safecluster.com
SUMMARY:Rencontres avec les acteurs de l’aéronautique en Côte d’Ivoire et au Nigéria
DESCRIPTION:De nombreux besoins ont été identifiés sur ces 2 marchés\, notamment sur les thématiques suivantes : MRO (hélicoptères et avions)\, formation\, services aux compagnies aériennes et GSE (Ground Support Equipment). Le programme propose dans chaque pays des présentations marchés\, des visites de sites et des rendez-vous BtoB.\nContacts et plus d’info Business France :\nSamantha DOUARIN\, Chargée d’opérations Aéronautique et Spatial Activité Export Service Industrie\nJean-Michel REPELLIN\, Chef de projet Aéronautique et Spatial Activité Export Service Industrie
URL:https://www.safecluster.com/evenement/rencontres-avec-les-acteurs-de-laeronautique-en-cote-divoire-et-au-nigeria/
LOCATION:Abidjan et Lagos
ATTACH;FMTTYPE=:
END:VEVENT
BEGIN:VEVENT
DTSTART;TZID=Europe/Paris:20180625T083000
DTEND;TZID=Europe/Paris:20180626T170000
DTSTAMP:20260420T004033
CREATED:20180530T143810Z
LAST-MODIFIED:20180530T143810Z
UID:13266-1529915400-1530032400@www.safecluster.com
SUMMARY:ROBOT PACA 2018 - Workshop robotique en PACA
DESCRIPTION:Safe Cluster est partenaire de ROBOT PACA 2018 qui se tiendra les 25 et 26 juin à l’INRIA Sophia Antipolis.\nCe workshop s’inscrit dans une initiative globale de structuration de l’activité robotique en région PACA pour en améliorer la visibilité externe\, favoriser les collaborations locales industriels/académiques/utilisateurs\, mieux faire connaître les ressources qui peuvent appuyer ces collaborations\, permettre de mutualiser les moyens\, éventuellement identifier des domaines et sujets qui sont porteurs dans la région (sans restreindre pour autant l’activité sur d’autres axes) et possiblement permettre la mise en place d’une filière éducation en robotique.\nUn objectif de ce premier workshop est donc de dresser un êtat des lieux de l’activité en robotique sur la région PACA que ce soit du point de vue de l’expertise académique\, de l’offre industrielle ou des besoins des utilisateurs finaux. En d’autres termes il s’agit de répondre aux questions: qui fait quoi ? comment ? dans quel domaine ? qui a besoin de quoi ? Pour cela il est prévu des présentations très courtes alternées avec des temps de discussions libres dans le but de dégager des groupes de discussions et/ou de compétences.\nDans une deuxième étape seront présentés différents outils qui pourraient être utiles à cette structuration comme les clusters robotiques\, l’action des centres de références UCA\, les initiatives institutionelles régionales\, etc.. avec comme objectif d’identifier la nature et le fonctionnement d’une structure légère qui permettrait à terme de se rapprocher des objectifs définis dans l’introduction. \nConsultez ici le programme \nInscription obligatoire ici \n \nA notez la participation d’Hubert Berenger\, Responsable Programmes Drones et Systèmes chez Safe Cluster\, le mardi 26 juin\, à la session Robotique Aérienne\, de 9h à 10h30.\nTéléchargez le flyer de l’événement\nContact : Hubert Berenger
URL:https://www.safecluster.com/evenement/robot-paca-2018-workshop-robotique-en-paca/
LOCATION:INRIA Sophia Antipolis\, 2004 Route des Lucioles\, Sophia Antipolis
CATEGORIES:Filière
ATTACH;FMTTYPE=:
END:VEVENT
BEGIN:VEVENT
DTSTART;VALUE=DATE:20180626
DTEND;VALUE=DATE:20180628
DTSTAMP:20260420T004033
CREATED:20180425T091338Z
LAST-MODIFIED:20180425T091338Z
UID:12955-1529971200-1530143999@www.safecluster.com
SUMMARY:Rencontres aéronautiques franco-chinoises
DESCRIPTION:Deux journées pour amorcer ou poursuivre votre approche du marché aéronautique chinois\, autour de tables rondes thématiques (matériaux\, aménagements intérieurs\, systèmes électromécaniques\, amélioration de la chaine de production)\, rencontres BtoB et visites de sites. Programme en partenariat avec les grands acteurs présents en Chine :  AIRBUS\, AVIC et COMAC.\nContacts et plus d’info Business France :\nSamantha DOUARIN\, Chargée d’opérations Aéronautique et Spatial Activité Export Service Industrie\nJean-Michel REPELLIN\, Chef de projet Aéronautique et Spatial Activité Export Service Industrie
URL:https://www.safecluster.com/evenement/rencontres-aeronautiques-franco-chinoises/
LOCATION:Pékin\, Chine
ATTACH;FMTTYPE=:
END:VEVENT
BEGIN:VEVENT
DTSTART;TZID=Europe/Paris:20180626T080000
DTEND;TZID=Europe/Paris:20180628T170000
DTSTAMP:20260420T004033
CREATED:20170927T124932Z
LAST-MODIFIED:20170927T124932Z
UID:10198-1530000000-1530205200@www.safecluster.com
SUMMARY:Toulouse Space Show
DESCRIPTION:La 6ème édition du Toulouse Space Show  qui se tiendra les 26 et 28 juin2018 au Centre de Congrès Pierre Baudis à Toulouse (France).\nC’est le rassemblement de 3000 participants pour l’Exposition (1600 m2) avec des rencontres B2B préorganisées\, ainsi qu’un hackathon international (24 villes\, 12 pays\, 900 candidats\, 200 équipes) du monde entier.\nOrganisé en partenariat avec le Centre national d’études spatiales (CNES)\, le Toulouse Space Show  est un forum mondial majeur dédié aux progrès de l’infrastructure spatiale\, des technologies et des applications.Il rassemble environ 3000 participants de nombreux pays autour de sessions plénières basées sur des keynotes de haut niveau\, des tables rondes\, des expositions\, le village des Startups et des démonstrations.\n\nLes jeunes entreprises qui ont un premier produit ou service issu de la valorisation spatiale à promouvoir sur le Salon peuvent candidater au village des startup (gratuitement) >  formulaire en ligne\n\nContact Safe Cluster : Loïc Chanvillard\, Responsable des activités spatiales\, + 33 (0)4 89 86 69 54\n\nLes autres entreprises adhérentes de Safe Cluster\, peuvent bénéficier d’une offre tarifaire privilégiée. Pour en savoir plus\, téléchargez ici le flyer de l’offre\n\nContact : William Sean COHEN\, Responsable commercial – Paris Space Week & Toulouse Space Show\, +33 (0)1 81 89 08 89\n \n 
URL:https://www.safecluster.com/evenement/toulouse-space-show/
LOCATION:Toulouse\, Base aérienne Francazal
CATEGORIES:Salon
ATTACH;FMTTYPE=:
END:VEVENT
BEGIN:VEVENT
DTSTART;VALUE=DATE:20180627
DTEND;VALUE=DATE:20180629
DTSTAMP:20260420T004033
CREATED:20180109T112703Z
LAST-MODIFIED:20180109T112703Z
UID:11605-1530057600-1530230399@www.safecluster.com
SUMMARY:Innovative City 2018
DESCRIPTION:L’édition 2017 d’Innovative City qui s’est déroulé en mode campus d’innovations a confirmé le succès et les tendances des années précédentes avec plus de 3778 participants\,152 exposants dont 70 start-up\, 237 intervenants et 43 pays représentés. Les présentations de réalisations et d’applications concrètes auront favorisé le passage à l’échelle et la reproductibilité d’applications innovantes\, et ainsi répondu aux besoins des marchés.\nLe positionnement en mode université se renforcera pour la prochaine édition.\nInnovative City 2018 « Innovation for better life & smart business » sera constitué d’exposés\, de débats\, d’échanges à la fois conviviaux et fructueux autour des modes de vie « human life » et de l’attractivité économique « smart business ».\nDans l’esprit des conférences\, l‘espace exposition sera conçue pour favoriser les échanges BtoB et la convivialité.\nL’édition 2018 traitera des facettes de l’accompagnement sociétal des citoyens dans tous les domaines où les innovations visent vers le bien-être et le mieux vivre\, le développement économique et l’emploi.\nInnovative City se confirme comme le lieu où viennent s’exprimer des personnalités de la société civile\, des représentants de gouvernements\, des élus\, des dirigeants et des scientifiques face aux participants de différentes régions du monde qui souhaitent collecter les dernières innovations qui façonneront leur territoire demain.\nPour en savoir\, visitez le site web ICI
URL:https://www.safecluster.com/evenement/innovative-city-2018/
LOCATION:Nice
CATEGORIES:Salon
ATTACH;FMTTYPE=:
END:VEVENT
BEGIN:VEVENT
DTSTART;VALUE=DATE:20180627
DTEND;VALUE=DATE:20180629
DTSTAMP:20260420T004033
CREATED:20180109T120237Z
LAST-MODIFIED:20180109T120237Z
UID:11608-1530057600-1530230399@www.safecluster.com
SUMMARY:AERO'NOV 2018
DESCRIPTION:Safe Cluster est à nouveau partenaire d’Aero’Nov Connection\, le rendez-vous incontournable de l’aéronautique et du spatial en Région Sud Provence Alpes Côte d’Azur ! \nRendez-vous les 27 & 28 Juin 2018 à Marseille (Parc Chanot) !\n \nL’édition 2018 sera de nouveau l’occasion de mettre à l’honneur le savoir faire et les compétences en région et d’accueillir un panel de PME\, start up et grands groupes  nationaux et internationaux dans un cadre propice aux échanges. \nEXPOSITION & RENCONTRES ENTREPRISES \nPossibilité de participer à des rendez-vous d’affaires ciblés ou bien à des visites informelles sur stand. Le listing complet des participants est envoyé à chaque entreprise avant l’événement pour permettre une sélection des entreprises. L’objectif est d’encourager de nouveaux partenariats technologiques et commerciaux. \nCONFERENCES \nElles sont organisées en parallèle des échanges et sont animées par des intervenants majeurs du secteur (industriels\, partenaires…) sur une base de 30 minutes. L’objectif étant de dresser un panorama des dernières innovations du secteur. \nSTART-UP & PITCH INNOVATION \nAero’Nov Connection 2018 mettra à l’honneur des start-up innovantes proposant des technologies de rupture dans les domaines aéronautique et spatial dans un espace dédié. Les entreprises sélectionnées s’affronteront lors des Pitch de l’innovation organisés durant l’événement. Un parterre d’industriels du secteur élira ainsi l’entreprise la plus innovantes suivante des critères précis (potentiel de mise sur le marché du produit/service\, caractère innovant\, …). \nPour être exposant\, inscrivez vous en cliquant ICI\nMembres de Safe ? Bénéficiez de tarifs préférentiels et cochez bien votre appartenance au pôle en bas du formulaire ! \n \nContact Safe : Christine Ando
URL:https://www.safecluster.com/evenement/aeronov-2018/
LOCATION:Parc Chanot\, rond point du prado\, marseille
ATTACH;FMTTYPE=:
END:VEVENT
END:VCALENDAR