BEGIN:VCALENDAR
VERSION:2.0
PRODID:-//Pôle SAFE - ECPv6.15.20//NONSGML v1.0//EN
CALSCALE:GREGORIAN
METHOD:PUBLISH
X-ORIGINAL-URL:https://www.safecluster.com
X-WR-CALDESC:Évènements pour Pôle SAFE
REFRESH-INTERVAL;VALUE=DURATION:PT1H
X-Robots-Tag:noindex
X-PUBLISHED-TTL:PT1H
BEGIN:VTIMEZONE
TZID:Europe/Paris
BEGIN:DAYLIGHT
TZOFFSETFROM:+0100
TZOFFSETTO:+0200
TZNAME:CEST
DTSTART:20170326T010000
END:DAYLIGHT
BEGIN:STANDARD
TZOFFSETFROM:+0200
TZOFFSETTO:+0100
TZNAME:CET
DTSTART:20171029T010000
END:STANDARD
BEGIN:DAYLIGHT
TZOFFSETFROM:+0100
TZOFFSETTO:+0200
TZNAME:CEST
DTSTART:20180325T010000
END:DAYLIGHT
BEGIN:STANDARD
TZOFFSETFROM:+0200
TZOFFSETTO:+0100
TZNAME:CET
DTSTART:20181028T010000
END:STANDARD
BEGIN:DAYLIGHT
TZOFFSETFROM:+0100
TZOFFSETTO:+0200
TZNAME:CEST
DTSTART:20190331T010000
END:DAYLIGHT
BEGIN:STANDARD
TZOFFSETFROM:+0200
TZOFFSETTO:+0100
TZNAME:CET
DTSTART:20191027T010000
END:STANDARD
END:VTIMEZONE
BEGIN:VEVENT
DTSTART;TZID=Europe/Paris:20180703T113000
DTEND;TZID=Europe/Paris:20180703T133000
DTSTAMP:20260419T232544
CREATED:20180601T121351Z
LAST-MODIFIED:20180601T121351Z
UID:13368-1530617400-1530624600@www.safecluster.com
SUMMARY:Lunch&Work
DESCRIPTION:SAFE Cluster continue sur sa lancée et vous propose avant l’été une nouvelle édition des « Lunch’ Work du réseau » ! Le mercredi 3 juillet 2018 à Aix-en-Provence.\nCe rendez-vous\, spécialement crée pour vous\, vous permettra de découvrir les nouveaux adhérents SAFE\, de faire connaissance avec eux\, de renforcer vos liens intra-réseau\, de développer votre business\, trouver et nouer vos futurs partenariats stratégiques.\nAfin de faciliter  votre présence\, les Lunch’Work Inscrivez-vous vite ICI\nL’équipe SAFE vous attend nombreux !\nContact et infos : Julie JOSUAN
URL:https://www.safecluster.com/evenement/lunchwork/
LOCATION:SAFE Cluster\, Pôle de compétitivité Safe Cluster - Avenue Louis Philibert\, Aix-en-Provence\, 13290\, France
CATEGORIES:Réseau
ATTACH;FMTTYPE=:
END:VEVENT
BEGIN:VEVENT
DTSTART;TZID=Europe/Paris:20180705T090000
DTEND;TZID=Europe/Paris:20180705T170000
DTSTAMP:20260419T232544
CREATED:20180530T133607Z
LAST-MODIFIED:20180530T133607Z
UID:13229-1530781200-1530810000@www.safecluster.com
SUMMARY:Hydro Business Meeting
DESCRIPTION:La CCIMP et ses partenaires\, dont Safe Cluster\, organisent jeudi 5 juillet à Marseille la 1ère convention d’affaires dédiée à la filière de l’eau et de l’hydraulique en région Provence-Alpes-Côte d’Azur : HYDRO BUSINESS MEETING.\nCet événement est le rendez-vous incontournable pour tous les acteurs économiques de l’eau sur le territoire Provence\, Durance et Méditerranée :\n– fournisseurs de la filière eau : fabrication-installation-distribution d’équipements\, traitement des effluents\, laboratoires d’analyse/contrôle\, bureaux d’études\n– sociétés de travaux et sous-traitance industrielle : génie civil\, chaudronnerie\, tuyauterie…\n– entreprises porteuses de solutions technologiques et numériques pour la gestion de l’eau\n– régies publiques et opérateurs délégataires du service de l’eau/assainissement\n– gestionnaires de milieux aquatiques\n– aménageurs publics et privés\n– sites industriels et tertiaires consommateurs d’eau \n3 objectifs « business » \n\nFédérer les acteurs de l’eau/hydraulique et renforcer leur visibilité\nBooster le business local entre donneurs d’ordres et PME\nPromouvoir les entreprises innovantes\n\n  \nAssistez à ce RDV incontournable pour tous les acteurs économiques de l’eau sur le territoire Provence\, Durance et Méditerranée : \nVous êtes offreurs de solutions pour le marché de l’eau (équipements\, travaux\, services …) ? Vous avez des innovations à valoriser ? \nCette journée est faite pour vous ! Elle vous permettra :\n➤D’anticiper les investissements et les besoins de sous-traitance des acteurs de l’eau\n➤D’obtenir des RDV BtoB auprès de grands donneurs d’ordres de la Région\n➤De pitcher & de valoriser vos solutions\n➤De participer à des ateliers experts \nConsultez ici le programme \nRéservez votre place ici \nClôture des inscriptions vendredi 29 juin \nParmi les donneurs d’ordres présents : EDF Hydraulique – Société Eau de Marseille Métropole – Suez Eau France – Société du Canal de Provence – ENGIE – EPA Euroméditerranée – SMAVD (Val de Durance) – SMADESEP (Serre-Ponçon) – Syndicats des bassins de l’Huveaune et de l’Arc – GIPREB (Etang de Berre) – SPL L’eau des collines (Pays d’Aubagne et de l’Etoile) – Régies municipales des eaux d’Aix-en-Provence\, Gardanne\, Martigues…\nPour en savoir\, visitez le site dédié\nContact CCI : Mathieu WEISS mathieu.weiss@ccimp.com
URL:https://www.safecluster.com/evenement/hydro-business-meeting/
LOCATION:Palais de la Bourse\, 9 La Canebière\, Marseille\, 13001\, France Métropolitaine
ATTACH;FMTTYPE=:
END:VEVENT
BEGIN:VEVENT
DTSTART;TZID=Europe/Paris:20180710T090000
DTEND;TZID=Europe/Paris:20180710T120000
DTSTAMP:20260419T232544
CREATED:20180613T123934Z
LAST-MODIFIED:20180613T123934Z
UID:13494-1531213200-1531224000@www.safecluster.com
SUMMARY:Concours de l'innovation 2ème vague
DESCRIPTION:Les Pôles de Compétitivité Aqua-Valley\, Capenergies\, Ea éco-entreprises\, Mer Méditerranée\, Optitec\, Safe Cluster\, SCS\, Terralia\, Eurobiomed et le Technopôle Arbois Méditerranée\, organisent une matinée d’information sur l’appel Concours d’Innovation « deuxième vague »\, le 10 juillet 2018 à Aix-en-Provence (Technopôle de l’environnement Arbois-Méditerranée).\nCe dispositif d’aide à l’innovation porté par Bpifrance et l’ADEME devrait porter sur les thématiques suivantes :\nThématiques opérées par BPI\n– Numérique\n– Santé\n– Alimentation intelligente\n– Espace\n– Société inclusive\nThématiques opérées par l’ADEME\n– Bâtiments\n– Industrie et agriculture écoefficiente\n– Économie circulaire\n– Environnement-santé\nPROGRAMME\n9h30 – 10h00      Accueil des participants\n10h00 – 10h45   Présentation et échanges autour du concours d’Innovation\,\npar Julie Baudet\, BPIFrance\n10h45 – 11h00    Pourquoi vous faire accompagner par les pôles de compétitivité/clusters ?\n11h00 – 12h00    Rendez-vous BtoB avec vos pôles/clusters\nATTENTION : l’inscription aux RdV BtoB est obligatoire (ordre de passage fixé en fonction de la date de réception de votre inscription)\nL’Appel à Projets « concours d’innovation » est un dispositif de soutien financé par le Programme d’Investissements d’Avenir (PIA).\nInscrivez-vous ici !\nContact : Laura Carel
URL:https://www.safecluster.com/evenement/concours-de-linnovation-2eme-vague/
LOCATION:Technopôle arbois méditerranée\, avenue louis philibert bât henri poincaré\, aix en provence
CATEGORIES:Innovation & Open Innovation
ATTACH;FMTTYPE=:
END:VEVENT
BEGIN:VEVENT
DTSTART;TZID=Europe/Paris:20180712T093000
DTEND;TZID=Europe/Paris:20180712T120000
DTSTAMP:20260419T232544
CREATED:20180619T111428Z
LAST-MODIFIED:20180619T111428Z
UID:13556-1531387800-1531396800@www.safecluster.com
SUMMARY:Webinar challenge Open Innovation GRTgaz
DESCRIPTION:Dans le cadre du lancement du challenge Open Innovation de GRTgaz\, les experts techniques se tiennent à disposition durant une matinée afin de répondre à l’ensemble de vos interrogations sur ces 3 challenges.\nLe Webinar se déroulera le 12 juillet 2018 pendant 45 minutes avec 30 minutes de présentation et 15 minutes de questions réponses.\nChallenge N°3 à partir de 9h30\nChallenge N°4 à partir de 10h15\nChallenge N°5 à partir de 11h\nVous souhaitez y participer ? Inscrivez-vous directement auprès d’Anna Philippe !
URL:https://www.safecluster.com/evenement/webinar-challenge-open-innovation-grtgaz/
CATEGORIES:Innovation & Open Innovation
ATTACH;FMTTYPE=:
END:VEVENT
END:VCALENDAR