BEGIN:VCALENDAR
VERSION:2.0
PRODID:-//Pôle SAFE - ECPv6.15.20//NONSGML v1.0//EN
CALSCALE:GREGORIAN
METHOD:PUBLISH
X-ORIGINAL-URL:https://www.safecluster.com
X-WR-CALDESC:Évènements pour Pôle SAFE
REFRESH-INTERVAL;VALUE=DURATION:PT1H
X-Robots-Tag:noindex
X-PUBLISHED-TTL:PT1H
BEGIN:VTIMEZONE
TZID:Europe/Paris
BEGIN:DAYLIGHT
TZOFFSETFROM:+0100
TZOFFSETTO:+0200
TZNAME:CEST
DTSTART:20170326T010000
END:DAYLIGHT
BEGIN:STANDARD
TZOFFSETFROM:+0200
TZOFFSETTO:+0100
TZNAME:CET
DTSTART:20171029T010000
END:STANDARD
BEGIN:DAYLIGHT
TZOFFSETFROM:+0100
TZOFFSETTO:+0200
TZNAME:CEST
DTSTART:20180325T010000
END:DAYLIGHT
BEGIN:STANDARD
TZOFFSETFROM:+0200
TZOFFSETTO:+0100
TZNAME:CET
DTSTART:20181028T010000
END:STANDARD
BEGIN:DAYLIGHT
TZOFFSETFROM:+0100
TZOFFSETTO:+0200
TZNAME:CEST
DTSTART:20190331T010000
END:DAYLIGHT
BEGIN:STANDARD
TZOFFSETFROM:+0200
TZOFFSETTO:+0100
TZNAME:CET
DTSTART:20191027T010000
END:STANDARD
END:VTIMEZONE
BEGIN:VEVENT
DTSTART;TZID=Europe/Paris:20180911T100000
DTEND;TZID=Europe/Paris:20180911T180000
DTSTAMP:20260419T205821
CREATED:20180829T121535Z
LAST-MODIFIED:20180829T121535Z
UID:14898-1536660000-1536688800@www.safecluster.com
SUMMARY:Journée d'information et de réseautage\, Energie & Sécurité dans les villes intelligentes
DESCRIPTION:Les réseaux de Points de Contact Nationaux (PCNs) Energie\, SHS et Sécurité organisent une journée d’information et de réseautage consacrée aux appels 2019 sur les villes intelligentes.\nTrois appels sont plus particulièrement visés : \n\nLC-SC3-SCC-1-2018-2019-2020 du programme de travail Energie sûre\, propre ;\nSU-INFRA02-2019 du programme de travail Sécurité ;\nSC6-Transformations 2018-2019-2020 Innovative solutions for inclusive and sustainable urban environments.\n\nCette journée aura lieu le 11 septembre 2018 au ministère de l’Enseignement supérieur\, de la Recherche et de l’Innovation à Paris.\nElle a pour objectif de présenter : \n\nles règles de participation à H2020 ;\nles appels dédiés aux thématiques Energie et Sécurité dans les villes intelligentes ;\nles points de vue des opérateurs et services publics concernés dans le cadre d’une table ronde ;\ndes témoignages de coordinateurs de projet et d’expert-évaluateur.\n\n \nInscription gratuite mais obligatoire\, en ligne jusqu’au 4 septembre 2018.\nLes participants pourront présenter leurs idées de projets et/ou offres de compétences en vue de répondre à ces appels.\nTéléchargez le programme de la journée
URL:https://www.safecluster.com/evenement/journee-dinformation-et-de-reseautage-energie-securite-dans-les-villes-intelligentes/
LOCATION:MESRI\, 25\, rue de la montagne Sainte-Geneviève\, Paris\, 75005
CATEGORIES:Innovation & Open Innovation
ATTACH;FMTTYPE=:
END:VEVENT
BEGIN:VEVENT
DTSTART;VALUE=DATE:20180913
DTEND;VALUE=DATE:20180914
DTSTAMP:20260419T205821
CREATED:20180704T132759Z
LAST-MODIFIED:20180704T132759Z
UID:14233-1536796800-1536883199@www.safecluster.com
SUMMARY:Comment sécuriser une zone interdite de baignade ?
DESCRIPTION:EDF fait appel à vos innovations pour répondre au besoin de sécurisation d’un tronçon de cours d’eau.\nProposez dès maintenant vos solutions !\nEDF est à la recherche de solutions pour réduire la criticité d’un tronçon de cours d’eau pouvant être ponctuellement soumis à une forte augmentation de débit liée à des lâchers d’eau intempestifs en amont d’une usine hydroélectrique.\nProposez votre solution en candidatant à ce challenge et si intérêt\, le test de cette dernière sur site sera financé par EDF (réalisation à compter d’octobre 2018).\nLa ou les solutions les plus pertinentes feront l’objet d’un marché d’achat par EDF.\nToutes les propositions seront examinées\, même les plus créatives !\nLes besoins d’EDF concernent les fonctionnalités suivantes :\n– Outils de prévention / sensibilisation de la population susceptible de fréquenter le site (touristes\, promeneurs\, etc.)\n– Outils d’alerte à la population\n– Outils de surveillance de la population \n\n\n\n\nAMI EDF SAFE Cluster 2018 \n\n\n\n\n\n\n\n\nCandidatez ! \nVous avez jusqu’au 5 septembre 2018 \nINSCRIPTION A LA JOURNEE ICI \n \n\n\n\n  \nContact & Infos : Anna PHILIPPE\nGuillaume RIOU
URL:https://www.safecluster.com/evenement/comment-securiser-une-zone-interdite-de-baignade/
LOCATION:CAP OMEGA à Montpellier\, Rond-Point Benjamin Franklin\, Montpellier\, 34000
CATEGORIES:Innovation & Open Innovation
ATTACH;FMTTYPE=:
END:VEVENT
BEGIN:VEVENT
DTSTART;TZID=Europe/Paris:20180919T080000
DTEND;TZID=Europe/Paris:20180919T170000
DTSTAMP:20260419T205821
CREATED:20180802T123201Z
LAST-MODIFIED:20180802T123201Z
UID:14843-1537344000-1537376400@www.safecluster.com
SUMMARY:System Factory Day
DESCRIPTION:SAFE Cluster vous invite à participer au premier salon annuel System Factory Day qui se déroulera le 19 septembre 2018 sur le site du Technopôle de la Mer à Ollioules.\nVenez découvrir les dernières technologies des membres SF… En 5 mois ce sont plus de 25 nouvelles entreprises qui ont rejoint System Factory\, 7 projets ont été lancés dont 2 sont en phase d’industrialisation.\nLe Rôle de System Factory étant l’identification des nouvelles opportunités d’applications marchés complexes\, puis individuellement pour chaque projet de rassembler les entreprises membres maîtrisant les compétences nécessaires et organiser le sourcing et co-développement des briques technologiques complémentaires dans le but d’industrialiser et commercialiser une solution produit/service fiable et structurée en moins de 12 mois.\n+ d’infos en cliquant ici\nInscription avant le 5 septembre en cliquant ici
URL:https://www.safecluster.com/evenement/system-factory-day/
LOCATION:technopôle de la mer\, 93 FORUM de le Méditerranée\, ollioules\, 83190
CATEGORIES:Innovation & Open Innovation
ATTACH;FMTTYPE=:
END:VEVENT
BEGIN:VEVENT
DTSTART;TZID=Europe/Paris:20180919T171500
DTEND;TZID=Europe/Paris:20180919T183000
DTSTAMP:20260419T205821
CREATED:20180831T115331Z
LAST-MODIFIED:20180831T115331Z
UID:14927-1537377300-1537381800@www.safecluster.com
SUMMARY:DEMAIN LE SUD - La mobilité du futur
DESCRIPTION:Dans le cadre de la semaine européenne de la mobilité\, \nRenaud MUSELIER \nPrésident de la Région Provence-Alpes-Côte d’Azur \nDéputé européen \na la plaisir de vous convier à \nDEMAIN LE SUD\nLA MOBILITÉ DU FUTUR\n Mercredi 19 Septembre 2018 à 17h15\, \nà l’Hôtel de Région\, 27 place Jules Guesde – 13002 Marseille. \nRSVP : invitation@maregionsud.fr \nTéléchargez ICI l’invitation
URL:https://www.safecluster.com/evenement/demain-le-sud-la-mobilite-du-futur/
LOCATION:Hôtel de Région\, 27\, place Jules Guesde \, Marseille
CATEGORIES:Filière
ATTACH;FMTTYPE=:
END:VEVENT
BEGIN:VEVENT
DTSTART;VALUE=DATE:20180920
DTEND;VALUE=DATE:20180922
DTSTAMP:20260419T205821
CREATED:20180220T073847Z
LAST-MODIFIED:20180220T073847Z
UID:12205-1537401600-1537574399@www.safecluster.com
SUMMARY:EUROPEAN FORUM ON DEFENCE AND DUAL TECHNOLOGIES FOR THE PROTECTION OF  THE MARITIME DOMAIN
DESCRIPTION:Ce Forum européen organisé conjointement par la Commission européenne et la Région Provence-Alpes-Côte d’Azur vise à promouvoir la défense et les technologies duales au service de la protection de l’espace maritime. Il réunira des experts européens de haut niveau\, des autorités publiques\, des clusters et des entreprises (des grands donneurs d’ordre européens aux PME).\nL’évènement vise à :\n–    Sensibiliser les acteurs économiques publics et privés au potentiel des technologies duales pour le secteur maritime européen ;\n–    Présenter les possibilités de financement de l’UE dans le domaine du double usage et de la défense\, ainsi que les opportunités de coopération entre les acteurs civils et militaires ;\n–    Favoriser le développement d’une collaboration interrégionale et européenne entre acteurs maritimes\, notamment entre les donneurs d’ordre\, les clusters et les PME.Les participants auront également l’occasion de participer à des sessions de B2B afin de maximiser leurs opportunités commerciales en rencontrant les acteurs concernés du secteur maritime européen.Informations complémentaires à venir. \n\n\n\n\nThis European Forum jointly organised by the European Commission and the Provence-Alpes-Côte d’Azur Region aims at promoting defence and dual use technologies in the maritime field. It will bring together high-level European defence and dual-use experts\, public authorities\, clusters\, and companies (from primes to SMEs).\nThe objectives of the event will be to :\n–  Raise awareness among public and private economic stakeholders about the potential of dual-use technologies for the European maritime sector;\n–  Present the opportunities for EU funding in the area of dual use and defence as well as cooperation between civil and military stakeholders.\n–  Foster development of interregional and European collaboration between maritime stakeholders\, in particular between primes\, clusters and SMEs.\nFinally\, participants will have the opportunity to take part in a matchmaking session in order to maximise their business opportunities by meeting relevant players in the European maritime sector.More information to come.\nTéléchargez le flyer ICI\n\n\n\nProgramme : Toutes les interventions seront en français ou en anglais avec un service de traduction / All interventions will be in French or English with a translation service \nVisitez le site dédié ICI\nContact Safe Cluster : Magali Viviani\n\n 
URL:https://www.safecluster.com/evenement/european-forum-on-defence-and-dual-technologies-for-the-protection-of-the-maritime-domain/
LOCATION:Toulon
CATEGORIES:Salon
ATTACH;FMTTYPE=:
END:VEVENT
BEGIN:VEVENT
DTSTART;TZID=Europe/Paris:20180924T090000
DTEND;TZID=Europe/Paris:20180924T170000
DTSTAMP:20260419T205821
CREATED:20180828T143447Z
LAST-MODIFIED:20180828T143447Z
UID:14881-1537779600-1537808400@www.safecluster.com
SUMMARY:Assises de la filière des industries de sécurité
DESCRIPTION:Les professionnels de la filière des industries de sécurité vous accueillent le 24 septembre 2018 pour les deuxièmes assises de la filière à la Chambre de commerce et d’industrie de Paris Ile-de-France.\nDes membres du gouvernement\, des élus locaux\, des chefs d’entreprises et de PME innovantes\, des opérateurs publics et privés ainsi que des acteurs du monde de la recherche présenteront et échangeront leur vision de la filière à travers des tables rondes et des témoignages.\nMise en place par le Premier ministre en octobre 2013\, la filière des industries de sécurité a pour ambition de développer des solutions de sécurité efficaces et mondialement reconnues au moyen d’un dialogue public-privé rénové.\nInscription gratuite mais obligatoire sur le site : assises-cofis.fr\nA noter la participation de Michel Fiat\, président de Safe Cluster\, à la table ronde n°3 sur « le rôle des territoires » à 15h40.\nCliquez ici pour visualiser le Programme de la journée.
URL:https://www.safecluster.com/evenement/assises-de-la-filiere-des-industries-de-securite/
LOCATION:Hôtel Potocki – CCI Paris-Île-de-France\, 27 avenue de Friedland\, Paris\, 75008
CATEGORIES:Filière
ATTACH;FMTTYPE=:
END:VEVENT
BEGIN:VEVENT
DTSTART;TZID=Europe/Paris:20180925T140000
DTEND;TZID=Europe/Paris:20180926T140000
DTSTAMP:20260419T205821
CREATED:20180903T062442Z
LAST-MODIFIED:20180903T062442Z
UID:14953-1537884000-1537970400@www.safecluster.com
SUMMARY:ALLIANCE Project : Kick-off meeting
DESCRIPTION:Advanced Materials and ICT for Defence and Security Markets \nBrockerage Event \nThe ALLIANCE project is a 2-year-EU-funded project that fosters internationalisation of European SMEs in defence & security markets.The initiative will support the innovative products on advanced materials and connectivity for dual use\, such as aerospace\, soldier systems\, robotics. ALLIANCE involves a seven-partners consortium led by the cluster of competitiveness TECHTERA and based on a strong partnership between French\, Italian and Dutch clusters.\nThe participation to this event allows you to: \n\ndiscover the ALLIANCE project and the program dedicated to industry for the coming years (networking activities – international missions)\nnetwork with the advanced materials\, ICT\, defence & security sector stakeholders\npresent your structure and your innovation\nparticipate to the emergence of new projects of innovation\nmeet the partners of the ALLIANCE project\n\n \nDownload the agenda\nDownload the invitation / registration form\nParticipation to the pitch session is limited and based on the rule first registered – first served.\nPlease send your registration form duly completed by email to hviallon@techtera.org before 10th September 2018.
URL:https://www.safecluster.com/evenement/alliance-project-kick-off-meeting/
LOCATION:Métropole de Lyon\, Tour Oxygène\, 10-12 Blvd Vivier Merle\, Lyon\, 69003
CATEGORIES:Innovation & Open Innovation
ATTACH;FMTTYPE=:
END:VEVENT
BEGIN:VEVENT
DTSTART;VALUE=DATE:20180926
DTEND;VALUE=DATE:20180928
DTSTAMP:20260419T205821
CREATED:20180221T100056Z
LAST-MODIFIED:20180221T100056Z
UID:12228-1537920000-1538092799@www.safecluster.com
SUMMARY:ADS SHOW 2018
DESCRIPTION:LE SALON INTERNATIONAL DU MCO AÉRONAUTIQUE & DE DÉFENSE\nPour cette édition 2018\, ADS SHOW élargit son périmètre d’intérêt à l’ensemble des services opérationnels (services aériens proposés en vol ou au sol à destination de clients militaires et civils)\, en plus de la maintenance aéronautique et les formations associées\, comme les années précédentes.\nVisitez le site dédié ICI\nPour plus d’information\, contactez : ads2018@groupe-fgdesign.com\n 
URL:https://www.safecluster.com/evenement/ads-show-2018/
CATEGORIES:Salon
ATTACH;FMTTYPE=:
END:VEVENT
BEGIN:VEVENT
DTSTART;VALUE=DATE:20180926
DTEND;VALUE=DATE:20180928
DTSTAMP:20260419T205821
CREATED:20180911T044413Z
LAST-MODIFIED:20180911T044413Z
UID:15054-1537920000-1538092799@www.safecluster.com
SUMMARY:Journées de l’International
DESCRIPTION:L’occasion pour vous d’évaluer\, structurer\, et valider vos projets export:\n> Présentation et lancement officiel de la Team Sud Export: Business France\, CCI International PACA\, CCEF\, Direccte\, Bpifrance\, Conseil régional Sud PACA\n> 3 Ateliers/Workshops animés sur des zones géographiques prioritaires: Europe\, USA\, et Asie\n> Entretiens individuels préparés et ciblés avec plus de 40 experts Pays\n> Un cocktail déjeunatoire de Networking\n> 100 entreprises régionales attendues sur les 2 journées\n \nInscrivez-vous ICI\nConsultez le Bilan 2017\n  \n\n\n\nVos interlocuteurs\n\n\n\n\n\nStéphanie BOCAGE\nstephanie.bocage@paca.cci.fr\n\nCharles GROS\ncharles.gros@businessfrance.fr
URL:https://www.safecluster.com/evenement/journees-de-linternational-2/
LOCATION:Marseille et Nice
ATTACH;FMTTYPE=:
END:VEVENT
BEGIN:VEVENT
DTSTART;TZID=Europe/Paris:20180926T140000
DTEND;TZID=Europe/Paris:20180927T140000
DTSTAMP:20260419T205821
CREATED:20180906T085515Z
LAST-MODIFIED:20180906T085515Z
UID:15004-1537970400-1538056800@www.safecluster.com
SUMMARY:2nd Atelier RISVAL - Outils de réponse rapide pour l’appui à la gestion opérationnelle de crises sismiques
DESCRIPTION:L’Atelier RISVAL est organisé par le BRGM et l’ENTENTE VALABRE dans le cadre du projet Interreg ALCOTRA « RISVAL »\, avec l’appui de la préfecture\, et de la direction départementale des territoires et de la mer des Alpes Maritimes\nLe projet RISVAL\nLe territoire transfrontalier entre l’Italie et la France est caractérisé par un aléa sismique modéré\, se traduisant par une activité sismique régulière mais le plus souvent de faible ampleur. Malgré la relative rareté des séismes destructeurs survenant sur ce territoire\, l’occurrence d’une telle catastrophe n’est pas à exclure\, ce qui pose la question de notre capacité collective à l’affronter. Se préparer à faire face à un tel événement dont les conséquences pour la population\, l’économie et l’environnement seraient dramatiques de part et d’autre de la frontière\, est une mission essentielle de l’ensemble des acteurs régionaux concourant à la gestion du risque sismique. Cette préparation – qui constitue l’objectif du projet Interreg RISVAL- est d’autant plus importante dans le contexte de sismicité modérée qui est celui de l’arc Alpin\, que les périodes de retour des séismes destructeurs limitent l’expérience des services concernés\, et ne favorisent pas la mise en place d’outils et de procédures adaptés.\nContexte et objectifs de l’atelier\nCet atelier intervient après un premier atelier organisé dans le cadre du projet RISVAL en décembre 2017 en Italie\, consacré à la confrontation des pratiques françaises et italiennes en matière de gestion du risque sismique. Ce second atelier sera consacré à la gestion opérationnelle des séismes\, sous l’angle de la problématique de la prise en compte de la dimension de la crise : évaluation rapide des dommages\, conduite des diagnostics\, bilans estimatifs des victimes\, etc.\nFort de l’expérience acquise sur le terrain suite à la dramatique séquence sismique qui a ébranlé l’Italie centrale en 2016\, cet atelier a pour objectif de permettre un dialogue entre les différents acteurs régionaux impliqués dans la gestion opérationnelle du risque sismique (protections civiles\, autorités locales et nationales\, services de secours\, experts\, etc.)\, et de favoriser une confrontation des pratiques tirant profit des retours d’expériences de chacun.\nContact et Inscription : S. Auclair – s.auclair@brgm.fr / +33 (0)2 38 64 36 86\nInscription obligatoire et gratuite (nombre de places limitées)\nTéléchargez le Programme détaillé et infos logistique\n 
URL:https://www.safecluster.com/evenement/2nd-atelier-risval-outils-de-reponse-rapide-pour-lappui-a-la-gestion-operationnelle-de-crises-sismiques/
LOCATION:Palais des rois Sardes\, Place Pierre Gaultier\, Nice
CATEGORIES:Filière
ATTACH;FMTTYPE=:
END:VEVENT
BEGIN:VEVENT
DTSTART;VALUE=DATE:20180927
DTEND;VALUE=DATE:20180929
DTSTAMP:20260419T205821
CREATED:20170927T123521Z
LAST-MODIFIED:20170927T123521Z
UID:10182-1538006400-1538179199@www.safecluster.com
SUMMARY:International Aero S.P.I.
DESCRIPTION:SAFE Cluster est partenaire du 1er événement international AeroSPI !\nRendez-vous nombreux les 27 et 28 septembre 2018 à Istres pour cet événement inédit \n\n\n\nAu programme :  \n\nPromotion des solutions de surveillance et d’observations aéronautiques s’appliquant aux domaines de sécurité et de défense\nrendez-vous business\ndîner de gala\nexposition statique et démonstrations en vol\nworkshop simulateur\net présentation de toutes les dernières innovations technologiques !\n\n\n\n\n\nAgenda détaillé des 2 journées disponible ici \nInscrivez vous ICI \n \nTéléchargez le Dossier de presse\nContact & Infos : Grégory GOLF
URL:https://www.safecluster.com/evenement/international-aero-s-p-i/
LOCATION:Istres
CATEGORIES:Salon
ATTACH;FMTTYPE=:
END:VEVENT
END:VCALENDAR