BEGIN:VCALENDAR
VERSION:2.0
PRODID:-//Pôle SAFE - ECPv6.15.20//NONSGML v1.0//EN
CALSCALE:GREGORIAN
METHOD:PUBLISH
X-ORIGINAL-URL:https://www.safecluster.com
X-WR-CALDESC:Évènements pour Pôle SAFE
REFRESH-INTERVAL;VALUE=DURATION:PT1H
X-Robots-Tag:noindex
X-PUBLISHED-TTL:PT1H
BEGIN:VTIMEZONE
TZID:Europe/Paris
BEGIN:DAYLIGHT
TZOFFSETFROM:+0100
TZOFFSETTO:+0200
TZNAME:CEST
DTSTART:20170326T010000
END:DAYLIGHT
BEGIN:STANDARD
TZOFFSETFROM:+0200
TZOFFSETTO:+0100
TZNAME:CET
DTSTART:20171029T010000
END:STANDARD
BEGIN:DAYLIGHT
TZOFFSETFROM:+0100
TZOFFSETTO:+0200
TZNAME:CEST
DTSTART:20180325T010000
END:DAYLIGHT
BEGIN:STANDARD
TZOFFSETFROM:+0200
TZOFFSETTO:+0100
TZNAME:CET
DTSTART:20181028T010000
END:STANDARD
BEGIN:DAYLIGHT
TZOFFSETFROM:+0100
TZOFFSETTO:+0200
TZNAME:CEST
DTSTART:20190331T010000
END:DAYLIGHT
BEGIN:STANDARD
TZOFFSETFROM:+0200
TZOFFSETTO:+0100
TZNAME:CET
DTSTART:20191027T010000
END:STANDARD
END:VTIMEZONE
BEGIN:VEVENT
DTSTART;VALUE=DATE:20181106
DTEND;VALUE=DATE:20181108
DTSTAMP:20260419T182001
CREATED:20180912T062437Z
LAST-MODIFIED:20180912T062437Z
UID:15082-1541462400-1541635199@www.safecluster.com
SUMMARY:FORUM INDUSTRIA MEDITERRANEE
DESCRIPTION:L’événement Forum Industria Méditerranée se tiendra les 6 et 7 novembre 2018\, au Palais des Expositions de Nice.\nParmi les grandes nouveautés 2018\, un nouveau nom « Industria Méditerranée »\, une nouvelle identité visuelle aux tons bleu azur et un changement de lieu situé au centre de Nice\, le Palais des Expositions. \nLe salon veut aujourd’hui développer son rayonnement régional\, élargir son offre exposants et être la vitrine des savoir-faire industriels de notre région.\nPour l’édition 2018\, Industria Méditerranée accueillera un village des startups\, un nouvel espace entièrement dédié aux jeunes entreprises innovantes qui présenteront leurs offres et solutions inédites.\nDeux jours favorisant la mise en relation et le partage d’information : rencontres BtoB\, conférences et tables rondes\, pitch\, showroom…\nPour réserver un stand : cliquez ici\n \nPlus d’infos et programme : www.forum-industria-mediterranee.com
URL:https://www.safecluster.com/evenement/forum-industria-mediterranee/
LOCATION:Palais des expostions\, 1 Esplanade John Fitzgerald Kennedy\, Nice
CATEGORIES:Salon
ATTACH;FMTTYPE=:
END:VEVENT
BEGIN:VEVENT
DTSTART;VALUE=DATE:20181106
DTEND;VALUE=DATE:20181109
DTSTAMP:20260419T182001
CREATED:20170927T130901Z
LAST-MODIFIED:20170927T130901Z
UID:10209-1541462400-1541721599@www.safecluster.com
SUMMARY:Expoprotection
DESCRIPTION:Le salon de la prévention et de la gestion des risques.
URL:https://www.safecluster.com/evenement/expoprotection/
LOCATION:Paris
CATEGORIES:Salon
ATTACH;FMTTYPE=:
END:VEVENT
BEGIN:VEVENT
DTSTART;TZID=Europe/Paris:20181108T090000
DTEND;TZID=Europe/Paris:20181108T163000
DTSTAMP:20260419T182001
CREATED:20181005T060542Z
LAST-MODIFIED:20181005T060542Z
UID:15369-1541667600-1541694600@www.safecluster.com
SUMMARY:Journée technique  "Cellule de crise : organisation\, fonctionnement\, entraînement"
DESCRIPTION:Journée d’échanges organisée par le Cerema Méditerranée en partenariat avec le SDSIE (Service de Défense\, de Sécurité et d’Intelligence Economique) du MTES et MCT et sous l’égide de la CoTITA\nChaque institution ou organisation peut être confrontée à un événement déstabilisant son mode de fonctionnement quotidien qui nécessite la mise en place d’une cellule de crise. Cette structure a pour objectif prioritaire d’assister le décideur dans le pilotage de la crise en l’aidant à qualifier la situation et dans sa prise de décision.\nTravailler dans l’urgence et l’incertitude soumet la cellule et les hommes qui la composent à rude épreuve. Il est donc nécessaire que son fonctionnement soit préparé et organisé en amont de tout événement et que les personnes susceptibles de l’intégrer soient formées.\nCette journée s’adresse à tous les acteurs de la gestion des risques : services de l’Etat\, collectivités territoriales\, organismes du réseau scientifique et technique\, associations …\nVenez bénéficier des retours d’expérience et échanger sur :\n– la préparation et l’organisation d’une cellule de crise\,\n– la prise de décision et les incertitudes\,\n– la gestion du stress pour maintenir les capacités individuelles et collectives d’action\,\n– l’entraînement d’une cellule de crise.\nTéléchargez ici le programme de la journée \nINSCRIPTION OBLIGATOIRE ICI \n\nDate limite d’inscription : 2 novembre 2018\n\nLe déjeuner servi à table vous sera offert.\n \n 
URL:https://www.safecluster.com/evenement/journee-technique-cellule-de-crise-organisation-fonctionnement-entrainement/
LOCATION:CEREMA MEDITERRANEE\, Avenue Albert Einstein\, Aix en Provence
CATEGORIES:Filière
ATTACH;FMTTYPE=:
END:VEVENT
BEGIN:VEVENT
DTSTART;TZID=Europe/Paris:20181109T080000
DTEND;TZID=Europe/Paris:20181109T170000
DTSTAMP:20260419T182001
CREATED:20181019T073355Z
LAST-MODIFIED:20181019T073355Z
UID:16016-1541750400-1541782800@www.safecluster.com
SUMMARY:FORUM DE L'INDUSTRIE DE DEMAIN & RENCONTRES BUSINESS & INDUSTRIE
DESCRIPTION:Rendez-vous le 9 novembre prochain de 8h à 17h au Palais de la Bourse de Marseille pour 2 temps forts de l’automne \n2 événements et l’occasion de multiplier les prises de contacts privilégiés et d’enrichir votre information sur l’industrie du territoire.\nFORUM DE L’INDUSTRIE DE DEMAIN :\nUne matinée consacrée au Forum de l’Industrie de Demain.\nPorté par EDF et Industries Méditerranée\, en partenariat avec les milieux industriels\, fédérations et chambres consulaires\, il met à l’honneur l’Industrie avec l’ambition de conforter le tissu industriel et économique local et d’identifier les secteurs porteurs d’avenir.\nL’énergie\, en particulier bas carbone\, occupe une place de premier plan dans le futur industriel de la région Provence-Alpes-Côte d’Azur et plus globalement dans les objectifs de son plan climat : une COP d’avance.\nCe 3ème Forum sera consacré aux atouts des filières industrielles qui contribuent à la neutralité carbone et au développement économique régional.\nInfos et Réservation\n​\nRENCONTRES BUSINESS & INDUSTRIE :\nL’après-midi sera consacrée aux rencontres Business & Industrie qui proposent des mises en relations entre entreprises innovantes et donneurs d’ordre.\n​La Chambre de Commerce et d’Industrie Marseille Provence et la TEAM Henri-Fabre organisent la 4ème édition.\nLa nature des projets industriels\, leur complexité\, l’évolution des technologies et l’importance de l’ancrage des grands projets sur notre territoire\, doivent amener grandes entreprises et TPI-PMI à mieux se connaître\, y compris dans une approche inter-filières.\nCette manifestation se réalise en étroite collaboration avec les grands donneurs d’ordre locaux. Pour cette nouvelle édition\, 6 donneurs d’ordre partenaires sont à nos côtés : CEA\, EDF\, NAVAL GROUP\, SAFRAN\, THALES\, TOTAL\nRecommandées par les DO partenaires avec lesquels elles sont en relation\, une trentaine de PMI sont invitées à pitcher devant un auditoire de représentants (acheteurs et prescripteurs).\nVenez donc découvrir de nouvelles entreprises\, leur activité et savoir-faire spécifiques autour de la thématique « Maintenance et Modernisation des Process & Equipements ».\nInfos et Réservation
URL:https://www.safecluster.com/evenement/forum-de-lindustrie-de-demain-rencontres-business-industrie/
LOCATION:Palais de la Bourse\, 9 La Canebière\, Marseille\, 13001\, France Métropolitaine
CATEGORIES:Filière
ATTACH;FMTTYPE=:
END:VEVENT
BEGIN:VEVENT
DTSTART;TZID=Europe/Paris:20181112T083000
DTEND;TZID=Europe/Paris:20181112T173000
DTSTAMP:20260419T182001
CREATED:20181001T104501Z
LAST-MODIFIED:20181001T104501Z
UID:15324-1542011400-1542043800@www.safecluster.com
SUMMARY:INNOVATIONS TECHNOLOGIQUES POUR L'AÉROSPATIALE
DESCRIPTION:Le Carnot Ingénierie@Lyon & l’action Carnot filière AirCar\, les Instituts Aérospatiaux de Montréal (IAM-MAI) et l’Aerospace Cluster organisent le prochain Colloque Innovations Technologiques pour l’aérospatiale\, 12 Novembre 2018 (8h30-17h45)\, organisé dans le cadre des Entretiens Jacques Cartier à Lyon.\n \n8h30-8h40\nMot de bienvenue :\nEric Maurincomme\, Directeur\, INSA Lyon.\n8h40-9h00\nIntroduction au colloque :\nChristian Moreau\, Président Instituts Aérospatiaux Montréal\nRégis Dufour\, Directeur Institut Carnot Ingénierie@Lyon\nChristophe Ulrich\, Président Aérospace Cluster\nSuzanne Benoit\, Présidente Directrice Générale AéroMontréal\n9h00-9h30\nL’avènement de la propulsion électrique en aviation\, un changement majeur de paradigme.\nDavid Rancourt\, Assistant professeur\, Université de Sherbrooke.\n9h30-10h00\nIPES\, Maboratoire commun avec SAFRAN : Intégration de Puissance en Environnement Sévère.\nChristian Vollaire\, Professeur en génie électrique\, AMPERE École Centrale de Lyon.\n10h00-10h30\nContraintes et solutions dans les connecteurs des équipements électroniques embarqués.\nClément Favrat\, Directeur de la filiale Canada\, NICOMATIC.\n10h30-11h00 : pause\n11h00-11h30\nLes défis des caloducs pour les équipements électroniques embarqués.\nJocelyn Bonjour\, Professeur\, INSA Lyon.\n11h30-12h00\nInternet des objets et le suivi de comportement futur : technologies innovantes pour les paliers intelligents.\nYoann Hébrard\, Program manager\, SKF Aerospace.\n12h00-12h30\nAIRCAR – programme des instituts Carnot au service des PME de la filière aéronautique.\nJacques Oubrier\, Aerospace business development director\, ONERA.\n12H30-12H45 : SYNTHÈSE\n12h45-14h00 : pause déjeuner\n14h00-14h30\nLa fabrication et l’assemblage dans l’espace\nGwenaëlle Aridon\, Ingénieur R&D\, Airbus Defence & space\n14h30-15h00\nLa fabrication additive métallique : l’importance de contrôler la métallurgie sous-jacente.\nMathieu Brochu\, Directeur associé de l’entreprise REGAL\, Professeur agrégé et président de recherche\, Université McGill.\n15h00-15h30\nModélisation virtuelle des procédés de fabrication avancée.\nAugustin Gakwaya\, Professeur titulaire\, Université Laval.\n15h30-16h00 : pause\n16h00-16h30\nÉvolution des matériaux et Technologies pour les structures aéronautiques en matériaux composites.\nHenri Girardy\, Business development manager\, HEXCEL.\n16h30-17h00\nLes verrous en conception avec la Fabrication additive : challenges et opportunités.\nFrançois Corman\, Directeur de l’ingénierie de fabrication\, ZODIAC Avionics.\n17h00-17h30\nLes liquides ioniques : une nouvelle voie prometteuse pour le développement de réseaux époxydes à hautes performances\nJean-François Gérard\, Directeur adjoint scientifique\, IMP INSA Lyon.\n17H30 : SYNTHÈSE ET CLÔTURE\n \nINSCRIPTION LIBRE ET GRATUITE ICI\nVisitez le site web ICI
URL:https://www.safecluster.com/evenement/innovations-technologiques-pour-laerospatiale/
LOCATION:INSA Lyon\, 1\, rue des Humanités (sur le campus)\, Villeurbanne\, 69100
CATEGORIES:Filière
ATTACH;FMTTYPE=:
END:VEVENT
BEGIN:VEVENT
DTSTART;TZID=Europe/Paris:20181113T113000
DTEND;TZID=Europe/Paris:20181113T140000
DTSTAMP:20260419T182001
CREATED:20180705T055530Z
LAST-MODIFIED:20180705T055530Z
UID:14323-1542108600-1542117600@www.safecluster.com
SUMMARY:Lunch'Work
DESCRIPTION:SAFE Cluster organise son « Lunch’ Work du réseau » le mardi 13 novembre 2018 à Aix-en-Provence.\nCe rendez-vous\, spécialement crée pour vous\, vous permettra de découvrir les nouveaux adhérents SAFE\, de faire connaissance avec eux\, de renforcer vos liens intra-réseau\, de développer votre business\, trouver et nouer vos futurs partenariats stratégiques.\nAfin de faciliter  votre présence\,  Inscrivez-vous vite ICI\nL’équipe SAFE vous attend nombreux !\nContact et infos : Julie JOSUAN
URL:https://www.safecluster.com/evenement/lunchwork-2/
LOCATION:SAFE Cluster\, Pôle de compétitivité Safe Cluster - Avenue Louis Philibert\, Aix-en-Provence\, 13290\, France
CATEGORIES:Réseau
ATTACH;FMTTYPE=:
END:VEVENT
BEGIN:VEVENT
DTSTART;VALUE=DATE:20181119
DTEND;VALUE=DATE:20181121
DTSTAMP:20260419T182001
CREATED:20180425T092054Z
LAST-MODIFIED:20180425T092054Z
UID:12965-1542585600-1542758399@www.safecluster.com
SUMMARY:Rencontres franco-portugaises de l’industrie aéronautique
DESCRIPTION:Cette mission\, organisée en partenariat avec la CCI luso-française\, a pour objectif de présenter les activités\, les projets et besoins des acteurs locaux. Des visites techniques seront organisée à Evora le premier jour. Le deuxième jour\, à Lisbonne\, s’articulera autour d’un séminaire de découverte du marché et de rendez-vous BtoB personnalisés avec les acteurs locaux.\nTéléchargez ICI la plaquette\nContacts et plus d’info Business France :\nSamantha DOUARIN\, Chargée d’opérations Aéronautique et Spatial Activité Export Service Industrie\nJean-Michel REPELLIN\, Chef de projet Aéronautique et Spatial Activité Export Service Industrie
URL:https://www.safecluster.com/evenement/rencontres-franco-portugaises-de-lindustrie-aeronautique/
LOCATION:Evora & Lisbonne\, Portugal
ATTACH;FMTTYPE=:
END:VEVENT
BEGIN:VEVENT
DTSTART;TZID=Europe/Paris:20181121T100000
DTEND;TZID=Europe/Paris:20181121T170000
DTSTAMP:20260419T182001
CREATED:20180925T052626Z
LAST-MODIFIED:20180925T052626Z
UID:15303-1542794400-1542819600@www.safecluster.com
SUMMARY:2e édition des Rencontres professionnelles Emploi & Handicap Employeurs privés et publics
DESCRIPTION:Dans le cadre de la semaine européenne de l’emploi des personnes handicapées\, l’Agefiph et ses partenaires proposent la 2e édition des Rencontres professionnelles Emploi & Handicap Employeurs privés et publics le mercredi 21 novembre 2018 de 10h à 17h à Aix-en-Provence \n– Entrée libre – \nTéléchargez ici l’invitation !\nVotre entreprise agit en faveur de l’emploi des personnes handicapées\, faites-le savoir !\nDevenez vous aussi activateur de progrès et téléchargez gratuitement vos supports de communication sur  www.activateurdeprogres.fr\nContact & Infos : contact@crh-paca-corse.fr
URL:https://www.safecluster.com/evenement/2e-edition-des-rencontres-professionnelles-emploi-handicap-employeurs-prives-et-publics/
LOCATION:Bâtiment du FORUM\, Domaine du petit arbois\, Avenu Louis Philibert\, domaine du petit arbois avenue louis philibert\, Aix-en-Provence\, France
CATEGORIES:Filière
ATTACH;FMTTYPE=:
END:VEVENT
BEGIN:VEVENT
DTSTART;TZID=Europe/Paris:20181122T093000
DTEND;TZID=Europe/Paris:20181122T160000
DTSTAMP:20260419T182001
CREATED:20180725T142405Z
LAST-MODIFIED:20180725T142405Z
UID:14732-1542879000-1542902400@www.safecluster.com
SUMMARY:TECH DAY SECURITE
DESCRIPTION:Le CEA en collaboration avec Safe Cluster organise une journée technologique sur le thème de  » L’innovation au service de la sécurité « \, dédiée aux industriels le jeudi 22 novembre 2018 à Aix en Provence.\nObjectifs \n\nPrésenter une sélection d’offres de technologies innovantes (brevets\, expertises\, savoir-faire\, logiciels\, accès à des plateformes technologiques) développées au CEA\, transférables aux industriels\, dans le domaine « Risques industriels et environnement / Prévention\, protection\, traitement »\nExpliquer aux entreprises les différentes possibilités de partenariat avec le CEA\nPermettre aux entreprises de prendre contact avec les experts technologues CEA pour faire part de leurs problématiques technologiques\, de leurs recherches de solutions\n\nPublics concernés\nTous les industriels\, start-up\, PME/PMI\, ETI et Grands Groupes\, confrontés à des problématiques « Risques industriels et environnement / Prévention\, protection\, traitement »\, recherchant des solutions technologiques innovantes pour acquérir des éléments de différenciation concurrentielle et des perspectives de nouveaux marchés\, quelles que soient leurs positions dans la chaine de la valeur. \n\n\n\nPROGRAMME DE LA JOURNÉE\nA partir de 9h30   Accueil\n10h00 – 10h05    Ouverture par Safe Cluster\n10h05 – 10h15    CEA : Acteur Majeur de l’Innovation\n10h15 – 10h45    CEA Tech : une sélection d’offres technologiques\n10h45 – 11h15    CEA Cadarache : une sélection d’offres technologues\n11h15 – 11h30    Les différentes possibilités de partenariats CEA <=> Industrie\n11h30 – 14h00    Show room technologique\n12h30 – 14h00    Cocktail networking\n14h00 -16h00     Rendez-vous B2B avec des experts technologues CEA*\n\n\n\n \n* ATTENTION : l’inscription est obligatoire afin d’organiser le planning des rendez-vous (ordre de passage fixé en fonction de la date de réception de votre inscription)\n\nTechnologies listées dans le formulaire d’inscription \nInscription gratuite mais obligatoire ICI \nPlus d’info et contact Safe :\nLaura CAREL\, Chargée de mission Innovation & service ax entreprises – 06 01 20 83 93 – laura.carel@safecluster.com
URL:https://www.safecluster.com/evenement/tech-day-securite/
LOCATION:Bâtiment du FORUM\, Domaine du petit arbois\, Avenu Louis Philibert\, domaine du petit arbois avenue louis philibert\, Aix-en-Provence\, France
CATEGORIES:Filière
ATTACH;FMTTYPE=:
END:VEVENT
BEGIN:VEVENT
DTSTART;VALUE=DATE:20181126
DTEND;VALUE=DATE:20181130
DTSTAMP:20260419T182001
CREATED:20180425T091810Z
LAST-MODIFIED:20180425T091810Z
UID:12962-1543190400-1543535999@www.safecluster.com
SUMMARY:Rencontres acheteurs à l’occasion Japan International Aerospace Exhibition
DESCRIPTION:Cette mission débutera par deux jours de rencontres et de visites à Kobé (Shinmaywa Industries) et Nagoya (en partenariat avec le pôle C-Astech/Greater Nagoya/METI Chubu ; Kawasaki Heavy Industries) et se poursuivra à Tokyo par un séminaire technique et des rendez-vous BtoB personnalisés sur le Japan Airshow.\nTéléchargez ici la plaquette\nContacts et plus d’info Business France :\nSamantha DOUARIN\, Chargée d’opérations Aéronautique et Spatial Activité Export Service Industrie\nJean-Michel REPELLIN\, Chef de projet Aéronautique et Spatial Activité Export Service Industrie
URL:https://www.safecluster.com/evenement/rencontres-acheteurs-a-loccasion-japan-international-aerospace-exhibition/
LOCATION:Tokyo\, Nagoya & Kobé\, Japon
ATTACH;FMTTYPE=:
END:VEVENT
BEGIN:VEVENT
DTSTART;TZID=Europe/Paris:20181127T080000
DTEND;TZID=Europe/Paris:20181130T170000
DTSTAMP:20260419T182001
CREATED:20170927T131149Z
LAST-MODIFIED:20170927T131149Z
UID:10211-1543305600-1543597200@www.safecluster.com
SUMMARY:Pollutec
DESCRIPTION:POLLUTEC 2018\, le salon international des acteurs de l’environnement et de l’énergie au service de la performance économique.\nPlus d’infos : guillaume.riou@safecluster.com
URL:https://www.safecluster.com/evenement/pollutec/
LOCATION:Lyon
CATEGORIES:Salon
ATTACH;FMTTYPE=:
END:VEVENT
END:VCALENDAR