BEGIN:VCALENDAR
VERSION:2.0
PRODID:-//Pôle SAFE - ECPv6.15.20//NONSGML v1.0//EN
CALSCALE:GREGORIAN
METHOD:PUBLISH
X-WR-CALNAME:Pôle SAFE
X-ORIGINAL-URL:https://www.safecluster.com
X-WR-CALDESC:Évènements pour Pôle SAFE
REFRESH-INTERVAL;VALUE=DURATION:PT1H
X-Robots-Tag:noindex
X-PUBLISHED-TTL:PT1H
BEGIN:VTIMEZONE
TZID:Europe/Paris
BEGIN:DAYLIGHT
TZOFFSETFROM:+0100
TZOFFSETTO:+0200
TZNAME:CEST
DTSTART:20170326T010000
END:DAYLIGHT
BEGIN:STANDARD
TZOFFSETFROM:+0200
TZOFFSETTO:+0100
TZNAME:CET
DTSTART:20171029T010000
END:STANDARD
BEGIN:DAYLIGHT
TZOFFSETFROM:+0100
TZOFFSETTO:+0200
TZNAME:CEST
DTSTART:20180325T010000
END:DAYLIGHT
BEGIN:STANDARD
TZOFFSETFROM:+0200
TZOFFSETTO:+0100
TZNAME:CET
DTSTART:20181028T010000
END:STANDARD
BEGIN:DAYLIGHT
TZOFFSETFROM:+0100
TZOFFSETTO:+0200
TZNAME:CEST
DTSTART:20190331T010000
END:DAYLIGHT
BEGIN:STANDARD
TZOFFSETFROM:+0200
TZOFFSETTO:+0100
TZNAME:CET
DTSTART:20191027T010000
END:STANDARD
END:VTIMEZONE
BEGIN:VEVENT
DTSTART;VALUE=DATE:20181203
DTEND;VALUE=DATE:20181205
DTSTAMP:20260419T165852
CREATED:20181009T071110Z
LAST-MODIFIED:20181009T071110Z
UID:15494-1543795200-1543967999@www.safecluster.com
SUMMARY:12th Meeting of the Community Of Users On Secure\, Safe And Resilient Societies
DESCRIPTION:In a world facing the growing risk of man-made and natural disasters resulting from increasingly frequent and severe natural\, industrial and man-made hazards\, the security of citizens\, infrastructure and assets has become a high priority in the European Union. Strengthening capacities in disaster risk and crisis management and improving resilience in CBRN-E (Chemical\, Biological\, Radiological\, Nuclear and Explosive) and natural and man-made disaster management represent key EU policy and research challenges.\nThe overall EU security policy framework covers many different sectors\, which implies needs for coordination among various communities. To reduce the current fragmentation in security research and facilitate information exchanges among and between policy-makers\, research\, industry (including SMEs)\, practitioners (first responders\, civil protection units etc.)\, and the general public\, the European Commission – DG HOME organises a series of meetings of the Community Of Users ​that take place several times a year. \nEvent Details\n\nEdition: 12th Meeting of the Community Of Users On Secure\, Safe And Resilient Societies​\nDates of the event: 3 – 4 December 2018\nMeeting venue: BAO Congress Center Brussels\, Rue Félix Hap 11\, 1040 Brussels\, Belgium\n\nEvent Topics\n\nDecember 3rd: Forensics\, Civil-Military Cooperation in CBRN\nDecember 4th: Standardisation governance \n\nRegistrations\nThe Registrations to the 12th CoU Meeting will be accessible from this website and will be opened one month prior the event.\nContact CoU-meetings@mci-group.com\n12th CoU event website.
URL:https://www.safecluster.com/evenement/12th-meeting-of-the-community-of-users-on-secure-safe-and-resilient-societies/
LOCATION:BAO Congress Center Brussels\, Rue Félix Hap 11\, Bruxelles
CATEGORIES:Filière
ATTACH;FMTTYPE=:
END:VEVENT
BEGIN:VEVENT
DTSTART;VALUE=DATE:20181203
DTEND;VALUE=DATE:20181207
DTSTAMP:20260419T165852
CREATED:20181130T154917Z
LAST-MODIFIED:20181130T154917Z
UID:16514-1543795200-1544140799@www.safecluster.com
SUMMARY:EUROPEAN SPACE WEEK 2018
DESCRIPTION:European Space Week 2018 est la conférence européenne qui connecte les entreprises\, les décisionnaires\, les experts internationaux et les communautés d’utilisateurs d’applications des technologies spatiales de l’Union européenne (Galileo\, EGNOS et Copernicus).\nCet évènement unique durera 4 jours  et comprendra plusieurs évènements comme :   \n\nles consultations des utilisateurs de Galileo et EGNOS\nLa 5ème conférence européenne pour les solutions apportées par les technologies spatiales pour  répondre aux défis des entreprises d’aujourd’hui.\nLa cérémonie des Awards 2018 pour Galileo et Copernicus ainsi que des accélérateurs d’entreprises Copernicus et Galileo\n\n \nCet évènement est une occasion unique de rencontrer tous les acteurs européens et mondiaux du spatial (industrie\, entrepreneurs\, décisionnaires\, ingénieurs\, agences spatiales)\, de s’informer sur les derniers avancements des programmes Galileo\, Copernicus et EGNOS et de découvrir les dernières applications pour l’observation de la Terre et la navigation satellite.\n \nPour plus d’info : https://www.euspaceweek.eu/
URL:https://www.safecluster.com/evenement/european-space-week-2018/
LOCATION:Palais du Pharo\, 58 Boulevard Charles Livon\, Marseille
CATEGORIES:Salon
ATTACH;FMTTYPE=:
END:VEVENT
BEGIN:VEVENT
DTSTART;TZID=Europe/Paris:20181204T090000
DTEND;TZID=Europe/Paris:20181204T130000
DTSTAMP:20260419T165852
CREATED:20181115T143421Z
LAST-MODIFIED:20181115T143421Z
UID:16366-1543914000-1543928400@www.safecluster.com
SUMMARY:ATTENTION - REPORTE EN 2019 - Découvrez les financements pour les PME innovantes dans le domaine de l’énergie
DESCRIPTION:Capenergies\, en collaboration avec les pôles Ea eco-entreprises et Safe Cluster\, organise une ½ journée d’information sur les financements régionaux\, nationaux et européens accessibles aux PME innovantes dans le domaine de l’énergie.\nDécouvrez les dispositifs adéquats et rencontrez les interlocuteurs en fonction de votre projet et de son état d’avancement.  \nMardi 4 décembre 2018 de 9h à 13h\nTechnopôle de l’environnement Arbois Méditerranée – 13545 Aix-en-Provence \n \nProgramme : \n9h00 : Accueil café\n9h30 – 10h00 : FINANCEMENTS EUROPEENS\nLe programme Eurostar – Athanase Vafeas\, Dowel Management\n10h00 – 10h30 : FINANCEMENTS NATIONAUX ADEME\nLe programme d’investissement d’avenir national (PIA3) : financez vos projets R&D en lien avec les thématiques énergétiques – Efficient Innovation\n10h30 – 11h00 : FINANCEMENTS REGIONAUX\nLe PIA 3 régional : financez l‘innovation dans votre entreprise – Camille TSCHAINE\, Région Sud-Provence Alpes-Côte d’Azur et Tudor FLOREA\, DIRECCTE PACA.\n11h00 – 11h15 : Comment Capenergies peut vous accompagner ?\n11h15 – 13h00 : Rencontres B2B avec Dowel Management / Efficient Innovation / Région Sud / Capenergies\n \nInscription gratuite mais obligatoire avant le 23 novembre.\n \nContact Capenergies : Robin Musson – Ingénieur Projets Capenergies\n+33 6 67 82 21 22\nrobin.musson@capenergies.fr\n 
URL:https://www.safecluster.com/evenement/decouvrez-les-financements-pour-les-pme-innovantes-dans-le-domaine-de-lenergie/
LOCATION:TECHNOPÔLE DE L’ENVIRONNEMENT\, Domaine du Petit Arbois \, Aix en Provence
CATEGORIES:Filière
END:VEVENT
BEGIN:VEVENT
DTSTART;VALUE=DATE:20181205
DTEND;VALUE=DATE:20181207
DTSTAMP:20260419T165852
CREATED:20181009T065551Z
LAST-MODIFIED:20181009T065551Z
UID:15487-1543968000-1544140799@www.safecluster.com
SUMMARY:Security Research Event 2018
DESCRIPTION:Making Europe a safer place: demonstrating the impact of EU-funded security research\nThe European Commission and the Austrian Ministry for Transport\, Innovation and Technology cordially invite you to participate in the 2018 Security Research Event (SRE) taking place on 5 and 6 of December 2018 in Brussels at the Square Meeting Centre.\nPlease note that participation is subject to previous registration that needs to be completed by 30 October 2018 at the latest at the following address: sre2018.eu \nConference overview\nThe SRE is the annual conference where industry\, public authorities and knowledge institutions come together to discuss the state of play and future challenges for security research in Europe\, and where a selection of EU funded security-related projects are displayed in a large exhibition area.\nUnder the theme « Making Europe a safer place – demonstrating the impact of EU-funded security research »\, SRE 2018 will demonstrate the strength and inspiring results of security related research and innovation activities. The event will bring together 800 participants\, representing a wide range of security stakeholders: researchers\, industry representatives\, public security providers and practitioners (i.e. fire departments\, police\, border guards\, intelligence agencies\, etc.)\, as well as policymakers from across Europe.\nDissemination and outreach of projects will be the cornerstone of the conference’s discussions. The first day of the conference will be dedicated to high-level panels and a dinner reception will be hosted by the Austrian Presidency. The second day will be dedicated to thematic panels debating the overarching theme in security related areas of Border management\, Citizens awareness\, Cybercrime\, Protection of public spaces\, Maritime Security\, Disaster resilient societies\, Terrorism and Radicalisation. Even more so\, during the two-day event up to 50 projects\, representing the different areas of EU security research will be showcasing their research results in the large exhibition area.\nThe draft conference agenda is available now on the SRE website. \nPractical information\nPlaces are limited and will be allocated on a first come first served basis. Please complete the online registration form by 30 October 2018. The entrance will be possible only if you have registered via the online registration. Registration on the day of the conference will open at 10:00 (CET) and the conference will close at 16:30 on 6 December. Tea/coffee and light refreshments will be served all day long. A buffet lunch will be offered to the participants on both days. This event will be in English only. Interpretation will not be available on this occasion. \nAny question?\nFor any queries or questions you may have in relation to the conference or any aspect of the registration process\, please contact the SRE Service Provider using the following email address: SRE2018@newstravel.eu\nIf you are an exhibitor please do not forget to mention the reference of your project (number and Acronym) in every communication.\n 
URL:https://www.safecluster.com/evenement/security-research-event-2018/
LOCATION:The Square Meeting Center\, rue Mont des Arts\, Bruxelles
CATEGORIES:Filière
END:VEVENT
BEGIN:VEVENT
DTSTART;TZID=Europe/Paris:20181206T140000
DTEND;TZID=Europe/Paris:20181206T170000
DTSTAMP:20260419T165852
CREATED:20181120T102534Z
LAST-MODIFIED:20181120T102534Z
UID:16395-1544104800-1544115600@www.safecluster.com
SUMMARY:INFODAY H2020 ESPACE
DESCRIPTION:Le pôle SAFE\, vous propose de participer à la journée d’information annuelle organisée en Région Sud dans le cadre du Programme européen de financement de la recherche et du développement Horizon 2020. Cet INFODAY se tiendra cette année le 6 décembre 2018 au Palais du Pharo à Marseille. \nInscription gratuite mais obligatoire ICI\n \nCette année\, cette journée en région sera directement organisée par la Commission Européenne\, la GSA\, et le CNES dans le cadre d’un événement à dimension européenne et internationale : EUROPEAN SPACE WEEK\nPour rappel la SPACE WEEK c’est aussi un grand nombre d’autres sessions et événements relatifs à l’espace auxquelles nous vous invitons également à participer du 03 au 06 décembre.\nLe programme complet ici : https://www.euspaceweek.eu/programme/day1\n  \n [14h-17h]     INFODAY Session : Informez-vous sur le programme Espace 2019-2020\nUne session plénière\, à partir de 14h a pour objectif de vous informer sur le contenu et le fonctionnement de la programmation 2019/2020 relative à la thématique « Espace »\nLes principaux acteurs et responsables\, français et européens\, du programme espace seront présents afin de vous aider à décrypter ce programme et de vous en facilité l’accès et vos collaborations. \nJe m’inscrit à l’infoday 2018\nInscription à la SPACE WEEK en sélectionnant la session INFODAY du jeudi 06/12 (entre autres) \nProgramme de l’INFODAY session :   \n\n\n\n14:00 – 14:10\nWelcome\, French National Contact Point\n\n\n14:10 – 14:40\nOverview of H2020\, Space workprogramme. Jean-Michel Monthiller\, Policy Officer\, DG Grow\, European Commission\n\n\n14:40 – 15:00\nUpdate on GNSS programmes status. Christoph Kautz\, Deputy Head of Galileo and EGNOS Applications\, Security and International cooperation unit/Tina Mede\, Policy officer\, Unit Galileo and EGNOS applications\, Security and International cooperation unit\, DG Grow\, European Commission\n\n\n15:00 – 15:20\nEGNSS Applications- Galileo Call. Carmen Aguilera\, Operational Market Development Manager\, GSA\n\n\n15.20 – 15:50\nUpdate on Copernicus status and Earth Observation call. Cristina Ananasso\, Seconded National Expert\, DG Grow\, European Commission\n\n\n15.50 – 16.20\nRules for participation. Marko Curavic\, Head of Unit\, REA\n\n\n16:20 – 17:00\nQ&A\n\n\n\n \nPour tout renseignement complémentaire : Loïc CHANVILLARD \n\n 
URL:https://www.safecluster.com/evenement/infoday-h2020-espace-2/
LOCATION:Palais du Pharo\, 58 Boulevard Charles Livon\, Marseille
CATEGORIES:Filière
ATTACH;FMTTYPE=:
END:VEVENT
BEGIN:VEVENT
DTSTART;TZID=Europe/Paris:20181211T083000
DTEND;TZID=Europe/Paris:20181211T170000
DTSTAMP:20260419T165852
CREATED:20181129T104134Z
LAST-MODIFIED:20181129T104134Z
UID:16504-1544517000-1544547600@www.safecluster.com
SUMMARY:Transformation numérique des Jeux 2024
DESCRIPTION:Le Pôle Systematic Paris-Region\, Plaine Commune\, Solideo\, Mov’eo et la Région Ile-de-France ont le plaisir de vous inviter à leur évènement dédié aux Jeux Olympiques et Paralympiques 2024 :   \n« Transformation numérique des Jeux 2024 : plus vite\, plus haut\, plus fort »\nCette rencontre a pour but de permettre aux entreprises françaises proposant des solutions et des technologies innovantes de rencontrer un écosystème dynamique et puissant dans le cadre des JO 2024. Les domaine de la mobilité\, de la diffusion d’information\, de la sécurité des données et des personnes sont tout particulièrement ciblés.\nPour ne pas manquer cette opportunité unique de rencontrer les acteurs économiques\, territoriaux et industriels incontournables de l’organisation des Jeux 2024\, réservez tout de suite le 11 décembre dans votre agenda ! \nInscrivez-vous ICI\n3 « Zoom sur » pour aller plus loin !\nZoom sur la sécurité (Besoins\, Sourcing et Promotion) \n\nRodrigue Germany – Responsable écosystème « Confiance Numérique Sécurité et Défense » Systematic Paris-Region\nJean-Michel Dumaz – Coordinateur du sous-groupe CoFIS « sécurité des JO2024 »\nLaurent Olmedo – Coordinateur du sous-groupe COFIS « Securité des JO2024 »\nJacques Roujansky –  Délégué Général du Conseil des Industriels de la Confiance et de la Sécurité\n\nZoom sur la mobilité : de Tokyo à Paris\, les ambitions du véhicule autonome pour les JO \n\nManuel Chaufrein  – CEO AvairX & Partner TEVAC Mov’eo (état de l’art des JO 2020 au Japon)\nEtienne de Pommery – Directeur de Programme Industrie Agile IRT SystemX (Les ambitions du véhicule autonome)\n\nZoom sur « l’innovation pour les sportifs » \n\nKarine Clouet – Responsable du développement des ressources de Sciences2024 – Polytechnique\nFranck Multon – Professeur université de Rennes 2 – Inria\n\nDécouvrez le programme complet ICI\nNB : Du fait du nombre limité de places\, nous serons dans l’obligation de valider une à une les demandes d’inscription. Nous ne sommes pas en mesure pour le moment d’accepter plus d’une personne par structure/organisme. La validation de votre demande d’inscription vous sera confirmée par mail dans les meilleurs délais.\nDès que votre participation sera validée\, une contremarque vous sera envoyée\, à présenter impérativement\, ainsi qu’une pièce d’identité\, lors de votre arrivée au Stade de France le 11 décembre.\nContact : Esther Slamitz\nesther.slamitz@systematic-paris-region.org\nResponsable écosystèmes TIC & Santé\nOutils de Conception et Développement de Systèmes\nLigne directe : 01 69 08 05 45
URL:https://www.safecluster.com/evenement/transformation-numerique-des-jeux-2024/
LOCATION:Stade de France\, Saint Denis
CATEGORIES:Filière
ATTACH;FMTTYPE=:
END:VEVENT
BEGIN:VEVENT
DTSTART;TZID=Europe/Paris:20181211T090000
DTEND;TZID=Europe/Paris:20181211T170000
DTSTAMP:20260419T165852
CREATED:20181113T094210Z
LAST-MODIFIED:20181113T094210Z
UID:16254-1544518800-1544547600@www.safecluster.com
SUMMARY:SYSTEM FACTORY DAY
DESCRIPTION:SYSTEM FACTORY DAY\n\n\nSystem Factory\, le cluster 4.0 de la Région Sud dédié à l’ingénierie des systèmes complexes\, issus de l’expérience et des travaux de l’écosystème de l’innovation Régional (TVT\, Pôle Mer\, Pôle SAFE\, CCIV\, soutenu par la DIRECCTE et l’ARII PACA)\, vous invite à son évènement annuel. \nVenez nombreux assister au débat entre des experts des marchés à forte croissance sur les systèmes complexes\, ainsi qu’à 10 démonstrations en temps réels de nos premiers succès industriels. Venez aussi rencontrer nos membres sur une trentaine de stands où ils exposeront leur savoir faire. \n\nINSCRIPTION GRATUITE MAIS OBLIGATOIRE \n  \n\nL’innovation système ancrée au cœur de la Méditerranée et des Territoires d’Outre-Mer\n\n\nLe Technopole de la Mer\, initié et développé par Toulon Provence Méditerranée\, est le premier Technopôle en Europe centré sur les domaines de la sécurité-sûreté maritime et du développement durable de la mer et du littoral reposant  sur les Hautes Technologies du projet « System Factory ». Il se répartit en un site principal à Ollioules dédié au cœur numérique inter filière et une base « marine » à La Seyne-sur-Mer pour les expérimentations. \n​Le « Sealab Innovation Center »\, au coeur du Technopole de la Mer\, est la concrétisation physique du projet « System Factory »\, par la mise en place d’un accélérateur de projets industriels innovants de 500 m2 modulaires qui permet ainsi la création d’emplois durables. \nLe « Sealab Pacifique »\, hébergé par Assystem Pacifique à Tahiti et à Nouméa\, permettra sur 60 m2 d’héberger des entreprises locales\, et de favoriser les liens avec les entreprises de Provence-Alpes-Côte d’Azur. Les travaux logiciels conjoints permettront d’optimiser les temps de développements en utilisant positivement le décalage horaire. \nLe « Airlab »\, déployé sur le RPAS network du Pôle Safe entre Avignon\, Salon-de-Provence et Pourrières\, permettra la conception et la qualification des systèmes aéronautiques aériens
URL:https://www.safecluster.com/evenement/system-factory-day-2/
LOCATION:technopôle de la mer\, 93 FORUM de le Méditerranée\, ollioules\, 83190
CATEGORIES:Filière
ATTACH;FMTTYPE=:
END:VEVENT
BEGIN:VEVENT
DTSTART;TZID=Europe/Paris:20181213T093000
DTEND;TZID=Europe/Paris:20181213T120000
DTSTAMP:20260419T165852
CREATED:20181130T155356Z
LAST-MODIFIED:20181130T155356Z
UID:16525-1544693400-1544702400@www.safecluster.com
SUMMARY:Dispositif EDIDP dans le cadre du fonds européen de défense et opportunités pour les PME
DESCRIPTION:Dans le cadre de son Plan d’Action Européen de la Défense\, la Commission Européenne a lancé un nouveau Fonds visant à financer les projets collaboratifs de développement de produits et de technologies de défense. Le fonds est doté d’un budget de 500 M€ pour les années 2019-2020.La DGA a en charge de faciliter l’accès des PME de défense à cette nouvelle source de financement.\nCe nouveau fonds vise à soutenir les actions suivantes :  étude de faisabilité\, conception\, prototype\, essai\, qualification\, certification\, accroissement de l’efficacité du produit. Les sujets du programme de travail seront en lien avec les priorités en matière de capacités de défense convenues par les États membres dans le cadre de la politique étrangère et de sécurité commune et\, en particulier\, du plan de développement des capacités (« CDP »). Certaines des catégories seront réservées à des consortiums exclusivement constitués de PME.\nLes subventions peuvent couvrir jusqu’à 100% des coûts éligibles\, tels qu’ils sont définis dans le règlement financier de l’UE en vigueur. Les premiers appels devraient être ouverts début janvier 2019\, avec un dépôt 2 à 3 mois après l’ouverture de l’appel.\nEn raison des modalités de financement (co-financement)\, de sélection des projets (vote des Etats sur la liste des projets sélectionnés pour être financés)\, et des engagements étatiques requis dans certaines phases de projets (spécifications communes\, intention d’achat)\, il est souhaitable de soumettre les projets à la DGA en vue de la soumission d’une proposition.\nC’est pourquoi ASTech\, Aerospace Valley\, Alpha – RLH\, Cap Digital\, Safe Cluster\, Systematic\, Aériades\, Aerocentre\, Aerospace Cluster et Normandie AeroEspace vous proposent de vous familiariser avec ce nouveau schéma de financement et de discuter directement avec des interlocuteurs de la DGA pour vérifier l’éligibilité et l’adéquation de votre projet avec les attendus de cet appel. Les pôles et clusters sont également à votre disposition pour vous aider à trouver des partenaires européens pour compléter votre consortium.\n \nProgramme :\n9h30 – 10h30 : présentation de l’EDIDP\n10h30 – 11h00 : présentation des thématiques probables des appels à projet de janvier 2019 et orientations pour le second call 2019\n11h – 12h : entretiens individuels avec un représentant de la DGA (soumis à pré-sélection) \n\nInscription ICI gratuite mais obligatoire\nAttention\, nombre de places limité\nPossibilité de s’inscrire en présentiel ou pour le webinaire\n \nContact Safe Cluster : Magali Jaffard
URL:https://www.safecluster.com/evenement/dispositif-edidp-dans-le-cadre-du-fonds-europeen-de-defense-et-opportunites-pour-les-pme/
LOCATION:CCI Paris Ile de France\, 6 avenue de la Porte de Champerret\, Paris\, 75017
CATEGORIES:Innovation & Open Innovation
ATTACH;FMTTYPE=:
END:VEVENT
BEGIN:VEVENT
DTSTART;TZID=Europe/Paris:20181218T143000
DTEND;TZID=Europe/Paris:20181218T220000
DTSTAMP:20260419T165852
CREATED:20181026T121226Z
LAST-MODIFIED:20181026T121226Z
UID:16058-1545143400-1545170400@www.safecluster.com
SUMMARY:SAFE DAY
DESCRIPTION:Venez construire avec nous le pôle de demain !\nSafe Cluster réunit ses adhérents et ses partenaires mardi 18 décembre pour une après-midi créative & une soirée festive. \nAu programme de l’après-midi : \n\nPrésentation synthétique de la Feuille de route de la Phase 4.0 ou « Comprendre la stratégie du Pôle pour les 4 prochaines années »\nAnimation participative « World Café » ou « Comment contribuer aux programmes du pôle »\n\nL’après-midi se poursuivra par une soirée animée et décontractée pour mieux nous connaître.\n\nInscrivez vous vite ci-dessous\n\n\n \nInscrivez vous vite ICI \nDevenez Sponsor de ce SAFE DAY #4 \nSaisissez cette opportunité pour faire réaliser votre vidéo Safe Stories \nContact : Magali Viviani\n 
URL:https://www.safecluster.com/evenement/safe-day-2018/
LOCATION:Chaeau Sainte Roseline\, 1854 Route de Sainte-Roseline\, Les Arcs\, 83460
CATEGORIES:Réseau
ATTACH;FMTTYPE=:
END:VEVENT
END:VCALENDAR