BEGIN:VCALENDAR
VERSION:2.0
PRODID:-//Pôle SAFE - ECPv6.15.20//NONSGML v1.0//EN
CALSCALE:GREGORIAN
METHOD:PUBLISH
X-WR-CALNAME:Pôle SAFE
X-ORIGINAL-URL:https://www.safecluster.com
X-WR-CALDESC:Évènements pour Pôle SAFE
REFRESH-INTERVAL;VALUE=DURATION:PT1H
X-Robots-Tag:noindex
X-PUBLISHED-TTL:PT1H
BEGIN:VTIMEZONE
TZID:Europe/Paris
BEGIN:DAYLIGHT
TZOFFSETFROM:+0100
TZOFFSETTO:+0200
TZNAME:CEST
DTSTART:20180325T010000
END:DAYLIGHT
BEGIN:STANDARD
TZOFFSETFROM:+0200
TZOFFSETTO:+0100
TZNAME:CET
DTSTART:20181028T010000
END:STANDARD
BEGIN:DAYLIGHT
TZOFFSETFROM:+0100
TZOFFSETTO:+0200
TZNAME:CEST
DTSTART:20190331T010000
END:DAYLIGHT
BEGIN:STANDARD
TZOFFSETFROM:+0200
TZOFFSETTO:+0100
TZNAME:CET
DTSTART:20191027T010000
END:STANDARD
BEGIN:DAYLIGHT
TZOFFSETFROM:+0100
TZOFFSETTO:+0200
TZNAME:CEST
DTSTART:20200329T010000
END:DAYLIGHT
BEGIN:STANDARD
TZOFFSETFROM:+0200
TZOFFSETTO:+0100
TZNAME:CET
DTSTART:20201025T010000
END:STANDARD
END:VTIMEZONE
BEGIN:VEVENT
DTSTART;VALUE=DATE:20190108
DTEND;VALUE=DATE:20190112
DTSTAMP:20260419T154634
CREATED:20180629T145118Z
LAST-MODIFIED:20180629T145118Z
UID:13694-1546905600-1547251199@www.safecluster.com
SUMMARY:CES Las Vegas 2019
DESCRIPTION:
URL:https://www.safecluster.com/evenement/ces-las-vegas-2019/
LOCATION:Las Vegas\, USA
CATEGORIES:Salon
ATTACH;FMTTYPE=:
END:VEVENT
BEGIN:VEVENT
DTSTART;VALUE=DATE:20190120
DTEND;VALUE=DATE:20190123
DTSTAMP:20260419T154634
CREATED:20180704T140217Z
LAST-MODIFIED:20180704T140217Z
UID:14267-1547942400-1548201599@www.safecluster.com
SUMMARY:INTERSEC 2019
DESCRIPTION:The Leading Trade Fair for Safety\, Security & Fire Protection\nThe world’s premium trade platform on security & safety will go into its 21st edition in January 20 – 22\, 2019. As the largest and most diverse\, the show’s influence has spread not only across the Middle East and Africa plus the Indian subcontinent but has gone well beyond\, offering thousands of influential trade buyers the latest security & safety solutions and exciting new opportunities from the world’s best brands.\nThe highly anticipated 20th edition of Intersec saw a participation of 1\,337 exhibitors from 59 countries and welcomed 29\,532 visitors coming from all over the world.\nIntersec 2019 is expected to be bigger\, more comprehensive and more futuristic!\nwww.intersecexpo.com\n 
URL:https://www.safecluster.com/evenement/intersec/
LOCATION:Dubai
CATEGORIES:Salon
ATTACH;FMTTYPE=:
END:VEVENT
BEGIN:VEVENT
DTSTART;VALUE=DATE:20190122
DTEND;VALUE=DATE:20190126
DTSTAMP:20260419T154634
CREATED:20180704T141400Z
LAST-MODIFIED:20180704T141400Z
UID:14286-1548115200-1548460799@www.safecluster.com
SUMMARY:SHIELDAFRICA 2019
DESCRIPTION:LE SALON SÉCURITÉ ET DÉFENSE DU CONTINENT AFRICAIN\nContinent immensément riche en ressources naturelles\, l’Afrique doit contrer les menaces majeures qui entravent la poursuite de son développement.\nLa sécurité des populations africaines et de leurs activités est le préalable à toute forme d’expansion économique.\nLa Sécurité de l’Afrique s’entend de façon globale : sécurité des Etats face aux menaces internes et externes\, sécurité des personnes physiques et des biens\, sécurité des transports terrestres\, maritimes et aériens\, sécurité des activités économiques\, sécurité des villes (safe city)\, sécurité des approvisionnements en énergie\, sécurité des communications et cyber-sécurité\, sécurité sanitaire\, sécurité de l’eau en quantité et en qualité\, etc…\nSHIELDAFRICA OFFRE DES SOLUTIONS DANS LES DOMAINES TERRE-MER-AIR POUR PROTEGER LE DEVELOPPEMENT DE L’AFRIQUE : \n\nASSURER LA SECURITE NECESSAIRE A LA CROISSANCE ECONOMIQUE\nRETABLIR OU MAINTENIR LA PAIX\nPREVENIR ET LUTTER CONTRE LES CATASTROPHES NATURELLES ET INDUSTRIELLES\nASSURER LA SECURITE DES VILLES\nDEVELOPPER LES SERVICES NECESSAIRES AUX ACTEURS INSTITUTIONELS ET OPERATEURS PRIVES\n\n \nwww.shieldafrica.com
URL:https://www.safecluster.com/evenement/shieldafrica/
LOCATION:Abidjan
CATEGORIES:Salon
ATTACH;FMTTYPE=:
END:VEVENT
BEGIN:VEVENT
DTSTART;VALUE=DATE:20190129
DTEND;VALUE=DATE:20190131
DTSTAMP:20260419T154634
CREATED:20190115T093921Z
LAST-MODIFIED:20190115T093921Z
UID:16787-1548720000-1548892799@www.safecluster.com
SUMMARY:SMI2G Meeting 2019
DESCRIPTION:SMI2G 2019\, l’événement de réseautage européen entre les acteurs de la recherche et l’innovation en sécurité\, aura lieu à Bruxelles les 29 et 30 janvier 2019.\nSMI2G 2019\, l’événement de réseautage européen sur la recherche et l’innovation en sécurité aura lieu les 29 et 30 janvier 2019\, à Bruxelles. Cet événement est conjointement organisé par EARTO\, SEREN4\, EOS\, et IMG-S.\nLes inscriptions en ligne sont ouvertes ICI.\nSMI2G est une occasion unique pour échanger\, stimuler les idées innovantes et faciliter la création de consortia sur les appels Horizon 2020 sociétés sûres 2019.
URL:https://www.safecluster.com/evenement/smi2g-meeting-2019/
LOCATION:Université Catholique de Louvain\, Bruxelles
CATEGORIES:Filière
ATTACH;FMTTYPE=:
END:VEVENT
BEGIN:VEVENT
DTSTART;TZID=Europe/Paris:20190130T140000
DTEND;TZID=Europe/Paris:20190130T170000
DTSTAMP:20260419T154634
CREATED:20190123T165834Z
LAST-MODIFIED:20190123T165834Z
UID:16845-1548856800-1548867600@www.safecluster.com
SUMMARY:Réunion de lancement PREVENTICA GRAND-SUD
DESCRIPTION:Préventica Sécurité/Sûreté\, le rendez-vous des décideurs de proximité\, se tiendra à Marseille du 8 au 10 octobre 2019.\nUn Pavillon de 24 m² est pré-réservé pour se adhérents. Si vos êtes intéressé pour exposer\, manifestez votre intérêt auprès de Christine Ando\nEn attendant\, nous vous convions à la réunion de lancement du salon organisée par Préventica le mercredi 30 janvier\, dans le but de construire ensemble la prochaine édition du Congrès/Salon Préventica Sécurité/Sûreté pour être au plus près des besoins et préoccupations des acteurs du territoire Grand Sud.\nDonneurs d’ordres publics et privés\nProfessionnels de la filière (Fabricants\, Distributeurs\, Installateurs…)\nForces constituées (Police\, Gendarmerie\, Armée\, Sécurité Civile)\nExperts\, Universitaires\, Organisations professionnelles\nObjectifs :\n• Réunir les acteurs locaux de la sécurité du territoire Grand Sud\n• Recenser les besoins et discuter des enjeux et spécificités du territoire\n• Partage d’expériences et de problématiques \nInscrivez-vous à la réunion ICI \n 
URL:https://www.safecluster.com/evenement/reunion-de-lancement-preventica-grand-sud/
CATEGORIES:Filière
ATTACH;FMTTYPE=:
END:VEVENT
END:VCALENDAR